{"text_format":"1","workbook":"xlsx","n_sheets":19,"sheets":["Overblik","Produkt.SAML.","Produkt.JUR","Produkt.KON","Generel ledelse_Adm.","Aktivitet","Målopf.Straf","Målopf.VVV","Målopf.Civil","Målopf.Foged","Målopf.Skifte","Sagstid.Straf","Sagstid.Civil","Sagstid.Foged","Sagstid.Skifte","HR-nøgletal_lønsum","Årsværk_Pers.kat","Årsværk_Sagsområder","Dataark til 901-924"],"not_rendered":{"charts":0,"images":0,"macros":1,"external_links":0,"defined_names":19,"comments":0,"pivot_tables":0},"unopened":[],"bounds":{"document_bytes":16777216,"sheet_cells":100000,"rows_first":2000,"rows_last":500,"rows_between":2000,"halvings":0,"cell_chars":16384,"cell_head_chars":4096},"cells_cut":0,"cells_raw":0,"read":"whole","date_system":"1900"}

{"sheet":"Overblik","index":0,"n_rows":924,"n_cols":36,"rows_kept":924,"cut":false,"hidden":false,"merged":[[4,8,4,9],[4,1,4,2],[1,1,1,2],[3,8,3,9]]}
[{"$f":"A917","v":"Retten i Holbæk"},{"$f":"_xlfn.IFS($A$1=$A$902,B902,$A$1=$A$903,B903,$A$1=$A$904,B904,$A$1=$A$905,B905,$A$1=$A$906,B906,$A$1=$A$907,B907,$A$1=$A$908,B908,$A$1=$A$909,B909,$A$1=$A$910,B910,$A$1=$A$911,B911,$A$1=$A$912,B912,$A$1=$A$913,B913,$A$1=$A$914,B914,$A$1=$A$915,B915,$A$1=$A$916,B916,$A$1=$A$917,B917,$A$1=$A$918,B918,$A$1=$A$919,B919,$A$1=$A$920,B920,$A$1=$A$921,B921,$A$1=$A$922,B922,$A$1=$A$923,B923,$A$1=$A$924,B924,$A$1=#REF!,#REF!)","v":94.294371713497796},{"$f":"_xlfn.IFS($A$1=$A$902,C902,$A$1=$A$903,C903,$A$1=$A$904,C904,$A$1=$A$905,C905,$A$1=$A$906,C906,$A$1=$A$907,C907,$A$1=$A$908,C908,$A$1=$A$909,C909,$A$1=$A$910,C910,$A$1=$A$911,C911,$A$1=$A$912,C912,$A$1=$A$913,C913,$A$1=$A$914,C914,$A$1=$A$915,C915,$A$1=$A$916,C916,$A$1=$A$917,C917,$A$1=$A$918,C918,$A$1=$A$919,C919,$A$1=$A$920,C920,$A$1=$A$921,C921,$A$1=$A$922,C922,$A$1=$A$923,C923,$A$1=$A$924,C924,$A$1=#REF!,#REF!)","v":103.13969237812076},{"$f":"_xlfn.IFS($A$1=$A$902,D902,$A$1=$A$903,D903,$A$1=$A$904,D904,$A$1=$A$905,D905,$A$1=$A$906,D906,$A$1=$A$907,D907,$A$1=$A$908,D908,$A$1=$A$909,D909,$A$1=$A$910,D910,$A$1=$A$911,D911,$A$1=$A$912,D912,$A$1=$A$913,D913,$A$1=$A$914,D914,$A$1=$A$915,D915,$A$1=$A$916,D916,$A$1=$A$917,D917,$A$1=$A$918,D918,$A$1=$A$919,D919,$A$1=$A$920,D920,$A$1=$A$921,D921,$A$1=$A$922,D922,$A$1=$A$923,D923,$A$1=$A$924,D924,$A$1=#REF!,#REF!)","v":99.685437195651232},{"$f":"_xlfn.IFS($A$1=$A$902,E902,$A$1=$A$903,E903,$A$1=$A$904,E904,$A$1=$A$905,E905,$A$1=$A$906,E906,$A$1=$A$907,E907,$A$1=$A$908,E908,$A$1=$A$909,E909,$A$1=$A$910,E910,$A$1=$A$911,E911,$A$1=$A$912,E912,$A$1=$A$913,E913,$A$1=$A$914,E914,$A$1=$A$915,E915,$A$1=$A$916,E916,$A$1=$A$917,E917,$A$1=$A$918,E918,$A$1=$A$919,E919,$A$1=$A$920,E920,$A$1=$A$921,E921,$A$1=$A$922,E922,$A$1=$A$923,E923,$A$1=$A$924,E924,$A$1=#REF!,#REF!)","v":106.04665477142416},{"$f":"_xlfn.IFS($A$1=$A$902,F902,$A$1=$A$903,F903,$A$1=$A$904,F904,$A$1=$A$905,F905,$A$1=$A$906,F906,$A$1=$A$907,F907,$A$1=$A$908,F908,$A$1=$A$909,F909,$A$1=$A$910,F910,$A$1=$A$911,F911,$A$1=$A$912,F912,$A$1=$A$913,F913,$A$1=$A$914,F914,$A$1=$A$915,F915,$A$1=$A$916,F916,$A$1=$A$917,F917,$A$1=$A$918,F918,$A$1=$A$919,F919,$A$1=$A$920,F920,$A$1=$A$921,F921,$A$1=$A$922,F922,$A$1=$A$923,F923,$A$1=$A$924,F924,$A$1=#REF!,#REF!)","v":91.032420359488725},{"$f":"_xlfn.IFS($A$1=$A$902,G902,$A$1=$A$903,G903,$A$1=$A$904,G904,$A$1=$A$905,G905,$A$1=$A$906,G906,$A$1=$A$907,G907,$A$1=$A$908,G908,$A$1=$A$909,G909,$A$1=$A$910,G910,$A$1=$A$911,G911,$A$1=$A$912,G912,$A$1=$A$913,G913,$A$1=$A$914,G914,$A$1=$A$915,G915,$A$1=$A$916,G916,$A$1=$A$917,G917,$A$1=$A$918,G918,$A$1=$A$919,G919,$A$1=$A$920,G920,$A$1=$A$921,G921,$A$1=$A$922,G922,$A$1=$A$923,G923,$A$1=$A$924,G924,$A$1=#REF!,#REF!)","v":101.09144996060522},{"$f":"_xlfn.IFS($A$1=$A$902,H902,$A$1=$A$903,H903,$A$1=$A$904,H904,$A$1=$A$905,H905,$A$1=$A$906,H906,$A$1=$A$907,H907,$A$1=$A$908,H908,$A$1=$A$909,H909,$A$1=$A$910,H910,$A$1=$A$911,H911,$A$1=$A$912,H912,$A$1=$A$913,H913,$A$1=$A$914,H914,$A$1=$A$915,H915,$A$1=$A$916,H916,$A$1=$A$917,H917,$A$1=$A$918,H918,$A$1=$A$919,H919,$A$1=$A$920,H920,$A$1=$A$921,H921,$A$1=$A$922,H922,$A$1=$A$923,H923,$A$1=$A$924,H924,$A$1=#REF!,#REF!)","v":0.15417563709918852},{"$f":"_xlfn.IFS($A$1=$A$902,I902,$A$1=$A$903,I903,$A$1=$A$904,I904,$A$1=$A$905,I905,$A$1=$A$906,I906,$A$1=$A$907,I907,$A$1=$A$908,I908,$A$1=$A$909,I909,$A$1=$A$910,I910,$A$1=$A$911,I911,$A$1=$A$912,I912,$A$1=$A$913,I913,$A$1=$A$914,I914,$A$1=$A$915,I915,$A$1=$A$916,I916,$A$1=$A$917,I917,$A$1=$A$918,I918,$A$1=$A$919,I919,$A$1=$A$920,I920,$A$1=$A$921,I921,$A$1=$A$922,I922,$A$1=$A$923,I923,$A$1=$A$924,I924,$A$1=#REF!,#REF!)","v":0.15708293521380323},{"$f":"_xlfn.IFS($A$1=$A$902,J902,$A$1=$A$903,J903,$A$1=$A$904,J904,$A$1=$A$905,J905,$A$1=$A$906,J906,$A$1=$A$907,J907,$A$1=$A$908,J908,$A$1=$A$909,J909,$A$1=$A$910,J910,$A$1=$A$911,J911,$A$1=$A$912,J912,$A$1=$A$913,J913,$A$1=$A$914,J914,$A$1=$A$915,J915,$A$1=$A$916,J916,$A$1=$A$917,J917,$A$1=$A$918,J918,$A$1=$A$919,J919,$A$1=$A$920,J920,$A$1=$A$921,J921,$A$1=$A$922,J922,$A$1=$A$923,J923,$A$1=$A$924,J924,$A$1=#REF!,#REF!)","v":202},{"$f":"_xlfn.IFS($A$1=$A$902,K902,$A$1=$A$903,K903,$A$1=$A$904,K904,$A$1=$A$905,K905,$A$1=$A$906,K906,$A$1=$A$907,K907,$A$1=$A$908,K908,$A$1=$A$909,K909,$A$1=$A$910,K910,$A$1=$A$911,K911,$A$1=$A$912,K912,$A$1=$A$913,K913,$A$1=$A$914,K914,$A$1=$A$915,K915,$A$1=$A$916,K916,$A$1=$A$917,K917,$A$1=$A$918,K918,$A$1=$A$919,K919,$A$1=$A$920,K920,$A$1=$A$921,K921,$A$1=$A$922,K922,$A$1=$A$923,K923,$A$1=$A$924,K924,$A$1=#REF!,#REF!)","v":286},{"$f":"_xlfn.IFS($A$1=$A$902,L902,$A$1=$A$903,L903,$A$1=$A$904,L904,$A$1=$A$905,L905,$A$1=$A$906,L906,$A$1=$A$907,L907,$A$1=$A$908,L908,$A$1=$A$909,L909,$A$1=$A$910,L910,$A$1=$A$911,L911,$A$1=$A$912,L912,$A$1=$A$913,L913,$A$1=$A$914,L914,$A$1=$A$915,L915,$A$1=$A$916,L916,$A$1=$A$917,L917,$A$1=$A$918,L918,$A$1=$A$919,L919,$A$1=$A$920,L920,$A$1=$A$921,L921,$A$1=$A$922,L922,$A$1=$A$923,L923,$A$1=$A$924,L924,$A$1=#REF!,#REF!)","v":612},{"$f":"_xlfn.IFS($A$1=$A$902,M902,$A$1=$A$903,M903,$A$1=$A$904,M904,$A$1=$A$905,M905,$A$1=$A$906,M906,$A$1=$A$907,M907,$A$1=$A$908,M908,$A$1=$A$909,M909,$A$1=$A$910,M910,$A$1=$A$911,M911,$A$1=$A$912,M912,$A$1=$A$913,M913,$A$1=$A$914,M914,$A$1=$A$915,M915,$A$1=$A$916,M916,$A$1=$A$917,M917,$A$1=$A$918,M918,$A$1=$A$919,M919,$A$1=$A$920,M920,$A$1=$A$921,M921,$A$1=$A$922,M922,$A$1=$A$923,M923,$A$1=$A$924,M924,$A$1=#REF!,#REF!)","v":714},{"$f":"_xlfn.IFS($A$1=$A$902,N902,$A$1=$A$903,N903,$A$1=$A$904,N904,$A$1=$A$905,N905,$A$1=$A$906,N906,$A$1=$A$907,N907,$A$1=$A$908,N908,$A$1=$A$909,N909,$A$1=$A$910,N910,$A$1=$A$911,N911,$A$1=$A$912,N912,$A$1=$A$913,N913,$A$1=$A$914,N914,$A$1=$A$915,N915,$A$1=$A$916,N916,$A$1=$A$917,N917,$A$1=$A$918,N918,$A$1=$A$919,N919,$A$1=$A$920,N920,$A$1=$A$921,N921,$A$1=$A$922,N922,$A$1=$A$923,N923,$A$1=$A$924,N924,$A$1=#REF!,#REF!)","v":75},{"$f":"_xlfn.IFS($A$1=$A$902,O902,$A$1=$A$903,O903,$A$1=$A$904,O904,$A$1=$A$905,O905,$A$1=$A$906,O906,$A$1=$A$907,O907,$A$1=$A$908,O908,$A$1=$A$909,O909,$A$1=$A$910,O910,$A$1=$A$911,O911,$A$1=$A$912,O912,$A$1=$A$913,O913,$A$1=$A$914,O914,$A$1=$A$915,O915,$A$1=$A$916,O916,$A$1=$A$917,O917,$A$1=$A$918,O918,$A$1=$A$919,O919,$A$1=$A$920,O920,$A$1=$A$921,O921,$A$1=$A$922,O922,$A$1=$A$923,O923,$A$1=$A$924,O924,$A$1=#REF!,#REF!)","v":71},{"$f":"_xlfn.IFS($A$1=$A$902,P902,$A$1=$A$903,P903,$A$1=$A$904,P904,$A$1=$A$905,P905,$A$1=$A$906,P906,$A$1=$A$907,P907,$A$1=$A$908,P908,$A$1=$A$909,P909,$A$1=$A$910,P910,$A$1=$A$911,P911,$A$1=$A$912,P912,$A$1=$A$913,P913,$A$1=$A$914,P914,$A$1=$A$915,P915,$A$1=$A$916,P916,$A$1=$A$917,P917,$A$1=$A$918,P918,$A$1=$A$919,P919,$A$1=$A$920,P920,$A$1=$A$921,P921,$A$1=$A$922,P922,$A$1=$A$923,P923,$A$1=$A$924,P924,$A$1=#REF!,#REF!)","v":32},{"$f":"_xlfn.IFS($A$1=$A$902,Q902,$A$1=$A$903,Q903,$A$1=$A$904,Q904,$A$1=$A$905,Q905,$A$1=$A$906,Q906,$A$1=$A$907,Q907,$A$1=$A$908,Q908,$A$1=$A$909,Q909,$A$1=$A$910,Q910,$A$1=$A$911,Q911,$A$1=$A$912,Q912,$A$1=$A$913,Q913,$A$1=$A$914,Q914,$A$1=$A$915,Q915,$A$1=$A$916,Q916,$A$1=$A$917,Q917,$A$1=$A$918,Q918,$A$1=$A$919,Q919,$A$1=$A$920,Q920,$A$1=$A$921,Q921,$A$1=$A$922,Q922,$A$1=$A$923,Q923,$A$1=$A$924,Q924,$A$1=#REF!,#REF!)","v":31},{"$f":"_xlfn.IFS($A$1=$A$902,R902,$A$1=$A$903,R903,$A$1=$A$904,R904,$A$1=$A$905,R905,$A$1=$A$906,R906,$A$1=$A$907,R907,$A$1=$A$908,R908,$A$1=$A$909,R909,$A$1=$A$910,R910,$A$1=$A$911,R911,$A$1=$A$912,R912,$A$1=$A$913,R913,$A$1=$A$914,R914,$A$1=$A$915,R915,$A$1=$A$916,R916,$A$1=$A$917,R917,$A$1=$A$918,R918,$A$1=$A$919,R919,$A$1=$A$920,R920,$A$1=$A$921,R921,$A$1=$A$922,R922,$A$1=$A$923,R923,$A$1=$A$924,R924,$A$1=#REF!,#REF!)","v":0.28999999999999998},{"$f":"_xlfn.IFS($A$1=$A$902,S902,$A$1=$A$903,S903,$A$1=$A$904,S904,$A$1=$A$905,S905,$A$1=$A$906,S906,$A$1=$A$907,S907,$A$1=$A$908,S908,$A$1=$A$909,S909,$A$1=$A$910,S910,$A$1=$A$911,S911,$A$1=$A$912,S912,$A$1=$A$913,S913,$A$1=$A$914,S914,$A$1=$A$915,S915,$A$1=$A$916,S916,$A$1=$A$917,S917,$A$1=$A$918,S918,$A$1=$A$919,S919,$A$1=$A$920,S920,$A$1=$A$921,S921,$A$1=$A$922,S922,$A$1=$A$923,S923,$A$1=$A$924,S924,$A$1=#REF!,#REF!)","v":0.15},{"$f":"_xlfn.IFS($A$1=$A$902,T902,$A$1=$A$903,T903,$A$1=$A$904,T904,$A$1=$A$905,T905,$A$1=$A$906,T906,$A$1=$A$907,T907,$A$1=$A$908,T908,$A$1=$A$909,T909,$A$1=$A$910,T910,$A$1=$A$911,T911,$A$1=$A$912,T912,$A$1=$A$913,T913,$A$1=$A$914,T914,$A$1=$A$915,T915,$A$1=$A$916,T916,$A$1=$A$917,T917,$A$1=$A$918,T918,$A$1=$A$919,T919,$A$1=$A$920,T920,$A$1=$A$921,T921,$A$1=$A$922,T922,$A$1=$A$923,T923,$A$1=$A$924,T924,$A$1=#REF!,#REF!)","v":0.5},{"$f":"_xlfn.IFS($A$1=$A$902,U902,$A$1=$A$903,U903,$A$1=$A$904,U904,$A$1=$A$905,U905,$A$1=$A$906,U906,$A$1=$A$907,U907,$A$1=$A$908,U908,$A$1=$A$909,U909,$A$1=$A$910,U910,$A$1=$A$911,U911,$A$1=$A$912,U912,$A$1=$A$913,U913,$A$1=$A$914,U914,$A$1=$A$915,U915,$A$1=$A$916,U916,$A$1=$A$917,U917,$A$1=$A$918,U918,$A$1=$A$919,U919,$A$1=$A$920,U920,$A$1=$A$921,U921,$A$1=$A$922,U922,$A$1=$A$923,U923,$A$1=$A$924,U924,$A$1=#REF!,#REF!)","v":0.33},{"$f":"_xlfn.IFS($A$1=$A$902,V902,$A$1=$A$903,V903,$A$1=$A$904,V904,$A$1=$A$905,V905,$A$1=$A$906,V906,$A$1=$A$907,V907,$A$1=$A$908,V908,$A$1=$A$909,V909,$A$1=$A$910,V910,$A$1=$A$911,V911,$A$1=$A$912,V912,$A$1=$A$913,V913,$A$1=$A$914,V914,$A$1=$A$915,V915,$A$1=$A$916,V916,$A$1=$A$917,V917,$A$1=$A$918,V918,$A$1=$A$919,V919,$A$1=$A$920,V920,$A$1=$A$921,V921,$A$1=$A$922,V922,$A$1=$A$923,V923,$A$1=$A$924,V924,$A$1=#REF!,#REF!)","v":12.5},{"$f":"_xlfn.IFS($A$1=$A$902,W902,$A$1=$A$903,W903,$A$1=$A$904,W904,$A$1=$A$905,W905,$A$1=$A$906,W906,$A$1=$A$907,W907,$A$1=$A$908,W908,$A$1=$A$909,W909,$A$1=$A$910,W910,$A$1=$A$911,W911,$A$1=$A$912,W912,$A$1=$A$913,W913,$A$1=$A$914,W914,$A$1=$A$915,W915,$A$1=$A$916,W916,$A$1=$A$917,W917,$A$1=$A$918,W918,$A$1=$A$919,W919,$A$1=$A$920,W920,$A$1=$A$921,W921,$A$1=$A$922,W922,$A$1=$A$923,W923,$A$1=$A$924,W924,$A$1=#REF!,#REF!)","v":17.2},{"$f":"_xlfn.IFS($A$1=$A$902,X902,$A$1=$A$903,X903,$A$1=$A$904,X904,$A$1=$A$905,X905,$A$1=$A$906,X906,$A$1=$A$907,X907,$A$1=$A$908,X908,$A$1=$A$909,X909,$A$1=$A$910,X910,$A$1=$A$911,X911,$A$1=$A$912,X912,$A$1=$A$913,X913,$A$1=$A$914,X914,$A$1=$A$915,X915,$A$1=$A$916,X916,$A$1=$A$917,X917,$A$1=$A$918,X918,$A$1=$A$919,X919,$A$1=$A$920,X920,$A$1=$A$921,X921,$A$1=$A$922,X922,$A$1=$A$923,X923,$A$1=$A$924,X924,$A$1=#REF!,#REF!)","v":7},{"$f":"_xlfn.IFS($A$1=$A$902,Y902,$A$1=$A$903,Y903,$A$1=$A$904,Y904,$A$1=$A$905,Y905,$A$1=$A$906,Y906,$A$1=$A$907,Y907,$A$1=$A$908,Y908,$A$1=$A$909,Y909,$A$1=$A$910,Y910,$A$1=$A$911,Y911,$A$1=$A$912,Y912,$A$1=$A$913,Y913,$A$1=$A$914,Y914,$A$1=$A$915,Y915,$A$1=$A$916,Y916,$A$1=$A$917,Y917,$A$1=$A$918,Y918,$A$1=$A$919,Y919,$A$1=$A$920,Y920,$A$1=$A$921,Y921,$A$1=$A$922,Y922,$A$1=$A$923,Y923,$A$1=$A$924,Y924,$A$1=#REF!,#REF!)","v":6.6},{"$f":"_xlfn.IFS($A$1=$A$902,Z902,$A$1=$A$903,Z903,$A$1=$A$904,Z904,$A$1=$A$905,Z905,$A$1=$A$906,Z906,$A$1=$A$907,Z907,$A$1=$A$908,Z908,$A$1=$A$909,Z909,$A$1=$A$910,Z910,$A$1=$A$911,Z911,$A$1=$A$912,Z912,$A$1=$A$913,Z913,$A$1=$A$914,Z914,$A$1=$A$915,Z915,$A$1=$A$916,Z916,$A$1=$A$917,Z917,$A$1=$A$918,Z918,$A$1=$A$919,Z919,$A$1=$A$920,Z920,$A$1=$A$921,Z921,$A$1=$A$922,Z922,$A$1=$A$923,Z923,$A$1=$A$924,Z924,$A$1=#REF!,#REF!)","v":41.959679999999992},{"$f":"_xlfn.IFS($A$1=$A$902,AA902,$A$1=$A$903,AA903,$A$1=$A$904,AA904,$A$1=$A$905,AA905,$A$1=$A$906,AA906,$A$1=$A$907,AA907,$A$1=$A$908,AA908,$A$1=$A$909,AA909,$A$1=$A$910,AA910,$A$1=$A$911,AA911,$A$1=$A$912,AA912,$A$1=$A$913,AA913,$A$1=$A$914,AA914,$A$1=$A$915,AA915,$A$1=$A$916,AA916,$A$1=$A$917,AA917,$A$1=$A$918,AA918,$A$1=$A$919,AA919,$A$1=$A$920,AA920,$A$1=$A$921,AA921,$A$1=$A$922,AA922,$A$1=$A$923,AA923,$A$1=$A$924,AA924,$A$1=#REF!,#REF!)","v":41.538889999999995},{"$f":"_xlfn.IFS($A$1=$A$902,AB902,$A$1=$A$903,AB903,$A$1=$A$904,AB904,$A$1=$A$905,AB905,$A$1=$A$906,AB906,$A$1=$A$907,AB907,$A$1=$A$908,AB908,$A$1=$A$909,AB909,$A$1=$A$910,AB910,$A$1=$A$911,AB911,$A$1=$A$912,AB912,$A$1=$A$913,AB913,$A$1=$A$914,AB914,$A$1=$A$915,AB915,$A$1=$A$916,AB916,$A$1=$A$917,AB917,$A$1=$A$918,AB918,$A$1=$A$919,AB919,$A$1=$A$920,AB920,$A$1=$A$921,AB921,$A$1=$A$922,AB922,$A$1=$A$923,AB923,$A$1=$A$924,AB924,$A$1=#REF!,#REF!)","v":11.642580000000001},{"$f":"_xlfn.IFS($A$1=$A$902,AC902,$A$1=$A$903,AC903,$A$1=$A$904,AC904,$A$1=$A$905,AC905,$A$1=$A$906,AC906,$A$1=$A$907,AC907,$A$1=$A$908,AC908,$A$1=$A$909,AC909,$A$1=$A$910,AC910,$A$1=$A$911,AC911,$A$1=$A$912,AC912,$A$1=$A$913,AC913,$A$1=$A$914,AC914,$A$1=$A$915,AC915,$A$1=$A$916,AC916,$A$1=$A$917,AC917,$A$1=$A$918,AC918,$A$1=$A$919,AC919,$A$1=$A$920,AC920,$A$1=$A$921,AC921,$A$1=$A$922,AC922,$A$1=$A$923,AC923,$A$1=$A$924,AC924,$A$1=#REF!,#REF!)","v":12.426270000000001},{"$f":"_xlfn.IFS($A$1=$A$902,AD902,$A$1=$A$903,AD903,$A$1=$A$904,AD904,$A$1=$A$905,AD905,$A$1=$A$906,AD906,$A$1=$A$907,AD907,$A$1=$A$908,AD908,$A$1=$A$909,AD909,$A$1=$A$910,AD910,$A$1=$A$911,AD911,$A$1=$A$912,AD912,$A$1=$A$913,AD913,$A$1=$A$914,AD914,$A$1=$A$915,AD915,$A$1=$A$916,AD916,$A$1=$A$917,AD917,$A$1=$A$918,AD918,$A$1=$A$919,AD919,$A$1=$A$920,AD920,$A$1=$A$921,AD921,$A$1=$A$922,AD922,$A$1=$A$923,AD923,$A$1=$A$924,AD924,$A$1=#REF!,#REF!)","v":24.007529999999999},{"$f":"_xlfn.IFS($A$1=$A$902,AE902,$A$1=$A$903,AE903,$A$1=$A$904,AE904,$A$1=$A$905,AE905,$A$1=$A$906,AE906,$A$1=$A$907,AE907,$A$1=$A$908,AE908,$A$1=$A$909,AE909,$A$1=$A$910,AE910,$A$1=$A$911,AE911,$A$1=$A$912,AE912,$A$1=$A$913,AE913,$A$1=$A$914,AE914,$A$1=$A$915,AE915,$A$1=$A$916,AE916,$A$1=$A$917,AE917,$A$1=$A$918,AE918,$A$1=$A$919,AE919,$A$1=$A$920,AE920,$A$1=$A$921,AE921,$A$1=$A$922,AE922,$A$1=$A$923,AE923,$A$1=$A$924,AE924,$A$1=#REF!,#REF!)","v":22.91047},{"$f":"_xlfn.IFS($A$1=$A$902,AF902,$A$1=$A$903,AF903,$A$1=$A$904,AF904,$A$1=$A$905,AF905,$A$1=$A$906,AF906,$A$1=$A$907,AF907,$A$1=$A$908,AF908,$A$1=$A$909,AF909,$A$1=$A$910,AF910,$A$1=$A$911,AF911,$A$1=$A$912,AF912,$A$1=$A$913,AF913,$A$1=$A$914,AF914,$A$1=$A$915,AF915,$A$1=$A$916,AF916,$A$1=$A$917,AF917,$A$1=$A$918,AF918,$A$1=$A$919,AF919,$A$1=$A$920,AF920,$A$1=$A$921,AF921,$A$1=$A$922,AF922,$A$1=$A$923,AF923,$A$1=$A$924,AF924,$A$1=#REF!,#REF!)","v":24.850728963059996},{"$f":"_xlfn.IFS($A$1=$A$902,AG902,$A$1=$A$903,AG903,$A$1=$A$904,AG904,$A$1=$A$905,AG905,$A$1=$A$906,AG906,$A$1=$A$907,AG907,$A$1=$A$908,AG908,$A$1=$A$909,AG909,$A$1=$A$910,AG910,$A$1=$A$911,AG911,$A$1=$A$912,AG912,$A$1=$A$913,AG913,$A$1=$A$914,AG914,$A$1=$A$915,AG915,$A$1=$A$916,AG916,$A$1=$A$917,AG917,$A$1=$A$918,AG918,$A$1=$A$919,AG919,$A$1=$A$920,AG920,$A$1=$A$921,AG921,$A$1=$A$922,AG922,$A$1=$A$923,AG923,$A$1=$A$924,AG924,$A$1=#REF!,#REF!)","v":25.254808050000012},{"$f":"AH902","v":0},{"$f":"AI902","v":0},0]
[{"$f":"A","v":{"$error":"#NAME?"}},{"$f":"AH1","v":0}]
[null,"ÅRSNØGLETAL 2022"]
[null,null,null,null,null,null,null,null,"Evt. sammenligning"]
[null,{"$f":"A1","v":"Retten i Holbæk"},null,null,null,null,null,null,{"$f":"B35","v":0},null,null,"         Datatabeller"]
[null,null,null,2021,2022,"Gnst. BR 2022","5. bedste 2022",null,{"$f":"$D$6","v":2021},{"$f":"$E$6","v":2022},null,"              KLIK PÅ PILENE FOR AT HOPPE TIL DATA:"]
[null,"Samlet produktivitet, retten (indeks)",null,{"$f":"B1","v":94.294371713497796},{"$f":"C1","v":103.13969237812076},{"$f":"'Produkt.SAML.'!$E$6","v":93.350020369266559},{"$f":"LARGE($C$902:$C$924,5)","v":103.13969237812076},null,{"$f":"IF($B$5=$I$5,\"\",C35)","v":0},{"$f":"IF($B$5=$I$5,\"\",D35)","v":0},null,null,"Produktivitet, samlet for retten"]
[null,"Samlet produktivitet, jurister (indeks)",null,{"$f":"D1","v":99.685437195651232},{"$f":"E1","v":106.04665477142416},{"$f":"Produkt.JUR!$E$6","v":96.502351147360798},{"$f":"LARGE($E$902:$E$924,5)","v":103.94748811658768},null,{"$f":"IF($B$5=$I$5,\"\",E35)","v":0},{"$f":"IF($B$5=$I$5,\"\",F35)","v":0},null,null,"Produktivitet, jurister"]
[null,"Samlet produktivitet, kontorfunktionærer (indeks)",null,{"$f":"F1","v":91.032420359488725},{"$f":"G1","v":101.09144996060522},{"$f":"Produkt.KON!$E$6","v":94.992697208284},{"$f":"LARGE($G$902:$G$924,5)","v":104.15447579388994},null,{"$f":"IF($B$5=$I$5,\"\",G35)","v":0},{"$f":"IF($B$5=$I$5,\"\",H35)","v":0},null,null,"Produktivitet, kontor"]
[null,"Årsværksandel til generel ledelse og administration (pct.)",null,{"$f":"H1*100","v":15.417563709918852},{"$f":"I1*100","v":15.708293521380323},{"$f":"'Generel ledelse_Adm.'!$J$13*100","v":14.807929405513812},"-",null,{"$f":"IF($B$5=$I$5,\"\",I35*100)","v":0},{"$f":"IF($B$5=$I$5,\"\",J35*100)","v":0},null,null,"Årsværk, ledelse og administration"]
[null,"Gnst. sagsbehandlingstid, domsmandssager (dage)",null,{"$f":"J1","v":202},{"$f":"K1","v":286},{"$f":"Sagstid.Straf!$G$6","v":255},{"$f":"Sagstid.Straf!$G$7","v":178},null,{"$f":"IF($B$5=$I$5,\"\",K35)","v":0},{"$f":"IF($B$5=$I$5,\"\",L35)","v":0},null,null,"Aktivitet ved retten"]
[null,"Gnst. sagsbehandlingstid, hovedforhandlet alm. civil sag (dage)",null,{"$f":"L1","v":612},{"$f":"M1","v":714},{"$f":"Sagstid.Civil!$E$6","v":668},{"$f":"Sagstid.Civil!$E$7","v":594},null,{"$f":"IF($B$5=$I$5,\"\",M35)","v":0},{"$f":"IF($B$5=$I$5,\"\",N35)","v":0},null,null,"Målopfyldelse, straffesager"]
[null,"Gnst. sagsbehandlingstid, almindelig fogedsag (dage)",null,{"$f":"N1","v":75},{"$f":"O1","v":71},{"$f":"Sagstid.Foged!$E$6","v":82},{"$f":"Sagstid.Foged!$E$7","v":62},null,{"$f":"IF($B$5=$I$5,\"\",O35)","v":0},{"$f":"IF($B$5=$I$5,\"\",P35)","v":0},null,null,"Målopfyldelse, civile sager"]
[null,"Gnst. sagsbehandlingstid, boudlæg (dage)",null,{"$f":"P1","v":32},{"$f":"Q1","v":31},{"$f":"Sagstid.Skifte!$E$6","v":49},{"$f":"Sagstid.Skifte!$E$7","v":35},null,{"$f":"IF($B$5=$I$5,\"\",Q35)","v":0},{"$f":"IF($B$5=$I$5,\"\",R35)","v":0},null,null,"Målopfyldelse, fogedsager"]
[null,"Målopfyldelse, voldssager 37-dages frist (procent)",null,{"$f":"R1*100","v":28.999999999999996},{"$f":"S1*100","v":15},{"$f":"Målopf.VVV!$E$8*100","v":35},{"$f":"Målopf.VVV!$E$9*100","v":45},null,{"$f":"IF($B$5=$I$5,\"\",S35*100)","v":0},{"$f":"IF($B$5=$I$5,\"\",T35*100)","v":0},null,null,"Målopfyldelse, skiftesager"]
[null,"Målopfyldelse, voldtægtssager 37-dages frist (procent)",null,{"$f":"IF(T1=999,\"       -\",T1)*100","v":50},{"$f":"IF(U1=999,\"        -\",U1)*100","v":33},{"$f":"Målopf.VVV!$G$8*100","v":24},{"$f":"Målopf.VVV!$G$9*100","v":40},null,{"$f":"IF($B$5=$I$5,\"\",U35*100)","v":0},{"$f":"IF($B$5=$I$5,\"\",V35*100)","v":0},null,null,"Gnst. Sagsbehandlingstid, straffesager"]
[null,"Gnst. sygefravær pr. medarbejder (dage pr. år)",null,{"$f":"V1","v":12.5},{"$f":"W1","v":17.2},{"$f":"'HR-nøgletal_lønsum'!$E$6","v":12.1},{"$f":"'HR-nøgletal_lønsum'!$E$7","v":9.1},null,{"$f":"IF($B$5=$I$5,\"\",W35)","v":0},{"$f":"IF($B$5=$I$5,\"\",X35)","v":0},null,null,"Gnst. Sagsbehandlingstid, civile sager"]
[null,"Personaleomsætningsprocent (procent)",null,{"$f":"X1","v":7},{"$f":"Y1","v":6.6},{"$f":"'HR-nøgletal_lønsum'!$G$6","v":10.3},"-",null,{"$f":"IF($B$5=$I$5,\"\",Y35)","v":0},{"$f":"IF($B$5=$I$5,\"\",Z35)","v":0},null,null,"Gnst. Sagsbehandlingstid, fogedsager"]
[null,"Samlet årsværksforbrug, retten (årsværk)",null,{"$f":"Z1","v":41.959679999999992},{"$f":"AA1","v":41.538889999999995},{"$f":"Årsværk_Pers.kat!$O$8/24","v":60.431104999999995},"-",null,{"$f":"IF($B$5=$I$5,\"\",AA35)","v":0},{"$f":"IF($B$5=$I$5,\"\",AB35)","v":0},null,null,"Gnst. Sagsbehandlingstid, skiftesager"]
[null,"Samlet årsværksforbrug, jurister (årsværk)",null,{"$f":"AB1","v":11.642580000000001},{"$f":"AC1","v":12.426270000000001},{"$f":"Årsværk_Pers.kat!$J$8/24","v":18.264082083333328},"-",null,{"$f":"IF($B$5=$I$5,\"\",AC35)","v":0},{"$f":"IF($B$5=$I$5,\"\",AD35)","v":0},null,null,"HR-nøgletal"]
[null,"Samlet årsværksforbrug, kontorfunktionærer (årsværk)",null,{"$f":"AD1","v":24.007529999999999},{"$f":"AE1","v":22.91047},{"$f":"Årsværk_Pers.kat!$K$8/24","v":34.008312916666668},"-",null,{"$f":"IF($B$5=$I$5,\"\",AE35)","v":0},{"$f":"IF($B$5=$I$5,\"\",AF35)","v":0},null,null,"Årsværksforbrug, personalekategorier"]
[null,"Samlet lønsumsforbrug (mio. kr.)",null,{"$f":"AF1","v":24.850728963059996},{"$f":"AG1","v":25.254808050000012},{"$f":"'HR-nøgletal_lønsum'!$I$6","v":36.992036455416674},"-",null,{"$f":"IF($B$5=$I$5,\"\",AG35)","v":0},{"$f":"IF($B$5=$I$5,\"\",AH35)","v":0},null,null,"Årsværksforbrug, sagsområder"]
[]
[null,"Noter:"]
[null,"1) Ved beregningen af indeks for produktivitet samlet for retten, for jurister og kontor er indeks 100 lig gennemsnittet ved byretterne i 2019."]
[null,"2) Årsværksandel til generel ledelse og administration er samlet for retten og inkluderer alle personalegrupper."]
[null,"3) Den gennemsnitlige sagsbehandlingstid for en hovedforhandlet almindelig civil sag inkluderer sagstypen almindelige sager. Boligretssager og småsager indgår ikke."]
[null,"4) Ansatte under socialt kapitel indgår ikke i beregningen af det gennemsnitlige sygefravær pr. medarbejder (årsværk)."]
[null,"5) Lønsumsforbruget inkluderer egentlig løn, over- og merarbejde, stævningsmænd, refusioner og pensionsbidrag."]
[null,"6) Der er ikke angivet data for 5. bedste byret for årsværksandel til generel ledelse og administration, personaleomsætning, årsværksforbrug og lønsumsforbrug, idet dette ikke er et meningsfuldt benchmark for disse kategorier."]
[]
[null,"KLIK FOR AT AKTIVERE SAMMENLIGNING:"]
[]
[]
[null,{"$f":"A934","v":0},{"$f":"B934","v":0},0,0,0,0,0,0,0,0,0,0,0,0,0,0,0,0,0,0,0,0,0,0,0,0,0,0,0,0,0,0,0,0]
[]
[]
[]
[]
[]
[]
[]
[]
[]
[]
[]
[]
[]
[]
[]
[]
[]
[]
[]
[]
[]
[]
[]
[]
[]
[]
[]
[]
[]
[]
[]
[]
[]
[]
[]
[]
[]
[]
[]
[]
[]
[]
[]
[]
[]
[]
[]
[]
[]
[]
[]
[]
[]
[]
[]
[]
[]
[]
[]
[]
[]
[]
[]
[]
[]
[]
[]
[]
[]
[]
[]
[]
[]
[]
[]
[]
[]
[]
[]
[]
[]
[]
[]
[]
[]
[]
[]
[]
[]
[]
[]
[]
[]
[]
[]
[]
[]
[]
[]
[]
[]
[]
[]
[]
[]
[]
[]
[]
[]
[]
[]
[]
[]
[]
[]
[]
[]
[]
[]
[]
[]
[]
[]
[]
[]
[]
[]
[]
[]
[]
[]
[]
[]
[]
[]
[]
[]
[]
[]
[]
[]
[]
[]
[]
[]
[]
[]
[]
[]
[]
[]
[]
[]
[]
[]
[]
[]
[]
[]
[]
[]
[]
[]
[]
[]
[]
[]
[]
[]
[]
[]
[]
[]
[]
[]
[]
[]
[]
[]
[]
[]
[]
[]
[]
[]
[]
[]
[]
[]
[]
[]
[]
[]
[]
[]
[]
[]
[]
[]
[]
[]
[]
[]
[]
[]
[]
[]
[]
[]
[]
[]
[]
[]
[]
[]
[]
[]
[]
[]
[]
[]
[]
[]
[]
[]
[]
[]
[]
[]
[]
[]
[]
[]
[]
[]
[]
[]
[]
[]
[]
[]
[]
[]
[]
[]
[]
[]
[]
[]
[]
[]
[]
[]
[]
[]
[]
[]
[]
[]
[]
[]
[]
[]
[]
[]
[]
[]
[]
[]
[]
[]
[]
[]
[]
[]
[]
[]
[]
[]
[]
[]
[]
[]
[]
[]
[]
[]
[]
[]
[]
[]
[]
[]
[]
[]
[]
[]
[]
[]
[]
[]
[]
[]
[]
[]
[]
[]
[]
[]
[]
[]
[]
[]
[]
[]
[]
[]
[]
[]
[]
[]
[]
[]
[]
[]
[]
[]
[]
[]
[]
[]
[]
[]
[]
[]
[]
[]
[]
[]
[]
[]
[]
[]
[]
[]
[]
[]
[]
[]
[]
[]
[]
[]
[]
[]
[]
[]
[]
[]
[]
[]
[]
[]
[]
[]
[]
[]
[]
[]
[]
[]
[]
[]
[]
[]
[]
[]
[]
[]
[]
[]
[]
[]
[]
[]
[]
[]
[]
[]
[]
[]
[]
[]
[]
[]
[]
[]
[]
[]
[]
[]
[]
[]
[]
[]
[]
[]
[]
[]
[]
[]
[]
[]
[]
[]
[]
[]
[]
[]
[]
[]
[]
[]
[]
[]
[]
[]
[]
[]
[]
[]
[]
[]
[]
[]
[]
[]
[]
[]
[]
[]
[]
[]
[]
[]
[]
[]
[]
[]
[]
[]
[]
[]
[]
[]
[]
[]
[]
[]
[]
[]
[]
[]
[]
[]
[]
[]
[]
[]
[]
[]
[]
[]
[]
[]
[]
[]
[]
[]
[]
[]
[]
[]
[]
[]
[]
[]
[]
[]
[]
[]
[]
[]
[]
[]
[]
[]
[]
[]
[]
[]
[]
[]
[]
[]
[]
[]
[]
[]
[]
[]
[]
[]
[]
[]
[]
[]
[]
[]
[]
[]
[]
[]
[]
[]
[]
[]
[]
[]
[]
[]
[]
[]
[]
[]
[]
[]
[]
[]
[]
[]
[]
[]
[]
[]
[]
[]
[]
[]
[]
[]
[]
[]
[]
[]
[]
[]
[]
[]
[]
[]
[]
[]
[]
[]
[]
[]
[]
[]
[]
[]
[]
[]
[]
[]
[]
[]
[]
[]
[]
[]
[]
[]
[]
[]
[]
[]
[]
[]
[]
[]
[]
[]
[]
[]
[]
[]
[]
[]
[]
[]
[]
[]
[]
[]
[]
[]
[]
[]
[]
[]
[]
[]
[]
[]
[]
[]
[]
[]
[]
[]
[]
[]
[]
[]
[]
[]
[]
[]
[]
[]
[]
[]
[]
[]
[]
[]
[]
[]
[]
[]
[]
[]
[]
[]
[]
[]
[]
[]
[]
[]
[]
[]
[]
[]
[]
[]
[]
[]
[]
[]
[]
[]
[]
[]
[]
[]
[]
[]
[]
[]
[]
[]
[]
[]
[]
[]
[]
[]
[]
[]
[]
[]
[]
[]
[]
[]
[]
[]
[]
[]
[]
[]
[]
[]
[]
[]
[]
[]
[]
[]
[]
[]
[]
[]
[]
[]
[]
[]
[]
[]
[]
[]
[]
[]
[]
[]
[]
[]
[]
[]
[]
[]
[]
[]
[]
[]
[]
[]
[]
[]
[]
[]
[]
[]
[]
[]
[]
[]
[]
[]
[]
[]
[]
[]
[]
[]
[]
[]
[]
[]
[]
[]
[]
[]
[]
[]
[]
[]
[]
[]
[]
[]
[]
[]
[]
[]
[]
[]
[]
[]
[]
[]
[]
[]
[]
[]
[]
[]
[]
[]
[]
[]
[]
[]
[]
[]
[]
[]
[]
[]
[]
[]
[]
[]
[]
[]
[]
[]
[]
[]
[]
[]
[]
[]
[]
[]
[]
[]
[]
[]
[]
[]
[]
[]
[]
[]
[]
[]
[]
[]
[]
[]
[]
[]
[]
[]
[]
[]
[]
[]
[]
[]
[]
[]
[]
[]
[]
[]
[]
[]
[]
[]
[]
[]
[]
[]
[]
[]
[]
[]
[]
[]
[]
[]
[]
[]
[]
[]
[]
[]
[]
[]
[]
[null,"Samlet produktivitet, retten",null,"Samlet produktivitet, jurister",null,"Samlet produktivitet, kontor",null,"ÅRVK ledelse og adm. (andel)",null,"Sagstider domsmandssager",null,"Sagstider hfh. alm. Civil",null,"Sagstid alm. fogedsag",null,"Sagstider boudlæg",null,"Målopfyldelse vold",null,"Målopfyldelse voldtægt",null,"Sygefravær",null,"Personaleomsætning",null,"Årsværk retten",null,"Årsværk jurist",null,"Årsværk kontor",null,"Samlet lønsum"]
["Ret",{"$f":"$D$6","v":2021},{"$f":"$E$6","v":2022},{"$f":"$D$6","v":2021},{"$f":"$E$6","v":2022},{"$f":"$D$6","v":2021},{"$f":"$E$6","v":2022},{"$f":"$D$6","v":2021},{"$f":"$E$6","v":2022},{"$f":"$D$6","v":2021},{"$f":"$E$6","v":2022},{"$f":"$D$6","v":2021},{"$f":"$E$6","v":2022},{"$f":"$D$6","v":2021},{"$f":"$E$6","v":2022},{"$f":"$D$6","v":2021},{"$f":"$E$6","v":2022},{"$f":"$D$6","v":2021},{"$f":"$E$6","v":2022},{"$f":"$D$6","v":2021},{"$f":"$E$6","v":2022},{"$f":"$D$6","v":2021},{"$f":"$E$6","v":2022},{"$f":"$D$6","v":2021},{"$f":"$E$6","v":2022},{"$f":"$D$6","v":2021},{"$f":"$E$6","v":2022},{"$f":"$D$6","v":2021},{"$f":"$E$6","v":2022},{"$f":"$D$6","v":2021},{"$f":"$E$6","v":2022},{"$f":"$D$6","v":2021},{"$f":"$E$6","v":2022}]
["Retten i Hjørring",{"$f":"'Produkt.SAML.'!D9","v":87.84852495707581},{"$f":"'Produkt.SAML.'!E9","v":92.539145128089658},{"$f":"Produkt.JUR!D9","v":89.382619542292417},{"$f":"Produkt.JUR!E9","v":93.750645225954983},{"$f":"Produkt.KON!D9","v":87.056090014443328},{"$f":"Produkt.KON!E9","v":90.865134675845809},{"$f":"'Generel ledelse_Adm.'!I21","v":0.16118457096570829},{"$f":"'Generel ledelse_Adm.'!J21","v":0.1454211175304341},{"$f":"Sagstid.Straf!F9","v":196},{"$f":"Sagstid.Straf!G9","v":182},{"$f":"Sagstid.Civil!D9","v":578},{"$f":"Sagstid.Civil!E9","v":554},{"$f":"Sagstid.Foged!D9","v":88},{"$f":"Sagstid.Foged!E9","v":84},{"$f":"Sagstid.Skifte!D9","v":50},{"$f":"Sagstid.Skifte!E9","v":60},{"$f":"Målopf.VVV!D11","v":0.35},{"$f":"Målopf.VVV!E11","v":0.35},{"$f":"Målopf.VVV!F11","v":0.38},{"$f":"Målopf.VVV!G11","v":0.13},{"$f":"'HR-nøgletal_lønsum'!D9","v":6.7},{"$f":"'HR-nøgletal_lønsum'!E9","v":"-"},{"$f":"'HR-nøgletal_lønsum'!F9","v":9},{"$f":"'HR-nøgletal_lønsum'!G9","v":10.6},{"$f":"Årsværk_Pers.kat!I10","v":46.883270000000003},{"$f":"Årsværk_Pers.kat!O10","v":44.075070000000004},{"$f":"Årsværk_Pers.kat!D10","v":13.060930000000001},{"$f":"Årsværk_Pers.kat!J10","v":12.606529999999999},{"$f":"Årsværk_Pers.kat!E10","v":27.478480000000001},{"$f":"Årsværk_Pers.kat!K10","v":26.510459999999998},{"$f":"'HR-nøgletal_lønsum'!H9","v":26.629757606669997},{"$f":"'HR-nøgletal_lønsum'!I9","v":25.288659839999998}]
["Retten i Aalborg",{"$f":"'Produkt.SAML.'!D10","v":95.688869049490719},{"$f":"'Produkt.SAML.'!E10","v":97.490983128106976},{"$f":"Produkt.JUR!D10","v":99.395591812576825},{"$f":"Produkt.JUR!E10","v":98.662929713809831},{"$f":"Produkt.KON!D10","v":89.00905781145714},{"$f":"Produkt.KON!E10","v":92.651043418020322},{"$f":"'Generel ledelse_Adm.'!I28","v":0.10806614742490693},{"$f":"'Generel ledelse_Adm.'!J28","v":9.655449819201288E-2},{"$f":"Sagstid.Straf!F10","v":189},{"$f":"Sagstid.Straf!G10","v":206},{"$f":"Sagstid.Civil!D10","v":664},{"$f":"Sagstid.Civil!E10","v":669},{"$f":"Sagstid.Foged!D10","v":68},{"$f":"Sagstid.Foged!E10","v":77},{"$f":"Sagstid.Skifte!D10","v":52},{"$f":"Sagstid.Skifte!E10","v":67},{"$f":"Målopf.VVV!D12","v":0.24},{"$f":"Målopf.VVV!E12","v":0.23},{"$f":"Målopf.VVV!F12","v":0.38},{"$f":"Målopf.VVV!G12","v":0.2},{"$f":"'HR-nøgletal_lønsum'!D10","v":5.5},{"$f":"'HR-nøgletal_lønsum'!E10","v":8.6},{"$f":"'HR-nøgletal_lønsum'!F10","v":12.5},{"$f":"'HR-nøgletal_lønsum'!G10","v":5.8},{"$f":"Årsværk_Pers.kat!I11","v":73.61023999999999},{"$f":"Årsværk_Pers.kat!O11","v":73.120700000000014},{"$f":"Årsværk_Pers.kat!D11","v":20.758109999999999},{"$f":"Årsværk_Pers.kat!J11","v":21.71415},{"$f":"Årsværk_Pers.kat!E11","v":43.18242},{"$f":"Årsværk_Pers.kat!K11","v":42.442950000000003},{"$f":"'HR-nøgletal_lønsum'!H10","v":42.099289198269993},{"$f":"'HR-nøgletal_lønsum'!I10","v":42.367902730000026}]
["Retten i Randers",{"$f":"'Produkt.SAML.'!D11","v":99.151250842125364},{"$f":"'Produkt.SAML.'!E11","v":93.336768039613261},{"$f":"Produkt.JUR!D11","v":102.82621653327573},{"$f":"Produkt.JUR!E11","v":100.11015615426631},{"$f":"Produkt.KON!D11","v":93.369647351669315},{"$f":"Produkt.KON!E11","v":90.295262978768847},{"$f":"'Generel ledelse_Adm.'!I35","v":0.19057280655225228},{"$f":"'Generel ledelse_Adm.'!J35","v":0.16798241686629775},{"$f":"Sagstid.Straf!F11","v":229},{"$f":"Sagstid.Straf!G11","v":222},{"$f":"Sagstid.Civil!D11","v":639},{"$f":"Sagstid.Civil!E11","v":704},{"$f":"Sagstid.Foged!D11","v":113},{"$f":"Sagstid.Foged!E11","v":89},{"$f":"Sagstid.Skifte!D11","v":49},{"$f":"Sagstid.Skifte!E11","v":35},{"$f":"Målopf.VVV!D13","v":0.59},{"$f":"Målopf.VVV!E13","v":0.37},{"$f":"Målopf.VVV!F13","v":0.2},{"$f":"Målopf.VVV!G13","v":0.4},{"$f":"'HR-nøgletal_lønsum'!D11","v":9.9},{"$f":"'HR-nøgletal_lønsum'!E11","v":14.6},{"$f":"'HR-nøgletal_lønsum'!F11","v":3.7},{"$f":"'HR-nøgletal_lønsum'!G11","v":2.9},{"$f":"Årsværk_Pers.kat!I12","v":47.964599999999997},{"$f":"Årsværk_Pers.kat!O12","v":50.132220000000004},{"$f":"Årsværk_Pers.kat!D12","v":12.91887},{"$f":"Årsværk_Pers.kat!J12","v":12.86885},{"$f":"Årsværk_Pers.kat!E12","v":28.490649999999999},{"$f":"Årsværk_Pers.kat!K12","v":29.21068},{"$f":"'HR-nøgletal_lønsum'!H11","v":28.979486985530002},{"$f":"'HR-nøgletal_lønsum'!I11","v":29.222324969999995}]
["Retten i Aarhus",{"$f":"'Produkt.SAML.'!D12","v":90.489869933725117},{"$f":"'Produkt.SAML.'!E12","v":96.448608281702803},{"$f":"Produkt.JUR!D12","v":97.29542964496801},{"$f":"Produkt.JUR!E12","v":96.213046340099197},{"$f":"Produkt.KON!D12","v":90.39017586051898},{"$f":"Produkt.KON!E12","v":101.86959960193201},{"$f":"'Generel ledelse_Adm.'!I42","v":0.16227910901049525},{"$f":"'Generel ledelse_Adm.'!J42","v":0.14584796455024254},{"$f":"Sagstid.Straf!F12","v":358},{"$f":"Sagstid.Straf!G12","v":437},{"$f":"Sagstid.Civil!D12","v":844},{"$f":"Sagstid.Civil!E12","v":913},{"$f":"Sagstid.Foged!D12","v":93},{"$f":"Sagstid.Foged!E12","v":93},{"$f":"Sagstid.Skifte!D12","v":61},{"$f":"Sagstid.Skifte!E12","v":61},{"$f":"Målopf.VVV!D14","v":0.45},{"$f":"Målopf.VVV!E14","v":0.51},{"$f":"Målopf.VVV!F14","v":0.22},{"$f":"Målopf.VVV!G14","v":0},{"$f":"'HR-nøgletal_lønsum'!D12","v":18.3},{"$f":"'HR-nøgletal_lønsum'!E12","v":15.7},{"$f":"'HR-nøgletal_lønsum'!F12","v":12.8},{"$f":"'HR-nøgletal_lønsum'!G12","v":10.7},{"$f":"Årsværk_Pers.kat!I13","v":85.707210000000003},{"$f":"Årsværk_Pers.kat!O13","v":82.221090000000004},{"$f":"Årsværk_Pers.kat!D13","v":24.706669999999999},{"$f":"Årsværk_Pers.kat!J13","v":26.74794},{"$f":"Årsværk_Pers.kat!E13","v":45.3934},{"$f":"Årsværk_Pers.kat!K13","v":42.598140000000001},{"$f":"'HR-nøgletal_lønsum'!H12","v":51.994495046040001},{"$f":"'HR-nøgletal_lønsum'!I12","v":52.732507820000009}]
["Retten i Viborg",{"$f":"'Produkt.SAML.'!D13","v":97.218903645743325},{"$f":"'Produkt.SAML.'!E13","v":90.336764306257663},{"$f":"Produkt.JUR!D13","v":106.56219876817663},{"$f":"Produkt.JUR!E13","v":98.764606707265472},{"$f":"Produkt.KON!D13","v":91.168391561439279},{"$f":"Produkt.KON!E13","v":82.233877499815065},{"$f":"'Generel ledelse_Adm.'!I49","v":0.1626350857524341},{"$f":"'Generel ledelse_Adm.'!J49","v":0.14807934368452288},{"$f":"Sagstid.Straf!F13","v":239},{"$f":"Sagstid.Straf!G13","v":307},{"$f":"Sagstid.Civil!D13","v":685},{"$f":"Sagstid.Civil!E13","v":716},{"$f":"Sagstid.Foged!D13","v":114},{"$f":"Sagstid.Foged!E13","v":103},{"$f":"Sagstid.Skifte!D13","v":72},{"$f":"Sagstid.Skifte!E13","v":44},{"$f":"Målopf.VVV!D15","v":0.65},{"$f":"Målopf.VVV!E15","v":0.45},{"$f":"Målopf.VVV!F15","v":0.71},{"$f":"Målopf.VVV!G15","v":0.09},{"$f":"'HR-nøgletal_lønsum'!D13","v":8.8000000000000007},{"$f":"'HR-nøgletal_lønsum'!E13","v":8.9},{"$f":"'HR-nøgletal_lønsum'!F13","v":11.7},{"$f":"'HR-nøgletal_lønsum'!G13","v":12.1},{"$f":"Årsværk_Pers.kat!I14","v":53.790949999999995},{"$f":"Årsværk_Pers.kat!O14","v":59.915300000000002},{"$f":"Årsværk_Pers.kat!D14","v":13.41872},{"$f":"Årsværk_Pers.kat!J14","v":15.00877},{"$f":"Årsværk_Pers.kat!E14","v":29.8504},{"$f":"Årsværk_Pers.kat!K14","v":35.314590000000003},{"$f":"'HR-nøgletal_lønsum'!H13","v":29.383589674759996},{"$f":"'HR-nøgletal_lønsum'!I13","v":32.476540699999994}]
["Retten i Holstebro",{"$f":"'Produkt.SAML.'!D14","v":106.89630903225161},{"$f":"'Produkt.SAML.'!E14","v":110.33197209540128},{"$f":"Produkt.JUR!D14","v":119.42180630403978},{"$f":"Produkt.JUR!E14","v":114.51801029405398},{"$f":"Produkt.KON!D14","v":99.125115197398912},{"$f":"Produkt.KON!E14","v":106.24041984676697},{"$f":"'Generel ledelse_Adm.'!I56","v":0.16297132835271966},{"$f":"'Generel ledelse_Adm.'!J56","v":0.14512865524438703},{"$f":"Sagstid.Straf!F14","v":171},{"$f":"Sagstid.Straf!G14","v":151},{"$f":"Sagstid.Civil!D14","v":710},{"$f":"Sagstid.Civil!E14","v":529},{"$f":"Sagstid.Foged!D14","v":37},{"$f":"Sagstid.Foged!E14","v":50},{"$f":"Sagstid.Skifte!D14","v":39},{"$f":"Sagstid.Skifte!E14","v":53},{"$f":"Målopf.VVV!D16","v":0.43},{"$f":"Målopf.VVV!E16","v":0.42},{"$f":"Målopf.VVV!F16","v":0.44},{"$f":"Målopf.VVV!G16","v":0.19},{"$f":"'HR-nøgletal_lønsum'!D14","v":8.8000000000000007},{"$f":"'HR-nøgletal_lønsum'!E14","v":11.9},{"$f":"'HR-nøgletal_lønsum'!F14","v":13.4},{"$f":"'HR-nøgletal_lønsum'!G14","v":6.7},{"$f":"Årsværk_Pers.kat!I15","v":36.667489999999994},{"$f":"Årsværk_Pers.kat!O15","v":34.790579999999999},{"$f":"Årsværk_Pers.kat!D15","v":8.8350799999999996},{"$f":"Årsværk_Pers.kat!J15","v":9.1788799999999995},{"$f":"Årsværk_Pers.kat!E15","v":19.978819999999999},{"$f":"Årsværk_Pers.kat!K15","v":19.39348},{"$f":"'HR-nøgletal_lønsum'!H14","v":21.113865305259999},{"$f":"'HR-nøgletal_lønsum'!I14","v":21.149041250000003}]
["Retten i Herning",{"$f":"'Produkt.SAML.'!D15","v":100.75076192425144},{"$f":"'Produkt.SAML.'!E15","v":96.629069846946336},{"$f":"Produkt.JUR!D15","v":102.69422738595506},{"$f":"Produkt.JUR!E15","v":96.621369359031689},{"$f":"Produkt.KON!D15","v":102.26395856302915},{"$f":"Produkt.KON!E15","v":99.499189675060549},{"$f":"'Generel ledelse_Adm.'!I63","v":0.13610444754977163},{"$f":"'Generel ledelse_Adm.'!J63","v":0.10184330518462864},{"$f":"Sagstid.Straf!F15","v":140},{"$f":"Sagstid.Straf!G15","v":176},{"$f":"Sagstid.Civil!D15","v":494},{"$f":"Sagstid.Civil!E15","v":695},{"$f":"Sagstid.Foged!D15","v":72},{"$f":"Sagstid.Foged!E15","v":62},{"$f":"Sagstid.Skifte!D15","v":49},{"$f":"Sagstid.Skifte!E15","v":53},{"$f":"Målopf.VVV!D17","v":0.65},{"$f":"Målopf.VVV!E17","v":0.33},{"$f":"Målopf.VVV!F17","v":0.5},{"$f":"Målopf.VVV!G17","v":0.15},{"$f":"'HR-nøgletal_lønsum'!D15","v":7.2},{"$f":"'HR-nøgletal_lønsum'!E15","v":9.1},{"$f":"'HR-nøgletal_lønsum'!F15","v":13},{"$f":"'HR-nøgletal_lønsum'!G15","v":8.9},{"$f":"Årsværk_Pers.kat!I16","v":40.505609999999997},{"$f":"Årsværk_Pers.kat!O16","v":42.150660000000002},{"$f":"Årsværk_Pers.kat!D16","v":11.798690000000001},{"$f":"Årsværk_Pers.kat!J16","v":12.89255},{"$f":"Årsværk_Pers.kat!E16","v":22.200230000000001},{"$f":"Årsværk_Pers.kat!K16","v":22.913609999999998},{"$f":"'HR-nøgletal_lønsum'!H15","v":23.77129493128},{"$f":"'HR-nøgletal_lønsum'!I15","v":25.32585447999999}]
["Retten i Horsens",{"$f":"'Produkt.SAML.'!D16","v":87.002579581169286},{"$f":"'Produkt.SAML.'!E16","v":95.480618409853946},{"$f":"Produkt.JUR!D16","v":87.92889129472826},{"$f":"Produkt.JUR!E16","v":99.584947921271251},{"$f":"Produkt.KON!D16","v":95.973780809774297},{"$f":"Produkt.KON!E16","v":101.144800498878},{"$f":"'Generel ledelse_Adm.'!I70","v":0.17297871911350685},{"$f":"'Generel ledelse_Adm.'!J70","v":0.12644119314704946},{"$f":"Sagstid.Straf!F16","v":314},{"$f":"Sagstid.Straf!G16","v":412},{"$f":"Sagstid.Civil!D16","v":632},{"$f":"Sagstid.Civil!E16","v":782},{"$f":"Sagstid.Foged!D16","v":92},{"$f":"Sagstid.Foged!E16","v":62},{"$f":"Sagstid.Skifte!D16","v":64},{"$f":"Sagstid.Skifte!E16","v":63},{"$f":"Målopf.VVV!D18","v":0.26},{"$f":"Målopf.VVV!E18","v":0.2},{"$f":"Målopf.VVV!F18","v":0.5},{"$f":"Målopf.VVV!G18","v":0.17},{"$f":"'HR-nøgletal_lønsum'!D16","v":8.6999999999999993},{"$f":"'HR-nøgletal_lønsum'!E16","v":11.4},{"$f":"'HR-nøgletal_lønsum'!F16","v":14.7},{"$f":"'HR-nøgletal_lønsum'!G16","v":9},{"$f":"Årsværk_Pers.kat!I17","v":43.622200000000007},{"$f":"Årsværk_Pers.kat!O17","v":42.567230000000002},{"$f":"Årsværk_Pers.kat!D17","v":11.94088},{"$f":"Årsværk_Pers.kat!J17","v":11.68295},{"$f":"Årsværk_Pers.kat!E17","v":21.352460000000001},{"$f":"Årsværk_Pers.kat!K17","v":21.483350000000002},{"$f":"'HR-nøgletal_lønsum'!H16","v":24.133614030770001},{"$f":"'HR-nøgletal_lønsum'!I16","v":24.246614030000003}]
["Retten i Kolding",{"$f":"'Produkt.SAML.'!D17","v":97.354578849231601},{"$f":"'Produkt.SAML.'!E17","v":106.4462630507962},{"$f":"Produkt.JUR!D17","v":92.754088023543702},{"$f":"Produkt.JUR!E17","v":96.446994457054174},{"$f":"Produkt.KON!D17","v":100.10328677582751},{"$f":"Produkt.KON!E17","v":111.60878605634224},{"$f":"'Generel ledelse_Adm.'!I77","v":0.11592918815294569},{"$f":"'Generel ledelse_Adm.'!J77","v":0.11976509135040628},{"$f":"Sagstid.Straf!F17","v":270},{"$f":"Sagstid.Straf!G17","v":245},{"$f":"Sagstid.Civil!D17","v":706},{"$f":"Sagstid.Civil!E17","v":694},{"$f":"Sagstid.Foged!D17","v":78},{"$f":"Sagstid.Foged!E17","v":69},{"$f":"Sagstid.Skifte!D17","v":29},{"$f":"Sagstid.Skifte!E17","v":32},{"$f":"Målopf.VVV!D19","v":0.49},{"$f":"Målopf.VVV!E19","v":0.5},{"$f":"Målopf.VVV!F19","v":0.56000000000000005},{"$f":"Målopf.VVV!G19","v":0.45},{"$f":"'HR-nøgletal_lønsum'!D17","v":"-"},{"$f":"'HR-nøgletal_lønsum'!E17","v":9.8000000000000007},{"$f":"'HR-nøgletal_lønsum'!F17","v":14.9},{"$f":"'HR-nøgletal_lønsum'!G17","v":9.4},{"$f":"Årsværk_Pers.kat!I18","v":71.169939999999997},{"$f":"Årsværk_Pers.kat!O18","v":69.485779999999991},{"$f":"Årsværk_Pers.kat!D18","v":22.202870000000001},{"$f":"Årsværk_Pers.kat!J18","v":23.309729999999998},{"$f":"Årsværk_Pers.kat!E18","v":39.011699999999998},{"$f":"Årsværk_Pers.kat!K18","v":38.019060000000003},{"$f":"'HR-nøgletal_lønsum'!H17","v":43.067836},{"$f":"'HR-nøgletal_lønsum'!I17","v":42.436578759999996}]
["Retten i Esbjerg",{"$f":"'Produkt.SAML.'!D18","v":87.610602160423184},{"$f":"'Produkt.SAML.'!E18","v":88.821286294196852},{"$f":"Produkt.JUR!D18","v":88.422238818882718},{"$f":"Produkt.JUR!E18","v":88.578787712089479},{"$f":"Produkt.KON!D18","v":94.54518213721154},{"$f":"Produkt.KON!E18","v":97.065090211815644},{"$f":"'Generel ledelse_Adm.'!I84","v":0.15605365921594308},{"$f":"'Generel ledelse_Adm.'!J84","v":0.17114646074950393},{"$f":"Sagstid.Straf!F18","v":301},{"$f":"Sagstid.Straf!G18","v":367},{"$f":"Sagstid.Civil!D18","v":814},{"$f":"Sagstid.Civil!E18","v":832},{"$f":"Sagstid.Foged!D18","v":54},{"$f":"Sagstid.Foged!E18","v":62},{"$f":"Sagstid.Skifte!D18","v":29},{"$f":"Sagstid.Skifte!E18","v":28},{"$f":"Målopf.VVV!D20","v":0.31},{"$f":"Målopf.VVV!E20","v":0.36},{"$f":"Målopf.VVV!F20","v":0.27},{"$f":"Målopf.VVV!G20","v":0.4},{"$f":"'HR-nøgletal_lønsum'!D18","v":11.5},{"$f":"'HR-nøgletal_lønsum'!E18","v":12.9},{"$f":"'HR-nøgletal_lønsum'!F18","v":15.3},{"$f":"'HR-nøgletal_lønsum'!G18","v":11.7},{"$f":"Årsværk_Pers.kat!I19","v":49.774540000000009},{"$f":"Årsværk_Pers.kat!O19","v":49.546170000000004},{"$f":"Årsværk_Pers.kat!D19","v":14.699960000000001},{"$f":"Årsværk_Pers.kat!J19","v":15.21424},{"$f":"Årsværk_Pers.kat!E19","v":26.54279},{"$f":"Årsværk_Pers.kat!K19","v":26.354669999999999},{"$f":"'HR-nøgletal_lønsum'!H18","v":28.268389722430001},{"$f":"'HR-nøgletal_lønsum'!I18","v":28.101744160000003}]
["Retten i Sønderborg",{"$f":"'Produkt.SAML.'!D19","v":101.83347449590691},{"$f":"'Produkt.SAML.'!E19","v":97.7389059740769},{"$f":"Produkt.JUR!D19","v":106.22479516354062},{"$f":"Produkt.JUR!E19","v":96.798118030403728},{"$f":"Produkt.KON!D19","v":93.865668968231248},{"$f":"Produkt.KON!E19","v":96.693330757504526},{"$f":"'Generel ledelse_Adm.'!I91","v":0.16514479926737963},{"$f":"'Generel ledelse_Adm.'!J91","v":0.15969578792103167},{"$f":"Sagstid.Straf!F19","v":239},{"$f":"Sagstid.Straf!G19","v":260},{"$f":"Sagstid.Civil!D19","v":551},{"$f":"Sagstid.Civil!E19","v":594},{"$f":"Sagstid.Foged!D19","v":108},{"$f":"Sagstid.Foged!E19","v":144},{"$f":"Sagstid.Skifte!D19","v":51},{"$f":"Sagstid.Skifte!E19","v":69},{"$f":"Målopf.VVV!D21","v":0.47},{"$f":"Målopf.VVV!E21","v":0.28999999999999998},{"$f":"Målopf.VVV!F21","v":0.56000000000000005},{"$f":"Målopf.VVV!G21","v":0.3},{"$f":"'HR-nøgletal_lønsum'!D19","v":11},{"$f":"'HR-nøgletal_lønsum'!E19","v":9},{"$f":"'HR-nøgletal_lønsum'!F19","v":14.2},{"$f":"'HR-nøgletal_lønsum'!G19","v":14.4},{"$f":"Årsværk_Pers.kat!I20","v":53.011050000000004},{"$f":"Årsværk_Pers.kat!O20","v":56.150359999999992},{"$f":"Årsværk_Pers.kat!D20","v":15.02947},{"$f":"Årsværk_Pers.kat!J20","v":17.686119999999999},{"$f":"Årsværk_Pers.kat!E20","v":32.941090000000003},{"$f":"Årsværk_Pers.kat!K20","v":32.956650000000003},{"$f":"'HR-nøgletal_lønsum'!H19","v":34.48254435490999},{"$f":"'HR-nøgletal_lønsum'!I19","v":36.032852100000007}]
["Retten i Odense",{"$f":"'Produkt.SAML.'!D20","v":102.53627004190716},{"$f":"'Produkt.SAML.'!E20","v":99.367957885253389},{"$f":"Produkt.JUR!D20","v":110.75675071228395},{"$f":"Produkt.JUR!E20","v":101.43324175014668},{"$f":"Produkt.KON!D20","v":94.836981752537511},{"$f":"Produkt.KON!E20","v":96.618348278987625},{"$f":"'Generel ledelse_Adm.'!I98","v":0.11987518865206542},{"$f":"'Generel ledelse_Adm.'!J98","v":9.9996739122745898E-2},{"$f":"Sagstid.Straf!F20","v":195},{"$f":"Sagstid.Straf!G20","v":174},{"$f":"Sagstid.Civil!D20","v":572},{"$f":"Sagstid.Civil!E20","v":656},{"$f":"Sagstid.Foged!D20","v":132},{"$f":"Sagstid.Foged!E20","v":106},{"$f":"Sagstid.Skifte!D20","v":54},{"$f":"Sagstid.Skifte!E20","v":57},{"$f":"Målopf.VVV!D22","v":0.21},{"$f":"Målopf.VVV!E22","v":0.26},{"$f":"Målopf.VVV!F22","v":0.14000000000000001},{"$f":"Målopf.VVV!G22","v":0.27},{"$f":"'HR-nøgletal_lønsum'!D20","v":9.8000000000000007},{"$f":"'HR-nøgletal_lønsum'!E20","v":11},{"$f":"'HR-nøgletal_lønsum'!F20","v":10},{"$f":"'HR-nøgletal_lønsum'!G20","v":12.5},{"$f":"Årsværk_Pers.kat!I21","v":75.042900000000003},{"$f":"Årsværk_Pers.kat!O21","v":76.823660000000018},{"$f":"Årsværk_Pers.kat!D21","v":20.66863},{"$f":"Årsværk_Pers.kat!J21","v":23.227640000000001},{"$f":"Årsværk_Pers.kat!E21","v":45.381079999999997},{"$f":"Årsværk_Pers.kat!K21","v":45.344140000000003},{"$f":"'HR-nøgletal_lønsum'!H20","v":44.621451802559996},{"$f":"'HR-nøgletal_lønsum'!I20","v":45.309744690000016}]
["Retten i Svendborg",{"$f":"'Produkt.SAML.'!D21","v":86.345652149679111},{"$f":"'Produkt.SAML.'!E21","v":88.149701242988797},{"$f":"Produkt.JUR!D21","v":88.480822159931819},{"$f":"Produkt.JUR!E21","v":88.568995893769326},{"$f":"Produkt.KON!D21","v":95.550807335456454},{"$f":"Produkt.KON!E21","v":99.421283834128701},{"$f":"'Generel ledelse_Adm.'!I105","v":0.20873628796913063},{"$f":"'Generel ledelse_Adm.'!J105","v":0.20152292866277094},{"$f":"Sagstid.Straf!F21","v":154},{"$f":"Sagstid.Straf!G21","v":190},{"$f":"Sagstid.Civil!D21","v":517},{"$f":"Sagstid.Civil!E21","v":606},{"$f":"Sagstid.Foged!D21","v":95},{"$f":"Sagstid.Foged!E21","v":102},{"$f":"Sagstid.Skifte!D21","v":46},{"$f":"Sagstid.Skifte!E21","v":43},{"$f":"Målopf.VVV!D23","v":0.57999999999999996},{"$f":"Målopf.VVV!E23","v":0.37},{"$f":"Målopf.VVV!F23","v":0.63},{"$f":"Målopf.VVV!G23","v":0.5},{"$f":"'HR-nøgletal_lønsum'!D21","v":9.5},{"$f":"'HR-nøgletal_lønsum'!E21","v":11.7},{"$f":"'HR-nøgletal_lønsum'!F21","v":13.6},{"$f":"'HR-nøgletal_lønsum'!G21","v":6.7},{"$f":"Årsværk_Pers.kat!I22","v":38.628960000000006},{"$f":"Årsværk_Pers.kat!O22","v":35.991419999999998},{"$f":"Årsværk_Pers.kat!D22","v":10.47298},{"$f":"Årsværk_Pers.kat!J22","v":10.082409999999999},{"$f":"Årsværk_Pers.kat!E22","v":20.73733},{"$f":"Årsværk_Pers.kat!K22","v":19.530169999999998},{"$f":"'HR-nøgletal_lønsum'!H21","v":22.012727579789999},{"$f":"'HR-nøgletal_lønsum'!I21","v":21.227753499999999}]
["Retten i Nykøbing F.",{"$f":"'Produkt.SAML.'!D22","v":89.472251577299616},{"$f":"'Produkt.SAML.'!E22","v":100.16457238896479},{"$f":"Produkt.JUR!D22","v":96.267044017810207},{"$f":"Produkt.JUR!E22","v":101.59674385167121},{"$f":"Produkt.KON!D22","v":82.566963212380571},{"$f":"Produkt.KON!E22","v":98.509020424778981},{"$f":"'Generel ledelse_Adm.'!I112","v":0.17842310013306489},{"$f":"'Generel ledelse_Adm.'!J112","v":0.17152508064653943},{"$f":"Sagstid.Straf!F22","v":103},{"$f":"Sagstid.Straf!G22","v":106},{"$f":"Sagstid.Civil!D22","v":425},{"$f":"Sagstid.Civil!E22","v":501},{"$f":"Sagstid.Foged!D22","v":67},{"$f":"Sagstid.Foged!E22","v":53},{"$f":"Sagstid.Skifte!D22","v":33},{"$f":"Sagstid.Skifte!E22","v":33},{"$f":"Målopf.VVV!D24","v":0.46},{"$f":"Målopf.VVV!E24","v":0.44},{"$f":"Målopf.VVV!F24","v":0.6},{"$f":"Målopf.VVV!G24","v":0.78},{"$f":"'HR-nøgletal_lønsum'!D22","v":8.5},{"$f":"'HR-nøgletal_lønsum'!E22","v":9},{"$f":"'HR-nøgletal_lønsum'!F22","v":11.7},{"$f":"'HR-nøgletal_lønsum'!G22","v":5.8},{"$f":"Årsværk_Pers.kat!I23","v":49.304930000000006},{"$f":"Årsværk_Pers.kat!O23","v":47.022669999999998},{"$f":"Årsværk_Pers.kat!D23","v":13.074020000000001},{"$f":"Årsværk_Pers.kat!J23","v":13.79457},{"$f":"Årsværk_Pers.kat!E23","v":31.18948},{"$f":"Årsværk_Pers.kat!K23","v":27.953440000000001},{"$f":"'HR-nøgletal_lønsum'!H22","v":28.394530540379996},{"$f":"'HR-nøgletal_lønsum'!I22","v":27.514853020000007}]
["Retten i Næstved",{"$f":"'Produkt.SAML.'!D23","v":86.560895248985545},{"$f":"'Produkt.SAML.'!E23","v":98.006250992779613},{"$f":"Produkt.JUR!D23","v":94.898304489652602},{"$f":"Produkt.JUR!E23","v":106.21760392831048},{"$f":"Produkt.KON!D23","v":80.632714794244052},{"$f":"Produkt.KON!E23","v":90.693438956666355},{"$f":"'Generel ledelse_Adm.'!I119","v":0.20061782523270022},{"$f":"'Generel ledelse_Adm.'!J119","v":0.19599522034390932},{"$f":"Sagstid.Straf!F23","v":139},{"$f":"Sagstid.Straf!G23","v":178},{"$f":"Sagstid.Civil!D23","v":571},{"$f":"Sagstid.Civil!E23","v":651},{"$f":"Sagstid.Foged!D23","v":82},{"$f":"Sagstid.Foged!E23","v":68},{"$f":"Sagstid.Skifte!D23","v":37},{"$f":"Sagstid.Skifte!E23","v":47},{"$f":"Målopf.VVV!D25","v":0.41},{"$f":"Målopf.VVV!E25","v":0.56000000000000005},{"$f":"Målopf.VVV!F25","v":0.6},{"$f":"Målopf.VVV!G25","v":0.43},{"$f":"'HR-nøgletal_lønsum'!D23","v":11.3},{"$f":"'HR-nøgletal_lønsum'!E23","v":11.4},{"$f":"'HR-nøgletal_lønsum'!F23","v":12},{"$f":"'HR-nøgletal_lønsum'!G23","v":6.6},{"$f":"Årsværk_Pers.kat!I24","v":67.690039999999996},{"$f":"Årsværk_Pers.kat!O24","v":63.346939999999996},{"$f":"Årsværk_Pers.kat!D24","v":17.017140000000001},{"$f":"Årsværk_Pers.kat!J24","v":16.172789999999999},{"$f":"Årsværk_Pers.kat!E24","v":40.357410000000002},{"$f":"Årsværk_Pers.kat!K24","v":36.569629999999997},{"$f":"'HR-nøgletal_lønsum'!H23","v":36.644189401379997},{"$f":"'HR-nøgletal_lønsum'!I23","v":34.936962150000021}]
["Retten i Holbæk",{"$f":"'Produkt.SAML.'!D24","v":94.294371713497796},{"$f":"'Produkt.SAML.'!E24","v":103.13969237812076},{"$f":"Produkt.JUR!D24","v":99.685437195651232},{"$f":"Produkt.JUR!E24","v":106.04665477142416},{"$f":"Produkt.KON!D24","v":91.032420359488725},{"$f":"Produkt.KON!E24","v":101.09144996060522},{"$f":"'Generel ledelse_Adm.'!I126","v":0.15417563709918852},{"$f":"'Generel ledelse_Adm.'!J126","v":0.15708293521380323},{"$f":"Sagstid.Straf!F24","v":202},{"$f":"Sagstid.Straf!G24","v":286},{"$f":"Sagstid.Civil!D24","v":612},{"$f":"Sagstid.Civil!E24","v":714},{"$f":"Sagstid.Foged!D24","v":75},{"$f":"Sagstid.Foged!E24","v":71},{"$f":"Sagstid.Skifte!D24","v":32},{"$f":"Sagstid.Skifte!E24","v":31},{"$f":"Målopf.VVV!D26","v":0.28999999999999998},{"$f":"Målopf.VVV!E26","v":0.15},{"$f":"Målopf.VVV!F26","v":0.5},{"$f":"Målopf.VVV!G26","v":0.33},{"$f":"'HR-nøgletal_lønsum'!D24","v":12.5},{"$f":"'HR-nøgletal_lønsum'!E24","v":17.2},{"$f":"'HR-nøgletal_lønsum'!F24","v":7},{"$f":"'HR-nøgletal_lønsum'!G24","v":6.6},{"$f":"Årsværk_Pers.kat!I25","v":41.959679999999992},{"$f":"Årsværk_Pers.kat!O25","v":41.538889999999995},{"$f":"Årsværk_Pers.kat!D25","v":11.642580000000001},{"$f":"Årsværk_Pers.kat!J25","v":12.426270000000001},{"$f":"Årsværk_Pers.kat!E25","v":24.007529999999999},{"$f":"Årsværk_Pers.kat!K25","v":22.91047},{"$f":"'HR-nøgletal_lønsum'!H24","v":24.850728963059996},{"$f":"'HR-nøgletal_lønsum'!I24","v":25.254808050000012}]
["Retten i Roskilde",{"$f":"'Produkt.SAML.'!D25","v":102.83963937322578},{"$f":"'Produkt.SAML.'!E25","v":108.83545983103915},{"$f":"Produkt.JUR!D25","v":111.33694121171887},{"$f":"Produkt.JUR!E25","v":113.28473482585821},{"$f":"Produkt.KON!D25","v":87.272140928625134},{"$f":"Produkt.KON!E25","v":96.851405011342351},{"$f":"'Generel ledelse_Adm.'!I133","v":0.17523553263083191},{"$f":"'Generel ledelse_Adm.'!J133","v":0.15697384323946112},{"$f":"Sagstid.Straf!F25","v":181},{"$f":"Sagstid.Straf!G25","v":229},{"$f":"Sagstid.Civil!D25","v":646},{"$f":"Sagstid.Civil!E25","v":628},{"$f":"Sagstid.Foged!D25","v":67},{"$f":"Sagstid.Foged!E25","v":60},{"$f":"Sagstid.Skifte!D25","v":41},{"$f":"Sagstid.Skifte!E25","v":38},{"$f":"Målopf.VVV!D27","v":0.12},{"$f":"Målopf.VVV!E27","v":0.26},{"$f":"Målopf.VVV!F27","v":0.3},{"$f":"Målopf.VVV!G27","v":0.31},{"$f":"'HR-nøgletal_lønsum'!D25","v":8.4},{"$f":"'HR-nøgletal_lønsum'!E25","v":"-"},{"$f":"'HR-nøgletal_lønsum'!F25","v":4.5},{"$f":"'HR-nøgletal_lønsum'!G25","v":9.4},{"$f":"Årsværk_Pers.kat!I26","v":66.392060000000015},{"$f":"Årsværk_Pers.kat!O26","v":61.652800000000006},{"$f":"Årsværk_Pers.kat!D26","v":19.3736},{"$f":"Årsværk_Pers.kat!J26","v":18.74051},{"$f":"Årsværk_Pers.kat!E26","v":42.450650000000003},{"$f":"Årsværk_Pers.kat!K26","v":39.317419999999998},{"$f":"'HR-nøgletal_lønsum'!H25","v":42.118512099},{"$f":"'HR-nøgletal_lønsum'!I25","v":40.668731750000013}]
["Retten i Hillerød",{"$f":"'Produkt.SAML.'!D26","v":96.841698717007944},{"$f":"'Produkt.SAML.'!E26","v":96.40414715477138},{"$f":"Produkt.JUR!D26","v":97.770244871510926},{"$f":"Produkt.JUR!E26","v":91.49979509417318},{"$f":"Produkt.KON!D26","v":104.22893370148462},{"$f":"Produkt.KON!E26","v":115.5724430895033},{"$f":"'Generel ledelse_Adm.'!I140","v":0.15626507775865792},{"$f":"'Generel ledelse_Adm.'!J140","v":0.18662265599800859},{"$f":"Sagstid.Straf!F26","v":181},{"$f":"Sagstid.Straf!G26","v":239},{"$f":"Sagstid.Civil!D26","v":535},{"$f":"Sagstid.Civil!E26","v":615},{"$f":"Sagstid.Foged!D26","v":175},{"$f":"Sagstid.Foged!E26","v":101},{"$f":"Sagstid.Skifte!D26","v":37},{"$f":"Sagstid.Skifte!E26","v":46},{"$f":"Målopf.VVV!D28","v":0.27},{"$f":"Målopf.VVV!E28","v":0.38},{"$f":"Målopf.VVV!F28","v":0.27},{"$f":"Målopf.VVV!G28","v":0.3},{"$f":"'HR-nøgletal_lønsum'!D26","v":19.2},{"$f":"'HR-nøgletal_lønsum'!E26","v":"-"},{"$f":"'HR-nøgletal_lønsum'!F26","v":15.1},{"$f":"'HR-nøgletal_lønsum'!G26","v":10.4},{"$f":"Årsværk_Pers.kat!I27","v":42.328689999999995},{"$f":"Årsværk_Pers.kat!O27","v":43.859629999999996},{"$f":"Årsværk_Pers.kat!D27","v":11.758900000000001},{"$f":"Årsværk_Pers.kat!J27","v":13.6351},{"$f":"Årsværk_Pers.kat!E27","v":21.23272},{"$f":"Årsværk_Pers.kat!K27","v":20.307179999999999},{"$f":"'HR-nøgletal_lønsum'!H26","v":25.070801669289999},{"$f":"'HR-nøgletal_lønsum'!I26","v":25.748505540000004}]
["Retten i Helsingør",{"$f":"'Produkt.SAML.'!D27","v":89.047057241455661},{"$f":"'Produkt.SAML.'!E27","v":95.338814144878896},{"$f":"Produkt.JUR!D27","v":84.929197680342668},{"$f":"Produkt.JUR!E27","v":90.455526365896958},{"$f":"Produkt.KON!D27","v":96.159935379599446},{"$f":"Produkt.KON!E27","v":104.15447579388994},{"$f":"'Generel ledelse_Adm.'!I147","v":0.18311539458080175},{"$f":"'Generel ledelse_Adm.'!J147","v":0.15878136067091383},{"$f":"Sagstid.Straf!F27","v":190},{"$f":"Sagstid.Straf!G27","v":227},{"$f":"Sagstid.Civil!D27","v":651},{"$f":"Sagstid.Civil!E27","v":659},{"$f":"Sagstid.Foged!D27","v":115},{"$f":"Sagstid.Foged!E27","v":107},{"$f":"Sagstid.Skifte!D27","v":40},{"$f":"Sagstid.Skifte!E27","v":38},{"$f":"Målopf.VVV!D29","v":0.36},{"$f":"Målopf.VVV!E29","v":0.28999999999999998},{"$f":"Målopf.VVV!F29","v":0.33},{"$f":"Målopf.VVV!G29","v":0.13},{"$f":"'HR-nøgletal_lønsum'!D27","v":20.6},{"$f":"'HR-nøgletal_lønsum'!E27","v":11.1},{"$f":"'HR-nøgletal_lønsum'!F27","v":18.100000000000001},{"$f":"'HR-nøgletal_lønsum'!G27","v":12.2},{"$f":"Årsværk_Pers.kat!I28","v":41.996189999999991},{"$f":"Årsværk_Pers.kat!O28","v":42.697570000000006},{"$f":"Årsværk_Pers.kat!D28","v":13.130240000000001},{"$f":"Årsværk_Pers.kat!J28","v":13.45201},{"$f":"Årsværk_Pers.kat!E28","v":21.733149999999998},{"$f":"Årsværk_Pers.kat!K28","v":23.128309999999999},{"$f":"'HR-nøgletal_lønsum'!H27","v":24.724817491769997},{"$f":"'HR-nøgletal_lønsum'!I27","v":25.057345859999995}]
["Retten i Lyngby",{"$f":"'Produkt.SAML.'!D28","v":86.652081012512966},{"$f":"'Produkt.SAML.'!E28","v":104.38634879925087},{"$f":"Produkt.JUR!D28","v":82.173336873153673},{"$f":"Produkt.JUR!E28","v":103.94748811658768},{"$f":"Produkt.KON!D28","v":93.585977956659477},{"$f":"Produkt.KON!E28","v":105.81832082444977},{"$f":"'Generel ledelse_Adm.'!I154","v":0.19202847857078048},{"$f":"'Generel ledelse_Adm.'!J154","v":0.17572790738631086},{"$f":"Sagstid.Straf!F28","v":164},{"$f":"Sagstid.Straf!G28","v":204},{"$f":"Sagstid.Civil!D28","v":526},{"$f":"Sagstid.Civil!E28","v":556},{"$f":"Sagstid.Foged!D28","v":67},{"$f":"Sagstid.Foged!E28","v":58},{"$f":"Sagstid.Skifte!D28","v":39},{"$f":"Sagstid.Skifte!E28","v":38},{"$f":"Målopf.VVV!D30","v":0.39},{"$f":"Målopf.VVV!E30","v":0.2},{"$f":"Målopf.VVV!F30","v":0},{"$f":"Målopf.VVV!G30","v":0.14000000000000001},{"$f":"'HR-nøgletal_lønsum'!D28","v":15.1},{"$f":"'HR-nøgletal_lønsum'!E28","v":"-"},{"$f":"'HR-nøgletal_lønsum'!F28","v":10.8},{"$f":"'HR-nøgletal_lønsum'!G28","v":12.4},{"$f":"Årsværk_Pers.kat!I29","v":47.863239999999998},{"$f":"Årsværk_Pers.kat!O29","v":46.346150000000002},{"$f":"Årsværk_Pers.kat!D29","v":14.293229999999999},{"$f":"Årsværk_Pers.kat!J29","v":14.07554},{"$f":"Årsværk_Pers.kat!E29","v":25.938649999999999},{"$f":"Årsværk_Pers.kat!K29","v":25.678349999999998},{"$f":"'HR-nøgletal_lønsum'!H28","v":29.140606536709996},{"$f":"'HR-nøgletal_lønsum'!I28","v":27.090163509999996}]
["Retten i Glostrup",{"$f":"'Produkt.SAML.'!D29","v":93.218098840124242},{"$f":"'Produkt.SAML.'!E29","v":91.556367534578627},{"$f":"Produkt.JUR!D29","v":89.770491265420532},{"$f":"Produkt.JUR!E29","v":86.612811663993909},{"$f":"Produkt.KON!D29","v":98.406171458769251},{"$f":"Produkt.KON!E29","v":97.480593948350446},{"$f":"'Generel ledelse_Adm.'!I161","v":0.14779884813700062},{"$f":"'Generel ledelse_Adm.'!J161","v":0.14402979479006633},{"$f":"Sagstid.Straf!F29","v":285},{"$f":"Sagstid.Straf!G29","v":370},{"$f":"Sagstid.Civil!D29","v":657},{"$f":"Sagstid.Civil!E29","v":739},{"$f":"Sagstid.Foged!D29","v":129},{"$f":"Sagstid.Foged!E29","v":92},{"$f":"Sagstid.Skifte!D29","v":52},{"$f":"Sagstid.Skifte!E29","v":54},{"$f":"Målopf.VVV!D31","v":0.19},{"$f":"Målopf.VVV!E31","v":0.05},{"$f":"Målopf.VVV!F31","v":0},{"$f":"Målopf.VVV!G31","v":0.12},{"$f":"'HR-nøgletal_lønsum'!D29","v":11.6},{"$f":"'HR-nøgletal_lønsum'!E29","v":13.5},{"$f":"'HR-nøgletal_lønsum'!F29","v":10.4},{"$f":"'HR-nøgletal_lønsum'!G29","v":7.7},{"$f":"Årsværk_Pers.kat!I30","v":103.80150999999999},{"$f":"Årsværk_Pers.kat!O30","v":103.46238},{"$f":"Årsværk_Pers.kat!D30","v":32.929659999999998},{"$f":"Årsværk_Pers.kat!J30","v":34.673729999999999},{"$f":"Årsværk_Pers.kat!E30","v":57.232439999999997},{"$f":"Årsværk_Pers.kat!K30","v":56.560369999999999},{"$f":"'HR-nøgletal_lønsum'!H29","v":64.250546558622503},{"$f":"'HR-nøgletal_lønsum'!I29","v":65.080673250000046}]
["Retten på Frederiksberg",{"$f":"'Produkt.SAML.'!D30","v":84.657830158920518},{"$f":"'Produkt.SAML.'!E30","v":92.056120177779547},{"$f":"Produkt.JUR!D30","v":85.16575674016137},{"$f":"Produkt.JUR!E30","v":95.76670241277391},{"$f":"Produkt.KON!D30","v":83.804698121558204},{"$f":"Produkt.KON!E30","v":90.459354532101969},{"$f":"'Generel ledelse_Adm.'!I168","v":0.11567997359823005},{"$f":"'Generel ledelse_Adm.'!J168","v":0.15086199118825441},{"$f":"Sagstid.Straf!F30","v":189},{"$f":"Sagstid.Straf!G30","v":274},{"$f":"Sagstid.Civil!D30","v":611},{"$f":"Sagstid.Civil!E30","v":671},{"$f":"Sagstid.Foged!D30","v":100},{"$f":"Sagstid.Foged!E30","v":64},{"$f":"Sagstid.Skifte!D30","v":60},{"$f":"Sagstid.Skifte!E30","v":77},{"$f":"Målopf.VVV!D32","v":0.1},{"$f":"Målopf.VVV!E32","v":0.15},{"$f":"Målopf.VVV!F32","v":0},{"$f":"Målopf.VVV!G32","v":0.05},{"$f":"'HR-nøgletal_lønsum'!D30","v":15.8},{"$f":"'HR-nøgletal_lønsum'!E30","v":17.899999999999999},{"$f":"'HR-nøgletal_lønsum'!F30","v":17.3},{"$f":"'HR-nøgletal_lønsum'!G30","v":17.3},{"$f":"Årsværk_Pers.kat!I31","v":77.486429999999984},{"$f":"Årsværk_Pers.kat!O31","v":82.823509999999999},{"$f":"Årsværk_Pers.kat!D31","v":23.954360000000001},{"$f":"Årsværk_Pers.kat!J31","v":24.279119999999999},{"$f":"Årsværk_Pers.kat!E31","v":42.28933},{"$f":"Årsværk_Pers.kat!K31","v":44.219369999999998},{"$f":"'HR-nøgletal_lønsum'!H30","v":48.134329843099998},{"$f":"'HR-nøgletal_lønsum'!I30","v":50.859103509999997}]
["Københavns Byret",{"$f":"'Produkt.SAML.'!D31","v":78.76953180989949},{"$f":"'Produkt.SAML.'!E31","v":86.974066402280528},{"$f":"Produkt.JUR!D31","v":83.565604727957293},{"$f":"Produkt.JUR!E31","v":90.307019543247449},{"$f":"Produkt.KON!D31","v":69.054412686062093},{"$f":"Produkt.KON!E31","v":79.438547482604207},{"$f":"'Generel ledelse_Adm.'!I175","v":0.14390940170689739},{"$f":"'Generel ledelse_Adm.'!J175","v":0.1395859045361876},{"$f":"Sagstid.Straf!F31","v":241},{"$f":"Sagstid.Straf!G31","v":262},{"$f":"Sagstid.Civil!D31","v":619},{"$f":"Sagstid.Civil!E31","v":647},{"$f":"Sagstid.Foged!D31","v":88},{"$f":"Sagstid.Foged!E31","v":73},{"$f":"Sagstid.Skifte!D31","v":41},{"$f":"Sagstid.Skifte!E31","v":42},{"$f":"Målopf.VVV!D33","v":0.43},{"$f":"Målopf.VVV!E33","v":0.45},{"$f":"Målopf.VVV!F33","v":0.19},{"$f":"Målopf.VVV!G33","v":0},{"$f":"'HR-nøgletal_lønsum'!D31","v":12.3},{"$f":"'HR-nøgletal_lønsum'!E31","v":"-"},{"$f":"'HR-nøgletal_lønsum'!F31","v":11},{"$f":"'HR-nøgletal_lønsum'!G31","v":13.9},{"$f":"Årsværk_Pers.kat!I32","v":191.46937000000003},{"$f":"Årsværk_Pers.kat!O32","v":188.22152999999997},{"$f":"Årsværk_Pers.kat!D32","v":60.185989999999997},{"$f":"Årsværk_Pers.kat!J32","v":61.676020000000001},{"$f":"Årsværk_Pers.kat!E32","v":117.0377},{"$f":"Årsværk_Pers.kat!K32","v":111.06695999999999},{"$f":"'HR-nøgletal_lønsum'!H31","v":131.36290583760999},{"$f":"'HR-nøgletal_lønsum'!I31","v":128.03680281000013}]

{"sheet":"Produkt.SAML.","index":1,"n_rows":36,"n_cols":15,"rows_kept":36,"cut":false,"hidden":false,"merged":[[35,1,36,14],[34,1,34,15],[3,3,3,4],[3,7,3,8],[3,9,3,10],[3,11,3,12],[3,13,3,14],[3,5,3,6],[33,1,33,14],[5,1,5,2],[6,1,6,2]]}
[]
[null,"PRODUKTIVITETSINDEKS SAMLET FOR RETTEN"]
[]
[null,null,null,"Samlet",null,"Retssager",null,"Straffesager",null,"Civile sager",null,"Fogedsager",null,"Skiftesager"]
[null,null,null,{"$f":"Overblik!$D$6","v":2021},{"$f":"Overblik!$E$6","v":2022},{"$f":"Overblik!$D$6","v":2021},{"$f":"Overblik!$E$6","v":2022},{"$f":"Overblik!$D$6","v":2021},{"$f":"Overblik!$E$6","v":2022},{"$f":"Overblik!$D$6","v":2021},{"$f":"Overblik!$E$6","v":2022},{"$f":"Overblik!$D$6","v":2021},{"$f":"Overblik!$E$6","v":2022},{"$f":"Overblik!$D$6","v":2021},{"$f":"Overblik!$E$6","v":2022}]
[null,"SAMLET BYRETTERNE",null,89.352479034363455,93.350020369266559,90.176510813699409,94.519402611933529,88.057337664795227,88.051142842349179,93.124871810904963,104.93447092652679,81.012301630913697,85.328951938015535,93.946710039530245,95.390464500327681]
[null,"5. BEDSTE RET",null,{"$f":"LARGE(D9:D31,5)","v":100.75076192425144},103.13969237812076,102.93132468205602,105.41415619465883,101.48214701745384,95.910906533770856,113.45878462182732,119.06267781065711,95.234018707018507,100.46128503983707,108.03561496576796,110.3527340950846]
[null,"EID","Ret"]
[null,901,"Retten i Hjørring",87.84852495707581,92.539145128089658,84.112129365929704,91.449863571616007,81.42282847031494,85.75902635029064,88.555563610134342,100.48098871925852,81.831942528714393,91.896072261727468,108.03561496576796,94.892449947630936]
[null,902,"Retten i Aalborg",95.688869049490719,97.490983128106976,99.771070309554972,101.28094875683531,102.35067837318483,91.759391733705286,99.365546523046362,116.38949329363545,81.359317642967738,78.540392370994724,88.732183906264382,96.754624856432301]
[null,903,"Retten i Randers",99.151250842125364,93.336768039613261,95.975676790240698,95.271393899195715,84.761235294386381,82.341640478887157,113.45878462182732,117.59557755434351,95.381810640624494,78.094532230757281,110.6015240726795,97.370695425327838]
[null,904,"Retten i Aarhus",90.489869933725117,96.448608281702803,87.731817411934514,94.195121715787039,81.969583722030691,82.151500649882422,97.030595498971209,117.73904565357358,97.156185292093483,118.09807222178348,98.471050610360564,90.962014944991083]
[null,905,"Retten i Viborg",97.218903645743325,90.336764306257663,100.73069177046079,92.704357757204036,98.305107050321908,87.080426355520274,104.18374495728915,101.58991287733458,71.326789053946769,62.566180023643156,110.69727517911024,111.83207994740052]
[null,906,"Retten i Holstebro",106.89630903225161,110.33197209540128,118.67880297555014,121.65177987378964,120.91510070084377,122.2283321455965,112.32830908581653,118.45683195597513,76.910370331050387,88.979618819767794,91.128281849120611,90.648816360972205]
[null,907,"Retten i Herning",100.75076192425144,96.629069846946336,106.76477184564672,100.58877425957901,101.63580870859768,95.058820125842487,113.56006130894426,108.9654904544372,88.028676316355231,79.521029108293163,87.507227281371712,94.69796140223167]
[null,908,"Retten i Horsens",87.002579581169286,95.480618409853946,85.077863409784058,94.429460904444511,72.036632344612201,87.246785039277285,109.50739376683292,106.08950446415379,91.208639483617361,85.227239911476119,91.913393360909993,110.3527340950846]
[null,909,"Retten i Kolding",97.354578849231601,106.4462630507962,93.122551139687104,105.41415619465883,99.03839818570043,91.445222173830061,86.569137464853128,129.45712762929102,114.24602351898785,112.26388571553971,105.67300051767643,107.78422033600366]
[null,910,"Retten i Esbjerg",87.610602160423184,88.821286294196852,89.204064020775562,91.882656497524735,83.886340431059622,79.793361871831621,97.507583881485544,115.31543256762704,75.453091802616825,86.249928796675832,94.824577288922356,80.291431928090745]
[null,911,"Retten i Sønderborg",101.83347449590691,97.7389059740769,102.93132468205602,94.582992166674259,118.71700668336713,95.882622169229208,79.140666177144041,93.156331168562076,110.24288865909358,97.955516005085315,94.67363652302933,123.72933908352898]
[null,912,"Retten i Odense",102.53627004190716,99.367957885253389,106.06435373239383,101.8666454050211,96.597554001437501,95.137693734308527,122.66109727042928,112.70590385748498,91.068358562417899,84.00523099879949,95.446403087443429,99.142890675635059]
[null,913,"Retten i Svendborg",86.345652149679111,88.149701242988797,80.07650046056979,87.036774269851009,73.516138361897305,89.99115846359615,90.66029300704443,84.970694117023456,86.566612226887912,79.176156671863183,106.79559868756989,94.284053487608759]
[null,914,"Retten i Nykøbing F.",89.472251577299616,100.16457238896479,95.213115701992848,101.22123715656505,98.259013047899842,100.84178928736662,90.39114872635426,101.22696176529999,74.560969816949537,102.2945933975093,87.145379312200305,93.21280930312011]
[null,915,"Retten i Næstved",86.560895248985545,98.006250992779613,88.315155081458286,105.69996847461529,84.074325630352689,95.910906533770856,94.907027617996519,121.75660571404403,81.044656901082135,79.695305465637333,83.665794560342533,88.702916784122806]
[null,916,"Retten i Holbæk",94.294371713497796,103.13969237812076,100.23682786723762,110.97187370226611,90.045535627036088,105.67024837382664,117.55270098891137,119.06267781065711,74.780494245606874,79.682372977432635,94.51525516508552,100.1691754668155]
[null,917,"Retten i Roskilde",102.83963937322578,108.83545983103915,108.26407827106581,114.29790804852691,101.48214701745384,95.875275182308329,119.0433960973219,146.05828334292735,76.381296691853834,81.107279852528663,104.01763547118277,110.81867222493069]
[null,918,"Retten i Hillerød",96.841698717007944,96.40414715477138,93.135056531446921,95.399670098698635,99.817343936077052,104.81846714908343,85.909625100017522,86.573558371363262,95.234018707018507,92.827091475879868,117.63082083549672,106.39784018630145]
[null,919,"Retten i Helsingør",89.047057241455661,95.338814144878896,92.46389730066285,95.1357016855723,98.239435362818782,92.453698132222982,89.124988657543298,100.90017109613649,61.687469961522133,82.172712652296312,100.86889408971813,103.90314965934652]
[null,920,"Retten i Lyngby",86.652081012512966,104.38634879925087,85.799109115829282,104.91485234781545,88.194169154992522,87.955129824647443,88.523373822074674,124.33014730763581,85.429605819821447,127.29976886561106,73.951517588436616,73.700634949668938]
[null,921,"Retten i Glostrup",93.218098840124242,91.556367534578627,94.273884642559054,91.418515912287418,92.8181468905169,91.352455805189564,95.911165602674032,91.459442755944565,76.463145940391684,79.633158380215079,120.99826424056852,117.16646860522835]
[null,922,"Retten på Frederiksberg",84.657830158920518,92.056120177779547,85.713378467174479,92.612981370962359,92.824188639595988,92.528283481471291,73.78163888071991,91.412908342276609,89.160136121671854,100.46128503983707,58.805097081252775,75.341467189128636]
[null,923,"Københavns Byret",78.76953180989949,86.974066402280528,83.524179741181214,91.590063349539989,80.572182749012782,85.894256594756811,87.032763665808659,100.62096103177871,57.973087682517935,68.187809000404954,59.11955763392821,63.304018551538647]
[]
[]
[null,"1) Indeks 100 svarer til gennemsnittet ved byretterne i 2019"]
[null,"2) \"Retssager\" svarer til den samlede produktivitet for straffesager og civile sager,  \"Fogedsager\" til den samlede produktivitet for øvrige fogedsager og tvangsauktioner,  \"Skiftesager\" til den samlede produktivitet for insolvensskifter og dødsboskifter."]
[null,"3) Ved beregningen af den samlede produktivitet, samlet for retten, anvendes rettens samlede vægtede årsværksforbrug - dvs. også årsværksforbruget til generel ledelse og administration mv. Ved beregning af produktiviteten på de enkelte sagsområder er årsværkforbruget til generel ledelse og administration mv. nøgletalsfordelt, således at forskelle i andele i årsværksforbrug til generel ledelse og administration mv. ikke vanskeliggør en sammenligning af de enkelte retter."]

{"sheet":"Produkt.JUR","index":2,"n_rows":36,"n_cols":15,"rows_kept":36,"cut":false,"hidden":false,"merged":[[35,1,36,14],[3,3,3,4],[3,7,3,8],[3,9,3,10],[3,11,3,12],[3,13,3,14],[3,5,3,6],[33,1,33,14],[34,1,34,14],[5,1,5,2],[6,1,6,2]]}
[]
[null,"PRODUKTIVITETSINDEKS JURISTER"]
[]
[null,null,null,"Samlet",null,"Retssager",null,"Straffesager",null,"Civile sager",null,"Fogedsager",null,"Skiftesager"]
[null,null,null,{"$f":"Overblik!$D$6","v":2021},{"$f":"Overblik!$E$6","v":2022},{"$f":"Overblik!$D$6","v":2021},{"$f":"Overblik!$E$6","v":2022},{"$f":"Overblik!$D$6","v":2021},{"$f":"Overblik!$E$6","v":2022},{"$f":"Overblik!$D$6","v":2021},{"$f":"Overblik!$E$6","v":2022},{"$f":"Overblik!$D$6","v":2021},{"$f":"Overblik!$E$6","v":2022},{"$f":"Overblik!$D$6","v":2021},{"$f":"Overblik!$E$6","v":2022}]
[null,"SAMLET BYRETTERNE",null,94.4061464560275,96.502351147360798,95.416352702102799,98.987708388695097,94.805180253266201,92.633345299800496,95.964141752998799,108.39748106409399,82.8286483123957,79.320957065029305,90.406166853687907,88.084699867614702]
[null,"5. BEDSTE RET",null,92.3,{"$f":"LARGE(E9:E31,5)","v":103.94748811658768},106.77894652559455,111.09547095831327,107.62705106180057,104.66818185344596,119.59773255136261,126.32284676688847,110.8456666720693,104.84302413920852,117.71758532032047,110.226383183]
[null,"EID","Ret"]
[null,901,"Retten i Hjørring",89.382619542292417,93.750645225954983,83.527846117435885,91.357891370157731,83.074665072124162,86.738156769016797,85.446603306943842,98.77066017700011,127.86455996522028,129.94037141696106,115.4761770077825,81.770238291007061]
[null,902,"Retten i Aalborg",99.395591812576825,98.662929713809831,99.518034104156143,98.006349306160473,107.62705106180057,87.793029001739427,96.010974141347347,113.5005742351529,92.299590163974955,76.695881309101182,105.03868904591707,110.39062888763908]
[null,903,"Retten i Randers",102.82621653327573,100.11015615426631,103.78599860034991,106.6729109286058,92.559640511799373,96.316448267740284,120.5698508485209,122.46455120938538,94.470667348551956,68.161928328756858,118.63235726527073,83.518092911723457]
[null,904,"Retten i Aarhus",97.29542964496801,96.213046340099197,94.116875156980981,95.170109329944125,93.188701186284206,84.782974770757676,94.134910202036963,112.07820896245133,94.922686563505621,104.84302413920852,117.71758532032047,79.280782851312111]
[null,905,"Retten i Viborg",106.56219876817663,98.764606707265472,110.89536493281773,101.55519089429245,111.68314165014613,99.104824653235625,110.31265653235054,105.21988930874491,83.715336991877621,70.541368999579504,97.113744013631305,101.66451928527007]
[null,906,"Retten i Holstebro",119.42180630403978,114.51801029405398,131.796047759104,134.47429161871668,123.99465865697215,128.13076626061172,141.40354264029372,141.80414373421468,99.712001495212164,103.52372146756146,83.965370074510872,63.064551394137311]
[null,907,"Retten i Herning",102.69422738595506,96.621369359031689,103.46256623599778,93.401748336163081,96.424577043996933,89.430568110541714,112.59903482008853,97.919657083339615,122.68560769531676,86.168660762191223,60.586547773631317,69.051368477355297]
[null,908,"Retten i Horsens",87.92889129472826,99.584947921271251,88.535987452428671,97.853683281950481,77.237365345487106,93.320054494825982,106.72408325324561,104.60169465832452,107.83032532916006,70.744478565713052,69.368501083699869,169.18504589500807]
[null,909,"Retten i Kolding",92.754088023543702,96.446994457054174,86.620859701710714,98.427519199208831,97.874203225169083,87.023325428484029,76.553038121131593,116.32259880676506,129.85689962335795,92.030791690309115,94.465836327325746,109.67393047180296]
[null,910,"Retten i Esbjerg",88.422238818882718,88.578787712089479,85.141474338197995,91.150120881074329,77.722168261589658,73.885657680660827,96.512643020557221,126.32284676688847,86.907897166851086,103.82714061323794,106.5045714213387,75.591503707186504]
[null,911,"Retten i Sønderborg",106.22479516354062,96.798118030403728,110.7161517699881,93.876764563410518,126.43216891134779,96.64795630966924,87.498999584006739,91.394776901355129,127.70517784854003,85.081253644924317,75.921888391287524,126.72145616014264]
[null,912,"Retten i Odense",110.75675071228395,101.43324175014668,106.77894652559455,98.483662822682106,98.206400504577857,93.850039380210319,119.59773255136261,104.61383226318377,84.540010230653536,67.288082214362475,121.93945678291556,102.61982218683521]
[null,913,"Retten i Svendborg",88.480822159931819,88.568995893769326,84.410177153738687,98.732529154054646,74.539523627903534,105.90753860845963,99.942138524664372,93.972602259523597,96.869976926261216,57.847392122289435,118.30342182923148,68.39009035133958]
[null,914,"Retten i Nykøbing F.",96.267044017810207,101.59674385167121,102.36951727415011,111.09547095831327,104.00695685920789,107.94402916494784,99.534720104326695,114.85818541064883,72.691748022607356,122.31212868790476,85.801805882162256,95.74183687291017]
[null,915,"Retten i Næstved",94.898304489652602,106.21760392831048,101.22066181912861,117.5403000717092,99.708489183340859,104.43998698330692,103.84836368744799,138.03023592606655,91.363337702057933,62.381057655653919,70.23256511834785,89.942299814794239]
[null,916,"Retten i Holbæk",99.685437195651232,106.04665477142416,102.57194108508463,111.21616484968,91.800414080176211,104.66818185344596,119.61396850929692,120.42241791755859,64.240151014236005,61.580849445703421,105.83429785086655,106.87402399770826]
[null,917,"Retten i Roskilde",111.33694121171887,113.28473482585821,121.57061230654848,122.25671309977943,110.75563138882789,98.848021367599998,138.31821888301809,161.92504446075804,77.609512184188404,59.70102126526745,110.29152260005155,106.57867426647294]
[null,918,"Retten i Hillerød",97.770244871510926,91.49979509417318,94.457316555878606,96.231115296664811,100.13321087656681,105.54576592340834,88.894405751337288,88.610351182475583,69.329337495612336,71.114486307382634,140.88909299775079,131.85401040340651]
[null,919,"Retten i Helsingør",84.929197680342668,90.455526365896958,85.171709549907632,84.504161704224089,96.584423729654318,86.005601349570156,78.925708450433788,86.969286888372565,62.744672369805258,97.368602735554006,100.43063662198328,110.226383183]
[null,920,"Retten i Lyngby",82.173336873153673,103.94748811658768,84.542885922443304,105.06618225150117,88.180447839695049,85.500257105439303,87.966853471501011,127.52976281344372,71.463738493284851,143.100086379483,58.562428150409239,51.983155225021392]
[null,921,"Retten i Glostrup",89.770491265420532,86.612811663993909,90.846705778398317,88.558072033219304,91.062693095053376,89.47238959026545,90.074870237013684,87.482121599169631,74.487577149665057,78.7492389500771,74.921878158092895,62.408040032994727]
[null,922,"Retten på Frederiksberg",85.16575674016137,95.76670241277391,82.447671623040776,92.510718131360193,86.968707585166214,88.018940345440001,73.649728510271459,97.867651893323369,110.8456666720693,149.5914377920295,59.509661350363807,78.778513214463231]
[null,923,"Københavns Byret",83.565604727957293,90.307019543247449,89.139150558194743,97.701329239692043,87.343642454648361,91.77529762952679,89.106422609212316,105.41394782733316,49.813505963568794,57.626378951300573,35.594896103938353,37.608832660108611]
[]
[]
[null,"1) Indeks 100 svarer til gennemsnittet ved byretterne i 2019. "]
[null,"2) \"Retssager\" svarer til den samlede produktivitet for straffesager og civile sager,  \"Fogedsager\" til den samlede produktivitet for øvrige fogedsager og tvangsauktioner,  \"Skiftesager\" til den samlede produktivitet for insolvensskifter og dødsboskifter."]
[null,"3) Ved beregningen af den samlede produktivitet for juristerne anvendes det samlede årsværksforbrug for gruppen - dvs. også årsværksforbruget til generel ledelse og administration mv. Ved beregning af produktiviteten på de enkelte sagsområder er kun medtaget det direkte årsværksforbrug - dvs. der er ikke foretaget en nøgletalsfordeling af årsværkforbruget til generel ledelse og administration mv."]

{"sheet":"Produkt.KON","index":3,"n_rows":36,"n_cols":15,"rows_kept":36,"cut":false,"hidden":false,"merged":[[35,1,36,14],[3,3,3,4],[3,7,3,8],[3,9,3,10],[3,11,3,12],[3,13,3,14],[3,5,3,6],[33,1,33,14],[34,1,34,14],[5,1,5,2],[6,1,6,2]]}
[]
[null,"PRODUKTIVITETSINDEKS KONTORPERSONALE"]
[]
[null,null,null,"Samlet",null,"Retssager",null,"Straffesager",null,"Civile sager",null,"Fogedsager",null,"Skiftesager"]
[null,null,null,{"$f":"Overblik!$D$6","v":2021},{"$f":"Overblik!$E$6","v":2022},{"$f":"Overblik!$D$6","v":2021},{"$f":"Overblik!$E$6","v":2022},{"$f":"Overblik!$D$6","v":2021},{"$f":"Overblik!$E$6","v":2022},{"$f":"Overblik!$D$6","v":2021},{"$f":"Overblik!$E$6","v":2022},{"$f":"Overblik!$D$6","v":2021},{"$f":"Overblik!$E$6","v":2022},{"$f":"Overblik!$D$6","v":2021},{"$f":"Overblik!$E$6","v":2022}]
[null,"SAMLET BYRETTERNE",null,88.946191301439896,94.992697208284,89.637632592628705,95.270737038742396,87.273225055327103,90.0112176853292,92.804190385765494,103.89650448247301,80.237783426148397,87.1093666438871,96.9845851219428,100.85753049495]
[null,"5. BEDSTE RET",null,{"$f":"LARGE(D9:D31,5)","v":98.406171458769251},104.15447579388994,100.59771738720582,105.09163532405572,100.34708236554116,104.56802601730351,108.77217170399484,119.80250855649517,97.747662985657044,110.07205355398644,112.0954874505979,114.23962294121471]
[null,"EID","Ret"]
[null,901,"Retten i Hjørring",87.056090014443328,90.865134675845809,89.018618554368203,92.931508785049303,83.079850824072381,86.51568828051164,99.00040921730681,103.27399751687565,75.915412049690858,81.438442315800813,105.25775258310416,102.01068876704444]
[null,902,"Retten i Aalborg",89.00905781145714,92.651043418020322,92.851829491836426,94.79920216906585,91.321849416957619,90.975417757386666,94.440860351025222,100.04288368034473,80.949513064434115,80.80512004071818,76.396756732428216,82.994633038565553]
[null,903,"Retten i Randers",93.369647351669315,90.295262978768847,88.1530542353849,79.746538899391439,77.539479209455408,67.619929294542828,105.67221874487458,105.3193279149951,97.747662985657044,86.960943137503534,109.73969873432496,105.14390119602153]
[null,904,"Retten i Aarhus",90.39017586051898,101.86959960193201,83.282082835038437,91.518705225767846,73.549183673956804,78.344480271879775,108.75541336320134,126.68667998747209,103.19478746141296,129.73439877963483,94.792674220219837,101.8865960948861]
[null,905,"Retten i Viborg",91.168391561439279,82.233877499815065,90.705789057873204,80.303367279356124,87.953239819514124,74.042848450118626,94.705114662679961,93.18564844588208,70.931816880152354,59.720548323862999,121.81847178526988,120.1142213760088]
[null,906,"Retten i Holstebro",99.125115197398912,106.24041984676697,100.25684096357774,98.926248024261596,117.56876971163844,109.50001412567873,74.745691952692667,80.506498810719421,69.14844667153352,80.598947929994324,96.389773574365336,110.31648088106027]
[null,907,"Retten i Herning",102.26395856302915,99.499189675060549,107.26795668479885,98.872062337737859,105.58121278035996,90.663576816086774,108.77217170399484,118.54198647453322,74.920758297339447,69.198043876833012,106.64259345215767,114.23962294121471]
[null,908,"Retten i Horsens",95.973780809774297,101.144800498878,90.85932377612734,99.08709197689511,76.646882110905381,88.76201151086137,122.63295142959953,119.80250855649517,94.948115589962583,102.38247251410387,113.30151982875674,96.899465957243763]
[null,909,"Retten i Kolding",100.10328677582751,111.60878605634224,93.992470881028822,115.06575759345839,90.166482622825654,95.160031258685422,99.795214762190668,156.34202528888136,102.7181156850522,116.05254110385026,104.41823828574466,104.98131755028155]
[null,910,"Retten i Esbjerg",94.54518213721154,97.065090211815644,100.59771738720582,101.8563934858183,98.783284129705649,101.06125484749732,102.59259294639998,101.93918397405753,71.553511784228007,85.969629521179343,92.892647664931815,90.756473092589076]
[null,911,"Retten i Sønderborg",93.865668968231248,96.693330757504526,90.04178572398196,96.093582957747586,106.6420997219133,95.013822235136431,63.818753396479075,96.80486221782698,106.4395536106735,110.07205355398644,107.2118916095762,123.91104645589226]
[null,912,"Retten i Odense",94.836981752537511,96.618348278987625,95.810164641792923,94.629548467265266,86.756654454627508,86.029694100008825,116.4291650548049,114.41633434773257,87.153093518906545,82.952953934957961,80.303417995719101,89.144676094614098]
[null,913,"Retten i Svendborg",95.550807335456454,99.421283834128701,84.91886561424235,80.043077450691754,84.338727914333163,80.414340832587655,85.057571469333311,78.915931667275871,87.779222188901286,101.20491186454828,117.81940793100777,133.21849967398825]
[null,914,"Retten i Nykøbing F.",82.566963212380571,98.509020424778981,87.876550092165985,100.89091085327976,93.691056412422398,109.56966329458473,77.81114111825157,87.171044255454632,76.484001292803754,97.689707178211151,90.355371949828651,103.94054988071095]
[null,915,"Retten i Næstved",80.632714794244052,90.693438956666355,81.242875717033897,98.231228725407433,75.342389544841666,92.813862144513294,91.872650841745838,106.71432012234125,80.902605378420816,92.889374871845405,100.25284216977535,93.904059737740212]
[null,916,"Retten i Holbæk",91.032420359488725,101.09144996060522,100.73893414544143,113.18854431529293,92.49747484469134,111.19101588281799,114.27354217218509,115.32460291806608,79.236960045106457,88.18600127066621,90.306888650676115,96.948597485051124]
[null,917,"Retten i Roskilde",87.272140928625134,96.851405011342351,94.868586236555615,105.09163532405572,93.229103425009114,93.215716589332104,96.597558502671916,124.94860344685404,77.380581228267459,91.790057690271169,105.33729052274911,110.99445663527578]
[null,918,"Retten i Hillerød",104.22893370148462,115.5724430895033,102.83890011275145,129.07543436814925,124.76540969153787,155.35855536855877,79.703236155909693,101.97584675570033,118.02542976837759,114.73433014335855,112.0954874505979,106.76984415958601]
[null,919,"Retten i Helsingør",96.159935379599446,104.15447579388994,111.92447327443591,122.86836180388387,100.34708236554116,104.56802601730351,130.26656501658763,152.14639667937627,62.327115148812972,76.181523926705736,100.84382218397414,97.891369968904527]
[null,920,"Retten i Lyngby",93.585977956659477,105.81832082444977,94.322205454716041,104.88906373711782,91.758894078487458,92.287577926934588,96.868759086905669,117.16001135430274,92.425820853496859,117.62065163425895,83.876854546866525,85.290713957701271]
[null,921,"Retten i Glostrup",98.406171458769251,97.480593948350446,97.985077238400223,94.487407670143853,93.522813509674663,92.918166403499882,105.56126753408732,96.094891473106927,74.092828619586797,77.036812667911036,148.61909471688054,153.11863944107728]
[null,922,"Retten på Frederiksberg",83.804698121558204,90.459354532101969,83.533584212905438,95.042544567902411,95.235975270142376,104.27637255199353,65.383562541015124,79.964265124592089,75.698957141862053,84.26506620761046,57.544992743319959,80.661595829282334]
[null,923,"Københavns Byret",69.054412686062093,79.438547482604207,75.62081943709768,83.166901492702607,72.27514149367093,79.213900200900497,81.383270060945136,90.152649825065467,59.267720363943866,70.557104956690935,73.0916936029449,78.637939081289716]
[]
[]
[null,"1) Indeks 100 svarer til gennemsnittet ved byretterne i 2019. "]
[null,"2) \"Retssager\" svarer til den samlede produktivitet for straffesager og civile sager,  \"Fogedsager\" til den samlede produktivitet for øvrige fogedsager og tvangsauktioner,  \"Skiftesager\" til den samlede produktivitet for insolvensskifter og dødsboskifter."]
[null,"3) Ved beregningen af den samlede produktivitet for kontorpersonale anvendes det samlede årsværksforbrug for gruppen - dvs. også årsværksforbruget til generel ledelse og administration mv. Ved beregning af produktiviteten på de enkelte sagsområder er kun medtaget det direkte årsværksforbrug - dvs. der er ikke foretaget en nøgletalsfordeling af årsværkforbruget til generel ledelse og administration mv."]

{"sheet":"Generel ledelse_Adm.","index":4,"n_rows":178,"n_cols":10,"rows_kept":178,"cut":false,"hidden":false,"merged":[[177,1,178,9],[4,4,4,6],[4,7,4,9],[7,1,13,2]]}
[]
[null,"ÅRSVÆRKSFORBRUG ANVENDT TIL GENEREL LEDELSE OG ADMINISTRATION MV."]
[]
[]
[null,null,null,null,"Årsværk til generel ledelse og administration",null,null,"%-del til generel ledelse og administration"]
[null,null,null,null,{"$f":"Overblik!$D$6-1","v":2020},{"$f":"Overblik!$D$6","v":2021},{"$f":"Overblik!$E$6","v":2022},{"$f":"Overblik!$D$6-1","v":2020},{"$f":"Overblik!$D$6","v":2021},{"$f":"Overblik!$E$6","v":2022}]
[]
[null,"SAMLET BYRETTERNE",null,"Jurister",28.934645167548481,28.511293975926925,31.600649505671843,6.8470031499555106E-2,6.7721837861912507E-2,7.0374663474922813E-2]
[null,null,null,"Kontor",98.652185650102098,102.50499842645472,100.75413902609124,0.11972691611535809,0.12327915315567542,0.11949222861687735]
[null,null,null,"Elev",6.498015594203717,6.7244860988676463,6.6383846169345544,8.7943673879488454E-2,9.6587106307334886E-2,0.10638295565407535]
[null,null,null,"Fleks",14.475133112492367,13.478440843388682,10.017553486738715,0.36108898728610173,0.34689291204960943,0.24430455890200845]
[null,null,null,"Øvrige",69.880938730262045,76.474467524434118,69.468565623043631,0.75954239739861351,0.786190053035009,0.73473492825817188]
[null,null,null,"Samlet",218.4409182546087,227.69368686907211,218.47929225847997,0.15038496278866187,0.15614272775637311,0.14807929405513812]
[null,null,null," - ekskl. fleks og elever",203.96578514211635,207.49075992681577,201.82335415480671,0.14752153259945017,0.15372361508492757,0.14734963418331729]
[null,"EID","Ret"]
[null,901,"Retten i Hjørring","Jurister",1.0059237500732829,0.97980535203450025,0.81528235538166971,7.7414837229761169E-2,7.5018038687482455E-2,6.4671432613230578E-2]
[null,901,"Retten i Hjørring","Kontor",2.8521739456367605,3.8111011333560016,3.5675264178276511,0.10410902403146589,0.13869403014125969,0.131864086843172]
[null,901,"Retten i Hjørring","Elev",0.15170900964469941,0.68217670976359113,2.7827009978649744E-2,4.5985107906937793E-2,0.29422684524036297,1.8014157800165562E-2]
[null,901,"Retten i Hjørring","Fleks",9.0257397593138079E-4,0,0,7.8242482049601313E-4,0,0]
[null,901,"Retten i Hjørring","Øvrige",1.9499641628113191,2.0837765652653699,2.0705589695793538,0.77559579293650704,0.70127298236714086,0.81801799532210295]
[null,901,"Retten i Hjørring","Samlet",5.960673442141994,7.5568597604194627,6.4811947527673253,0.12586739851856438,0.16118457096570829,0.1454211175304341]
[null,null,null," - ekskl. fleks og elever",5.9597708681660624,6.8746830506558716,6.4533677427886751,0.1353730564458929,0.15799935442867608,0.15322683787511146]
[null,902,"Retten i Aalborg","Jurister",1.4098236069293806,1.5451295675883676,1.2988348976572401,6.5814715720919126E-2,7.4434983126516224E-2,5.9815138868306618E-2]
[null,902,"Retten i Aalborg","Kontor",3.7448946920614601,4.0611578164795867,3.670466063828365,8.9975589189974933E-2,9.4046554511757016E-2,8.6479994058574275E-2]
[null,902,"Retten i Aalborg","Elev",0.17702784219090242,0.29502964129660963,0.37635015378368153,2.9942195650929315E-2,5.8734808383822203E-2,7.6526597487480738E-2]
[null,902,"Retten i Aalborg","Fleks",0.94700247197155685,1.1589341547362886,0.75476343876186802,0.79051919693773265,0.91224489124564201,0.855653548687626]
[null,902,"Retten i Aalborg","Øvrige",1.4147759627859484,0.89452386772192849,0.95971794191756188,0.34261219911607754,0.26494911978873603,0.30336164758537304]
[null,902,"Retten i Aalborg","Samlet",7.6935245759392492,7.954775047822781,7.0601324959487171,0.10357188346270858,0.10806614742490693,9.655449819201288E-2]
[null,null,null," - ekskl. fleks og elever",6.7465221039676919,6.500811251789882,5.9290189034031675,9.7801503963153388E-2,9.6570500172615051E-2,8.8071247368056091E-2]
[null,903,"Retten i Randers","Jurister",1.0100424923543352,1.2128001982678562,0.80662769995477324,8.3774860168582363E-2,9.3878195095070713E-2,6.2680635795333173E-2]
[null,903,"Retten i Randers","Kontor",3.9999406502969683,4.1817131735618176,3.0422537098776226,0.13803865727450251,0.14677493049691101,0.10414867815051285]
[null,903,"Retten i Randers","Elev",0.2485480049065181,8.9902953857142753E-2,0.19307549257142867,7.5478598254007975E-2,3.8528571428571377E-2,8.2742857142857187E-2]
[null,903,"Retten i Randers","Fleks",0.94136927264597503,1.5127662650142879,1.3714062423144564,0.66946099494081401,0.75991674537312903,0.74890304950495101]
[null,903,"Retten i Randers","Øvrige",1.4988933937010571,2.1435658464550547,3.0079683337546683,0.75624915802698123,0.9608223537093975,0.77364843732035715]
[null,903,"Retten i Randers","Samlet",7.698793813904854,9.1407484371561587,8.4213314784729487,0.1613504975803034,0.19057280655225228,0.16798241686629775]
[null,null,null," - ekskl. fleks og elever",6.7574245412588789,7.5380792182847278,6.8568497435870643,0.15131432634561323,0.17273131484739812,0.14916714621326571]
[null,904,"Retten i Aarhus","Jurister",0.93858303918912656,1.4559975849375295,1.3080083610712736,3.841934408362218E-2,5.8931356793025108E-2,4.9142786668801779E-2]
[null,904,"Retten i Århus","Kontor",4.0642640204180314,5.0175188694275175,4.4201660862826841,8.7449339490925385E-2,0.11053410560626693,0.10547740777649424]
[null,904,"Retten i Århus","Elev",8.8036283569426679E-2,0.23457269357667973,0.40995654759916267,3.6039972968644501E-2,6.0550358304877816E-2,0.13316935987447057]
[null,904,"Retten i Århus","Fleks",0.86197736958844096,1.010147905369897,0.9169456367440646,0.36224842387895079,0.39758801954189488,0.39448023469913812]
[null,904,"Retten i Århus","Øvrige",4.3155833354086521,6.1902526212637881,4.8572667427089753,0.69025478161285891,0.6734069105986864,0.65005289572944935]
[null,904,"Retten i Århus","Samlet",10.268444048173677,13.908489674575412,11.912343374406159,0.1252554469756616,0.16227910901049525,0.14584796455024254]
[null,null,null," - ekskl. fleks og elever",9.406466678585236,12.663769075628835,10.585441190062934,0.12077113688909333,0.15970952458976054,0.13883269620462385]
[null,905,"Retten i Viborg","Jurister",1.8766588072598549,1.0523062107293897,1.1121501428155816,0.12656029312160055,7.8420759262387896E-2,7.4100019043238152E-2]
[null,905,"Retten i Viborg","Kontor",3.3173072515331845,3.6824441590383854,4.3060739729239677,0.12240304143692304,0.12336331034218588,0.12193470100952516]
[null,905,"Retten i Viborg","Elev",0.11691604106682223,0.31706331603294036,0.11865283490149152,2.3343337792415E-2,7.0119448186754807E-2,2.9991010469807781E-2]
[null,905,"Retten i Viborg","Fleks",0.40582738245223982,0.67852035499999996,0.56462131382031322,0.20290760399799998,0.33925,0.25303115662167902]
[null,905,"Retten i Viborg","Øvrige",2.0220722010092742,3.0179617251541786,2.7707200361999407,0.66146721438338019,0.7544885450671821,0.8139050640526464]
[null,905,"Retten i Viborg","Samlet",7.7387816833213758,8.7482957659548948,8.8722183006612951,0.14883634892965925,0.1626350857524341,0.14807934368452288]
[null,null,null," - ekskl. fleks og elever",7.3329543008691358,7.7527120949219546,8.1889441519394897,0.16040402794701525,0.16401215962557283,0.15241599617513998]
[null,906,"Retten i Holstebro","Jurister",0.8932017395828088,0.89707669093836662,1.0425365671449447,0.11135637581117935,0.10153577454175476,0.11357993209900824]
[null,906,"Retten i Holstebro","Kontor",1.158811163160105,1.1184369460361838,1.1721136856911896,5.8854719082148725E-2,5.5981131319876941E-2,6.0928850905782601E-2]
[null,906,"Retten i Holstebro","Elev",0.23960510470421312,3.2589140480944148E-2,0.30941341467691197,9.0747822138138687E-2,9.8293587014119024E-3,0.1201596161105203]
[null,906,"Retten i Holstebro","Fleks",2.1991888013901053,1.2051245064135652,1.1661854546697221,0.74637325687768719,0.71159664988548621,0.53180082759110603]
[null,906,"Retten i Holstebro","Øvrige",2.3208291531219731,2.7225222687910033,1.7112427210946635,0.99533353338192698,0.95710121769383683,0.81719253570596551]
[null,906,"Retten i Holstebro","Samlet",6.8116359619592046,5.975749552660063,5.4014918432774319,0.19118229672840206,0.16297132835271966,0.14512865524438703]
[null,null,null," - ekskl. fleks og elever",4.6124471605690989,4.7380359057655541,3.9258929739307975,0.14555679752377695,0.14966101959399639,0.12678765207839726]
[null,907,"Retten i Herning","Jurister",0.40589892074339934,0.38405065245024078,6.6929327134767957E-2,3.1436861288906943E-2,3.2550279094563955E-2,5.191318019691059E-3]
[null,907,"Retten i Herning","Kontor",1.6537547048812433,1.8209329657320035,1.5040497672645334,7.546577388219676E-2,8.2023157675934141E-2,6.5640017756457128E-2]
[null,907,"Retten i Herning","Elev",0.13646964452035415,6.9980053534260733E-2,0,3.5766703232916391E-2,2.1409401263594478E-2,0]
[null,907,"Retten i Herning","Fleks",0,0,"-","-","-","-"]
[null,907,"Retten i Herning","Øvrige",2.4064573976261445,3.2380300000000002,2.7217834357142179,0.9995627837999197,1,0.8385735830504133]
[null,907,"Retten i Herning","Samlet",4.6025806677711412,5.5129936717165053,4.292762530113519,0.11212518305186953,0.13610444754977163,0.10184330518462864]
[null,null,null," - ekskl. fleks og elever",4.6025806677711412,5.4430136181822446,4.292762530113519,0.11995021151243059,0.1461723803421667,0.10992457804509638]
[null,908,"Retten i Horsens","Jurister",0.97862143921538047,0.81682738136366184,0.94769280985760607,8.1271062805175501E-2,6.8405961818866101E-2,8.1475494461019829E-2]
[null,908,"Retten i Horsens","Kontor",3.0034123634703507,2.6438463050030929,2.184604468331881,0.14587553194858924,0.12381928382036977,0.10270660438727736]
[null,908,"Retten i Horsens","Elev",0.38356095967089843,0.58305594731605404,0.18860375862193779,0.1429591986876301,0.17310044126462648,8.0671198197873467E-2]
[null,908,"Retten i Horsens","Fleks",2.6870989761997857E-4,0.45741638130538587,0.16668658588848012,1.6055130200097904E-4,0.20186962412524204,0.10660582981098998]
[null,908,"Retten i Horsens","Øvrige",2.4559909261311907,3.0445662659250234,1.7798573085791047,0.56674272326681097,0.64851826353935293,0.38268518364536963]
[null,908,"Retten i Horsens","Samlet",6.8218543983854403,7.545712280913218,5.2674449312790097,0.16509604425078483,0.17297871911350685,0.12644119314704946]
[null,null,null," - ekskl. fleks og elever",6.8215856884878203,6.5052399522917783,4.9121545867685921,0.17417088508166148,0.17124464738175876,0.13058090565384256]
[null,909,"Retten i Kolding","Jurister",1.1111633777505687,0.78639870463628903,2.0999456167808059,5.2673129881115062E-2,3.5418786158559187E-2,9.0304034008152193E-2]
[null,909,"Retten i Kolding","Kontor",5.2294673469179633,3.9605236470792979,4.7075530164539821,0.1320818714931713,0.10152143195706155,0.1249862021525588]
[null,909,"Retten i Kolding","Elev",5.5440678920108351E-2,3.9501867272727371E-2,0.19111034188235293,1.5288624101379201E-2,1.07727272727273E-2,4.4964705882352934E-2]
[null,909,"Retten i Kolding","Fleks",0.92238731732522239,0.95997785568186544,0,0.30756393520702574,0.31195154750444881,0]
[null,909,"Retten i Kolding","Øvrige",2.4741731448751954,2.5042712904236755,1.2662252116200237,0.85201440295160491,0.77985528476073607,0.83555104500998301]
[null,909,"Retten i Kolding","Samlet",9.7926318657890583,8.2506733650938546,8.2648341867371649,0.13946189107619777,0.11592918815294569,0.11976509135040628]
[null,null,null," - ekskl. fleks og elever",8.8702445484638357,7.2511936421392624,8.0737238448548112,0.13861502456038838,0.11255113663584095,0.12936193049579484]
[null,910,"Retten i Esbjerg","Jurister",1.0182005040368296,0.77321896695694514,1.3504545764730251,6.783250562684609E-2,5.2600072854412198E-2,8.8762539336373361E-2]
[null,910,"Retten i Esbjerg","Kontor",2.5982021988007347,1.9969031573768721,2.5584910774022687,9.9193805672418464E-2,7.5233355550673911E-2,9.7079230261743615E-2]
[null,910,"Retten i Esbjerg","Elev",3.3194482893230048E-3,3.8501760000000003E-2,0.10541476533915546,2.52281803759244E-3,1.6500000000000001E-2,5.3413509262021659E-2]
[null,910,"Retten i Esbjerg","Fleks",0,0,0,0,0,0]
[null,910,"Retten i Esbjerg","Øvrige",4.1121474106571432,4.9588752184565115,4.4652912199788091,0.90781492248022899,0.95393804507158309,0.85628754426972997]
[null,910,"Retten i Esbjerg","Samlet",7.7318695617840305,7.7674991027903282,8.479651639193257,0.16165060263081871,0.15605365921594308,0.17114646074950393]
[null,null,null," - ekskl. fleks og elever",7.7318695617840305,7.7289973427903282,8.3742368738541018,0.16899130031156007,0.16642591014355027,0.17899933510604982]
[null,911,"Retten i Sønderborg","Jurister",1.38612323431758,1.2623816733052973,0.95380502430422198,8.8412331869976546E-2,8.3993758482853842E-2,5.3996401294148864E-2]
[null,911,"Retten i Sønderborg","Kontor",3.6045740518043887,4.3198731089094613,5.4895854346783368,0.10361877960324091,0.13113934933268634,0.16656988603751716]
[null,911,"Retten i Sønderborg","Elev",0.11844389059759045,8.5436964249999997E-2,3.7601648448938894E-2,5.8209106839782997E-2,6.4074999999999993E-2,3.1044850454623178E-2]
[null,911,"Retten i Sønderborg","Fleks",1.0829048729847297,1.0480253872308927,0.2086624,0.90091170038912294,0.73547705706187727,0.15999999999999998]
[null,911,"Retten i Sønderborg","Øvrige",3.2163496323067009,2.0387820775073733,2.0297065193481192,0.86532424132461494,0.89336415711015682,0.77027869294453555]
[null,911,"Retten i Sønderborg","Samlet",9.4083956820109904,8.7544992112030258,8.719361026779616,0.16385635031618681,0.16514479926737963,0.15969578792103167]
[null,null,null," - ekskl. fleks og elever",8.3254908090262614,7.6210368597221327,8.4730969783306769,0.15147253306562949,0.1516542764811071,0.16268899966882466]
[null,912,"Retten i Odense","Jurister",0.85595428867957135,0.73676678030661191,0.48155698111729378,4.1187212067707091E-2,3.5646619069895386E-2,1.5787757411761725E-2]
[null,912,"Retten i Odense","Kontor",3.4836630329587055,3.5136729816506471,3.3163714530781849,8.015181156149187E-2,7.7425944504860775E-2,7.3137817876316208E-2]
[null,912,"Retten i Odense","Elev",4.8375927151020973E-2,0,2.6534467026225073E-2,1.2093498047833329E-2,0,8.8065140061482795E-3]
[null,912,"Retten i Odense","Fleks",0.18563534271501847,0,1.9767016917489762E-3,0.22549632874775999,0,4.2113036170032302E-3]
[null,912,"Retten i Odense","Øvrige",5.0513818331550899,4.7453420325408215,4.7666236565473667,0.9983106155925261,0.96058971960510797,0.83249022845624499]
[null,912,"Retten i Odense","Samlet",9.6250104246594059,8.9957817944980807,8.5930632594608198,0.12984194137921817,0.11987518865206542,9.9996739122745898E-2]
[null,null,null," - ekskl. fleks og elever",9.4393750819443873,8.9957817944980807,8.5645520907428452,0.13550192935939898,0.12671946389010694,0.10435609436542795]
[null,913,"Retten i Svendborg","Jurister",0.73734650317871153,0.82904830726990708,0.80537216098045239,6.6326509786767518E-2,7.9160688483116276E-2,7.9878933804561847E-2]
[null,913,"Retten i Svendborg","Kontor",2.4026138343905994,2.5617414014370348,2.4695226101373167,0.11479732289514447,0.12353284639040006,0.12644654962743881]
[null,913,"Retten i Svendborg","Elev",0.69467834584518362,0.71944691632576052,0.43208367999999997,0.34732875306,0.41955884248369202,0.44379999999999997]
[null,913,"Retten i Svendborg","Fleks",0.47168358701610807,0.209606288,6.6001979999999998E-3,0.47166943693300012,0.20960000000000001,6.6E-3]
[null,913,"Retten i Svendborg","Øvrige",3.2092030212846883,3.7434228054753262,3.5395177160140578,0.76291162796912604,0.79582104137575094,0.80348444592063883]
[null,913,"Retten i Svendborg","Samlet",7.5155252917152913,8.0632657185080276,7.2530963651318263,0.19146513175052862,0.20873628796913063,0.20152292866277094]
[null,null,null," - ekskl. fleks og elever",7.043841704699183,7.1342125141822672,6.8144124871318272,0.17513667588312237,0.19864623073969342,0.20031908266621165]
[null,914,"Retten i Nykøbing F.","Jurister",0.98394367340919209,1.0730255390728609,2.0627570332950622,7.4632385893458594E-2,8.2073114395791111E-2,0.14953398571286108]
[null,914,"Retten i Nykøbing F.","Kontor",4.7667871950376544,4.5024882720514157,3.7245646187578321,0.15398668538917551,0.14435919649995499,0.1338376741098142]
[null,914,"Retten i Nykøbing F.","Elev",0.28553872051364287,0.26765680087366661,0.48148592533333262,0.142763649710833,0.14469812347205399,0.24073333333333297]
[null,914,"Retten i Nykøbing F.","Fleks",0.41471999999999998,0.40544000000000002,4.3595698924731134E-3,1,1,1.0752688172042998E-2]
[null,914,"Retten i Nykøbing F.","Øvrige",2.8826388778327279,2.5485278504458142,1.7757413424764985,0.85081783128873223,0.9146868171133804,0.61891066398868599]
[null,914,"Retten i Nykøbing F.","Samlet",9.3336284667932183,8.7971384624437583,8.0489084897551972,0.18688715316512855,0.17842310013306489,0.17152508064653943]
[null,null,null," - ekskl. fleks og elever",8.9189084667932192,8.1240416615700912,7.5630629945293926,0.18164887839892357,0.17266925148284781,0.16988359338818829]
[null,915,"Retten i Næstved","Jurister",1.1715924823619817,1.4927237613907614,1.2472471468203297,6.4793265923532933E-2,8.7718838852519354E-2,7.7120097819877068E-2]
[null,915,"Retten i Næstved","Kontor",5.6783316750780664,7.0412129231844212,6.2841328642052279,0.14647903780083951,0.17447137770199875,0.17184020905339289]
[null,915,"Retten i Næstved","Elev",0.45665300545235732,0.41800294421860629,0.73514036544912353,0.20837748426962602,0.15639549981427464,0.22997139684831153]
[null,915,"Retten i Næstved","Fleks",1.0497163076671312,0.69727139942646121,0.68158233463376439,0.42087136205405901,0.242093834539788,0.1981614739902732]
[null,915,"Retten i Næstved","Øvrige",3.4367618985769846,3.930617586494237,3.4675947523039574,0.92803187946279642,0.82531093092083019,0.87381713524428606]
[null,915,"Retten i Næstved","Samlet",11.793055369136521,13.579828614714486,12.415697463412403,0.18077415935178093,0.20061782523270022,0.19599522034390932]
[null,null,null," - ekskl. fleks og elever",10.74333906146939,12.464554271069419,10.998974763329516,0.16988527738233977,0.20059748921610199,0.19394867398737481]
[null,916,"Retten i Holbæk","Jurister",0.78090233054448244,0.72591520387665276,0.73542697300194526,6.9090442875095442E-2,6.2350029278446246E-2,5.9662840509348676E-2]
[null,916,"Retten i Holbæk","Kontor",2.2319274661156645,3.0327886221364007,2.9206134938350821,9.5569509857024934E-2,0.12632655763155981,0.12747942289420872]
[null,916,"Retten i Holbæk","Elev",8.2554839912643369E-2,0.14727592342857143,0.20990629699999999,3.1214964121965037E-2,0.12622857142857141,0.2099]
[null,916,"Retten i Holbæk","Fleks",8.4162581111274962E-2,0,0.20779580197439509,3.8212816116121887E-2,0,9.1525485814758487E-2]
[null,916,"Retten i Holbæk","Øvrige",2.3773295680453757,2.563180647036452,2.4453486087777172,0.81055089637344124,0.81558009241416074,0.83408894615443185]
[null,916,"Retten i Holbæk","Samlet",5.5568767857294414,6.4691603964780766,6.5190911745891391,0.1309449188670066,0.15417563709918852,0.15708293521380323]
[null,null,null," - ekskl. fleks og elever",5.4727142046181667,6.3218844730495052,6.101389075614744,0.14339511728005122,0.16296507176186731,0.159592057900072]
[null,917,"Retten i Roskilde","Jurister",1.290647287153883,2.2201135083754688,1.3781208859344964,7.1878890075656801E-2,0.1145947840553882,7.3537000110162232E-2]
[null,917,"Retten i Roskilde","Kontor",6.7133098633257209,7.578854417028837,7.6131241687632185,0.1682486572638994,0.1785332949443374,0.17976585509780024]
[null,917,"Retten i Roskilde","Elev",0,1.8500711538461541E-3,0,0,8.5384615384615403E-4,0]
[null,917,"Retten i Roskilde","Fleks",0,0,0.56762999999999997,0,0,1]
[null,917,"Retten i Roskilde","Øvrige",1.3244000000000014,1.8334299999999999,0.66419645000000005,1.0000000000000011,1,0.39500000000000002]
[null,917,"Retten i Roskilde","Samlet",9.3283571504796043,11.634247996558152,10.223071504697714,0.14709828906198003,0.17523553263083191,0.15697384323946112]
[null,null,null," - ekskl. fleks og elever",9.3283571504796043,11.632397925404305,9.6554415046977144,0.15762317726419364,0.18273361400233729,0.15249970475909799]
[null,918,"Retten i Hillerød","Jurister",0.72424524992081118,0.63900811286716264,1.6649618189562863,5.5615130019375097E-2,5.4342507621219893E-2,0.12210851544589231]
[null,918,"Retten i Hillerød","Kontor",2.7976289923178879,3.1332539703640654,2.9681312734260188,0.12446613241686681,0.1475672438747398,0.14616166663347738]
[null,918,"Retten i Hillerød","Elev",0.84154890183576614,0.15833650229672822,0.52622813004791247,0.23656889667635547,5.4841040006625201E-2,0.16973896370190258]
[null,918,"Retten i Hillerød","Fleks",0.95992924785269951,0.3825950112387142,1.219130452991842E-2,0.359297987727834,0.16281955189513797,6.1505769168264703E-3]
[null,918,"Retten i Hillerød","Øvrige",1.9614697362472289,2.3013024375054534,3.0136881147298022,0.48793629148946105,0.56128369454800864,0.62330803470737317]
[null,918,"Retten i Hillerød","Samlet",7.284822128174393,6.6144960342721237,8.1852006416899385,0.15923665370099047,0.15626507775865792,0.18662265599800859]
[null,null,null," - ekskl. fleks og elever",6.3248928803216931,6.0735645207366815,7.6467812071121077,0.1387506538808633,0.16374461559278322,0.19719751305628549]
[null,919,"Retten i Helsingør","Jurister",0.88964545589078881,0.95545708061121659,0.73822662869474587,7.0495779335616682E-2,7.2767678322042589E-2,5.4878537013780537E-2]
[null,919,"Retten i Helsingør","Kontor",2.2625572023864993,2.3827787810127234,2.3414162273546086,9.9281252723813745E-2,0.10963798533635132,0.10123594103307197]
[null,919,"Retten i Helsingør","Elev",0,2.6556284042753803E-2,0,0,2.1065047468631058E-2,0]
[null,919,"Retten i Helsingør","Fleks",1.7742368055737987,1.7689218651171779,1.199536288756178,0.58610411888787173,0.58434837327179445,0.52365790127571932]
[null,919,"Retten i Helsingør","Øvrige",2.1278799999999998,2.5564348919564477,2.6409734516164245,0.99999999999999978,0.89858693191671135,0.853308729496289]
[null,919,"Retten i Helsingør","Samlet",7.0543194638510869,7.6901489027403196,6.920152596421957,0.16573316486322553,0.18311539458080175,0.15878136067091383]
[null,null,null," - ekskl. fleks og elever",5.280082658277288,5.8946707535803879,5.7206163076657788,0.14066307905800068,0.15632273267877578,0.1441858362171371]
[null,920,"Retten i Lyngby","Jurister",0.7626459636407954,0.97022583557131881,0.72071787485401728,5.2193305044213496E-2,6.7880096771081047E-2,5.1203568378479065E-2]
[null,920,"Retten i Lyngby","Kontor",3.4902849937224558,3.6850933992574042,3.3936490234955277,0.13697732577425922,0.14206959110275225,0.12856647636251048]
[null,920,"Retten i Lyngby","Elev",1.5086261182180156,1.5275607689994617,1.0512306747547866,0.47638217220257911,0.41849145489498041,0.39188907042941268]
[null,920,"Retten i Lyngby","Fleks",7.5116498802298343E-2,8.6082455132881694E-3,0,8.9545929955294493E-2,1.0273840541948931E-2,0]
[null,920,"Retten i Lyngby","Øvrige",2.3015545750650612,2.9996169073266481,2.5710600784186055,0.90074420686884293,0.95428302155894018,0.99969999999999959]
[null,920,"Retten i Lyngby","Samlet",8.1382281494486257,9.1911051566681223,7.7366576515229362,0.17443955841854389,0.19202847857078048,0.17572790738631086]
[null,null,null," - ekskl. fleks og elever",8.0631116506463272,7.6549361421553721,6.6854269767681505,0.15368846163778668,0.17648186387971404,0.16562635794678179]
[null,921,"Retten i Glostrup","Jurister",2.9081365294401857,1.7868843693808112,2.2195714768791577,9.042977404937165E-2,5.4263675038880188E-2,6.4013057634098147E-2]
[null,921,"Retten i Glostrup","Kontor",6.6870937289391756,6.2732992163460413,6.3195752252118771,0.11972086164403202,0.10961089927925564,0.11173150432382023]
[null,921,"Retten i Glostrup","Elev",0.35835735609105435,0.5892152689179444,1.0427474642116528,0.1122627700284933,0.17647886139877869,0.28956842029293006]
[null,921,"Retten i Glostrup","Fleks",0.76380244835954392,1.0000655030944965,0.74485442097839982,0.21350650702448801,0.30145245444432284,8.3804655252234045E-2]
[null,921,"Retten i Glostrup","Øvrige",5.915960890824663,5.6922792551420525,5.1225821919668855,0.8232803528640581,0.81514025182503314,0.81644143901242616]
[null,921,"Retten i Glostrup","Samlet",16.633350953654624,15.341743612881347,15.449330779247973,0.1631197887073495,0.14779884813700062,0.14402979479006633]
[null,null,null," - ekskl. fleks og elever",15.86954850529508,13.752462840868905,13.661728894057919,0.16293163614397033,0.14156592502702817,0.14010825422448731]
[null,922,"Retten på Frederiksberg","Jurister",0.73551915224429298,1.0274065194731059,1.1469343658714017,2.9503695075891036E-2,4.2890167780441885E-2,4.7239536106391082E-2]
[null,922,"Retten på Frederiksberg","Kontor",4.8650374561518657,2.973816357730827,5.4552204666108226,0.1066978180113712,7.0320725292427833E-2,0.12336721365796986]
[null,922,"Retten på Frederiksberg","Elev",0.31113164334901061,2.5498234518861471E-3,1.1395157292470849E-2,0.11770264599697002,7.7808974952507215E-4,3.6951075092727759E-3]
[null,922,"Retten på Frederiksberg","Fleks",1.3157909127882208,0.56837892167863568,1.0392318719893963,0.279289971299928,0.18989449896216862,0.22174158935310204]
[null,922,"Retten på Frederiksberg","Øvrige",4.6986753750262586,4.3914765542866459,4.8421377740362086,0.83109147325541133,0.88313844207366121,0.73875126425339088]
[null,922,"Retten på Frederiksberg","Samlet",11.926154539559649,8.9636281766210999,12.494919635800301,0.14276950015113124,0.11567997359823005,0.15086199118825441]
[null,null,null," - ekskl. fleks og elever",10.610363626771427,8.392699431490577,11.444292606518433,0.13519643516102464,0.11784806240892115,0.15248285419870647]
[null,923,"Københavns Byret","Jurister",4.5093545670181658,4.2605289095142362,5.4575454845680254,7.5661568321657796E-2,7.0789379879175149E-2,8.6858559306169883E-2]
[null,923,"Københavns Byret","Kontor",16.49064011028495,18.185102857280867,14.004475566780746,0.1452854935051355,0.15537816325236115,0.12549470972273194]
[null,923,"Københavns Byret","Elev",0.10525530112585896,0.37805692857747136,0.13979609901534143,1.7738740659335412E-2,6.1637639695424074E-2,2.6088321887246302E-2]
[null,923,"Københavns Byret","Fleks",0,6.758079856772535E-2,0.40187392209353606,"-",0.24244232670036001,0.61966897767803497]
[null,923,"Københavns Byret","Øvrige",5.2472756227093651,4.6629729879562696,6.1592325206606766,0.50090119512254261,0.59526884119854495,0.67951542279181043]
[null,923,"Københavns Byret","Samlet",26.352525601138339,27.554242481896569,26.162923593118325,0.13905363415818975,0.14390940170689739,0.1395859045361876]
[null,null,null," - ekskl. fleks og elever",26.352525601138339,27.108604754751372,25.621253572009447,0.1429747578369209,0.1464878012489518,0.1412149548042177]
[]
[null,"1) I opgørelsen er årsværksforbrug under kategorierne \"ledelse og administration\", \"hjælpefunktioner\" og \"transporttid\" henført under generel ledelse og administration mv."]

{"sheet":"Aktivitet","index":5,"n_rows":33,"n_cols":19,"rows_kept":33,"cut":false,"hidden":false,"merged":[[6,1,6,2],[32,1,32,18],[3,15,3,16],[3,17,3,18],[3,3,3,4],[3,5,3,6],[3,7,3,8],[3,9,3,10],[3,13,3,14],[3,11,3,12]]}
[]
[null,"AKTIVITET VED RETTEN MÅLT SOM VÆGTEDE AFSLUTTEDE SAGER"]
[]
[null,null,null,"Samlet",null,"Straffesager",null,"Civile sager",null,"Øvrige Fogedsager",null,"Tvangsauktionssager",null,"Insolvensskiftesager",null,"Dødsboskiftesager",null,"Notarialforretninger"]
[null,null,null,{"$f":"Overblik!$D$6","v":2021},{"$f":"Overblik!$E$6","v":2022},{"$f":"Overblik!$D$6","v":2021},{"$f":"Overblik!$E$6","v":2022},{"$f":"Overblik!$D$6","v":2021},{"$f":"Overblik!$E$6","v":2022},{"$f":"Overblik!$D$6","v":2021},{"$f":"Overblik!$E$6","v":2022},{"$f":"Overblik!$D$6","v":2021},{"$f":"Overblik!$E$6","v":2022},{"$f":"Overblik!$D$6","v":2021},{"$f":"Overblik!$E$6","v":2022},{"$f":"Overblik!$D$6","v":2021},{"$f":"Overblik!$E$6","v":2022},{"$f":"Overblik!$D$6","v":2021},{"$f":"Overblik!$E$6","v":2022}]
[]
[null,"SAMLET BYRETTERNE",null,743536,786231,204854,211085,46672,52631,258149,265752.65000000002,7894,8054.670000000001,15096,14950.249999999998,56482,58836.65,131209,149500]
[null,"EID","Ret"]
[null,901,"Retten i Hjørring",22772,22999,5237,5186,1392,1457,9171.26,9061.68,435.27,406.15,652.51,668.11,2340.38,2343.73,3563,4291]
[null,902,"Retten i Aalborg",38604,39835,9159,9558,2825,2835,13845.54,14222.56,391.19,407.54,988.18,1086.6500000000001,3006.07,3079.15,6368,7467]
[null,903,"Retten i Randers",25640,25120,5495,5513,1787,1583,9394.2199999999993,9873.4500000000007,442.86,425.01,830.03,874.17,2478.06,2504.75,5026,5437]
[null,904,"Retten i Aarhus",43380,46214,12638,12901,2625,2976,13184.01,14537.26,233.91,242.06,1424.02,1371.82,2610.08,2932.75,7584,8765]
[null,905,"Retten i Viborg",27005,28346,7095,7375,1651,1736,9457.11,9281.59,242.68,290.89,720.25,771.46,2341.34,2589.4499999999998,5044,6431]
[null,906,"Retten i Holstebro",19807,20105,5824,5663,1069,1091,5867.58,5989.13,313.02999999999997,341.39,406.24,452.87,1787.93,1945.84,4133,5091]
[null,907,"Retten i Herning",22733,23134,7083,6747,1190,1350,6590.17,6400.99,245.32,276.63,502.84,528.87,1759.88,1895.73,4672,5333]
[null,908,"Retten i Horsens",20045,21791,4752,5520,1295,1392,7376.7,6767.04,252.88,225.65,636.16,753.75,1768.3,1766.8,4388,5732]
[null,909,"Retten i Kolding",38841,42308,10473,10912,2525,3114,13895.5,14466.35,401.79,494.96,850.34,803.72,2725.88,2737.67,6887,7154]
[null,910,"Retten i Esbjerg",24701,25425,6898,6699,1388,1593,8552.4699999999993,9111.64,244.2,256.33999999999997,607.74,587.57000000000005,2215.77,2124.5500000000002,3537,4647]
[null,911,"Retten i Sønderborg",30394,32032,9200,8610,1487,2071,11243.78,11651.54,405,353.9,668.54,625.99,2396.1999999999998,2408.8200000000002,4556,5146]
[null,912,"Retten i Odense",43008,44069,11392,11990,2510,2619,15971.52,16693.86,509.28,539.63,1378.21,1052.3699999999999,3374.73,3316.26,6465,7630]
[null,913,"Retten i Svendborg",18432,17900,4155,3895,1120,1071,7725.31,7454.87,302.83999999999997,246.43,487.18,484.35,2023.06,2181.64,3208,3784]
[null,914,"Retten i Nykøbing F.",24542,26837,6258,7064,1347,1559,10640.94,10493.99,721.81,745.92,525.92999999999995,474.06,2239.7600000000002,2386.37,2267,2939]
[null,915,"Retten i Næstved",31288,32658,7532,7956,1860,2141,14573.64,13929.1,380.11,427.56,881.06,753.73,2609.11,2485.5500000000002,4830,5991]
[null,916,"Retten i Holbæk",21816,24066,5216,6363,1346,1489,8855.84,8909.27,356.55,352.88,652.59,568.14,1987.98,1933.31,2702,3230]
[null,917,"Retten i Roskilde",39014,39080,10972,9235,2270,2883,11936.93,12420.34,360.05,357.96,1215.3699999999999,1205.94,3146.8,3146.48,6294,6752]
[null,918,"Retten i Hillerød",21814,23443,5520,5923,1339,1527,7436.81,8130.19,302.99,277.11,676.79,702.71,1946.86,1795.87,4114,5144]
[null,919,"Retten i Helsingør",20906,23365,4822,4702,1500,1696,6611.28,9150.26,253.53,282.60000000000002,689.86,864.06,1901.77,2276.88,2985,3030]
[null,920,"Retten i Lyngby",23008,27343,4277,4710,2140,2848,6040.33,6809.91,97.05,131.84,69.819999999999993,48.27,2456.88,2531.6799999999998,16320,19010]
[null,921,"Retten i Glostrup",55903,55894,16086,16011,3546,3721,24348.3,23064.6,305.27999999999997,312.27999999999997,51.72,63.74,4270.21,4085.1,4206,4634]
[null,922,"Retten på Frederiksberg",37125,42119,12149,13229,2186,2662,14990.8,14940.99,384.5,295.20999999999998,40.89,27.66,1623.29,2754.09,4441,4038]
[null,923,"Københavns Byret",88653,97622,31652,34339,6016,6921,19271.71,21022.85,262.70999999999998,309.79000000000002,52.92,52.92,2885.49,3018.22,16911,16594]
[]
[null,"1) Vægtningen på tværs af sagstyper betyder, at antallet af vægtede sager inden for de enkelte sagområder ikke summer op til det samlede antal vægtede sager."]

{"sheet":"Målopf.Straf","index":6,"n_rows":36,"n_cols":15,"rows_kept":36,"cut":false,"hidden":false,"merged":[[3,13,3,14],[3,11,3,12],[5,11,5,12],[7,7,7,8],[3,9,3,10],[5,9,5,10],[7,9,7,10],[7,11,7,12],[7,13,7,14],[5,13,5,14],[3,3,3,4],[3,5,3,6],[3,7,3,8],[5,3,5,4],[5,5,5,6],[5,7,5,8],[7,1,7,2],[8,1,8,2],[9,1,9,2],[35,1,35,14],[7,3,7,4],[7,5,7,6]]}
[]
[null,"MÅLOPFYLDELSE STRAFFESAGER (80 pct. hurtigste sager)"]
[]
[null,null,null,"Nævninge- og domsmandssager (hfh.)",null,"Tilståelsessager",null,"Sager uden domsmænd - bødesager",null,"Sager uden domsmænd - øvrige",null,"Samlet VVV-sager",null,"Rettens andel af fristoverskridelser"]
[null,null,null,{"$f":"Overblik!$D$6","v":2021},{"$f":"Overblik!$E$6","v":2022},{"$f":"Overblik!$D$6","v":2021},{"$f":"Overblik!$E$6","v":2022},{"$f":"Overblik!$D$6","v":2021},{"$f":"Overblik!$E$6","v":2022},{"$f":"Overblik!$D$6","v":2021},{"$f":"Overblik!$E$6","v":2022},{"$f":"Overblik!$D$6","v":2021},{"$f":"Overblik!$E$6","v":2022},{"$f":"Overblik!$D$6","v":2021},{"$f":"Overblik!$E$6","v":2022}]
[null,null,null,"80 pct.",null,"80 pct.",null,"80 pct.",null,"80 pct.",null,"< 37 dage"]
[]
[null,"MÅL",null,"< 88 dage",null,"< 43 dage",null,"< 10 dage",null,"< 93 dage",null,"59 pct.",null,"16 pct."]
[null,"SAMLET BYRETTERNE",null,136,152,66,62,4,4,145,170,0.4,0.35,0.24,0.26]
[null,"5. BEDSTE RET",null,96,{"$f":"SMALL(E12:E34,5)","v":122},37,{"$f":"SMALL(G12:G34,5)","v":41},2,{"$f":"SMALL(I12:I34,5)","v":2},{"$f":"SMALL(J12:J34,5)","v":104},{"$f":"SMALL(K12:K34,5)","v":103},{"$f":"LARGE(L12:L34,5)","v":0.5},{"$f":"LARGE(M12:M34,5)","v":0.46},0.1,{"$f":"SMALL(O12:O34,5)","v":0.13}]
[null,"EID","Ret"]
[null,901,"Retten i Hjørring",126,117,71,55,5,5,138,173,0.42,0.34,0.21,0.22]
[null,902,"Retten i Aalborg",121,134,58,66,4,3,133,163,0.28999999999999998,0.23,0.01,0.02]
[null,903,"Retten i Randers",137,130,96,115,7,7,185,178,0.56000000000000005,0.37,0.28999999999999998,0.22]
[null,904,"Retten i Aarhus",213,266,144,144,10,11,356,463,0.45,0.51,0.24,0.3]
[null,905,"Retten i Viborg",157,221,73,68,6,4,123,121,0.67,0.42,0,0.13]
[null,906,"Retten i Holstebro",115,101,37,26,3,4,102,70,0.48,0.41,0.55000000000000004,0.38]
[null,907,"Retten i Herning",96,122,76,89,1,1,112,136,0.61,0.34,0.11,0.23]
[null,908,"Retten i Horsens",222,266,120,176,6,8,213,218,0.27,0.21,0.68,0.79]
[null,909,"Retten i Kolding",183,147,142,67,6,3,284,268,0.5,0.51,0.16,0.05]
[null,910,"Retten i Esbjerg",183,228,26,36,3,3,185,147,0.33,0.35,0.34,0.35]
[null,911,"Retten i Sønderborg",147,164,65,63,10,10,116,141,0.48,0.31,0.43,0.49]
[null,912,"Retten i Odense",146,110,99,43,2,2,125,81,0.23,0.27,0.35,0.19]
[null,913,"Retten i Svendborg",91,126,55,78,8,16,77,163,0.61,0.37,0.11,0.11]
[null,914,"Retten i Nykøbing F.",65,69,29,36,3,2,37,54,0.49,0.5,0.04,0.14000000000000001]
[null,915,"Retten i Næstved",84,124,39,41,2,2,102,103,0.46,0.56999999999999995,0.17,0.2]
[null,916,"Retten i Holbæk",142,184,42,80,4,6,128,243,0.32,0.2,0.28000000000000003,0.32]
[null,917,"Retten i Roskilde",122,151,37,31,2,1,108,185,0.18,0.28999999999999998,0.25,0.22]
[null,918,"Retten i Hillerød",117,165,76,70,13,7,130,182,0.35,0.38,0.37,0.3]
[null,919,"Retten i Helsingør",134,150,72,63,2,3,104,89,0.4,0.28000000000000003,0.12,0.12]
[null,920,"Retten i Lyngby",122,142,82,51,1,2,119,113,0.4,0.21,0.28999999999999998,0.28999999999999998]
[null,921,"Retten i Glostrup",204,265,82,74,16,15,308,290,0.2,0.08,0.1,0.19]
[null,922,"Retten på Frederiksberg",132,195,51,64,8,6,158,232,0.1,0.13,0.43,0.56999999999999995]
[null,923,"Københavns Byret",153,156,64,46,1,1,193,248,0.45,0.46,0.19,0.16]
[]
[null,"1) Målene for de enkelte sagstyper er opstillet i samarbejde med byretterne. De aktuelle mål trådte i kraft i 2021."]

{"sheet":"Målopf.VVV","index":7,"n_rows":35,"n_cols":11,"rows_kept":35,"cut":false,"hidden":false,"merged":[[34,1,34,10],[3,3,3,4],[3,5,3,6],[3,7,3,8],[3,9,3,10],[5,3,5,4],[5,5,5,6],[5,7,5,8],[5,9,5,10],[7,1,7,2],[8,1,8,2]]}
[]
[null,"MÅLOPFYLDELSE VVV-SAGER (PROCENT)"]
[]
[null,null,null,"Voldssager",null,"Voldtægtssager",null,"Våbensager",null,"Fast-track sager om ungdomskriminalitet"]
[null,null,null,{"$f":"Overblik!$D$6","v":2021},{"$f":"Overblik!$E$6","v":2022},{"$f":"Overblik!$D$6","v":2021},{"$f":"Overblik!$E$6","v":2022},{"$f":"Overblik!$D$6","v":2021},{"$f":"Overblik!$E$6","v":2022},{"$f":"Overblik!$D$6","v":2021},{"$f":"Overblik!$E$6","v":2022}]
[null,null,null,"<37 dage",null,"<37 dage",null,"<37 dage",null,"<37 dage"]
[]
[null,"SAMLET BYRETTERNE",null,0.38,0.35,0.34,0.24,0.51,0.43,0.46,0.39]
[null,"5. BEDSTE RET",null,0.57999999999999996,{"$f":"LARGE(E11:E33,5)","v":0.45},{"$f":"LARGE(F11:F33,5)","v":0.56000000000000005},{"$f":"LARGE(G11:G33,5)","v":0.4},{"$f":"LARGE(H11:H33,5)","v":0.68},{"$f":"LARGE(I11:I33,5)","v":0.6},0.72,{"$f":"LARGE(K11:K33,5)","v":0.56999999999999995}]
[null,"EID","Ret"]
[null,901,"Retten i Hjørring",0.35,0.35,0.38,0.13,0.83,0.38,0.52,0.49]
[null,902,"Retten i Aalborg",0.24,0.23,0.38,0.2,0.41,0.26,0.27,0.12]
[null,903,"Retten i Randers",0.59,0.37,0.2,0.4,0.52,0.27,0.73,0.5]
[null,904,"Retten i Aarhus",0.45,0.51,0.22,0,0.61,0.55000000000000004,0.44,0.35]
[null,905,"Retten i Viborg",0.65,0.45,0.71,0.09,0.89,0.42,0.78,0.45]
[null,906,"Retten i Holstebro",0.43,0.42,0.44,0.19,0.73,0.53,0.67,0.65]
[null,907,"Retten i Herning",0.65,0.33,0.5,0.15,0.38,0.64,0.73,0.51]
[null,908,"Retten i Horsens",0.26,0.2,0.5,0.17,0.25,0.25,0.53,0.18]
[null,909,"Retten i Kolding",0.49,0.5,0.56000000000000005,0.45,0.55000000000000004,0.6,0.72,0.57999999999999996]
[null,910,"Retten i Esbjerg",0.31,0.36,0.27,0.4,0.44,0.31,0.54,0.52]
[null,911,"Retten i Sønderborg",0.47,0.28999999999999998,0.56000000000000005,0.3,0.46,0.5,0.61,0.26]
[null,912,"Retten i Odense",0.21,0.26,0.14000000000000001,0.27,0.4,0.4,0.18,0.34]
[null,913,"Retten i Svendborg",0.57999999999999996,0.37,0.63,0.5,1,0.17,0.61,0.56999999999999995]
[null,914,"Retten i Nykøbing F.",0.46,0.44,0.6,0.78,0.67,0.64,0.56999999999999995,0.49]
[null,915,"Retten i Næstved",0.41,0.56000000000000005,0.6,0.43,0.63,0.67,0.55000000000000004,0.76]
[null,916,"Retten i Holbæk",0.28999999999999998,0.15,0.5,0.33,0.43,0.39,0.25,0.3]
[null,917,"Retten i Roskilde",0.12,0.26,0.3,0.31,0.54,0.54,0.22,0.33]
[null,918,"Retten i Hillerød",0.27,0.38,0.27,0.3,0.68,0.42,0.5,0.46]
[null,919,"Retten i Helsingør",0.36,0.28999999999999998,0.33,0.13,0.63,0.5,0.5,0.6]
[null,920,"Retten i Lyngby",0.39,0.2,0,0.14000000000000001,0.5,1,0.42,0.16]
[null,921,"Retten i Glostrup",0.19,0.05,0,0.12,0.3,0.18,0.19,0.05]
[null,922,"Retten på Frederiksberg",0.1,0.15,0,0.05,0.14000000000000001,0.08,0.14000000000000001,0.28999999999999998]
[null,923,"Københavns Byret",0.43,0.45,0.19,0,0.59,0.57999999999999996,0.42,0.53]
[]
[null,"1) Målene for voldssager, voldtægtssager, våbensager og fast-track sager om ungdomskriminalitet er fastsat eksternt."]

{"sheet":"Målopf.Civil","index":8,"n_rows":36,"n_cols":17,"rows_kept":36,"cut":false,"hidden":false,"merged":[[7,7,7,8],[7,11,7,12],[7,15,7,16],[7,13,7,14],[3,15,3,16],[5,15,5,16],[3,11,3,12],[5,11,5,12],[3,13,3,14],[5,13,5,14],[35,1,35,10],[5,9,5,10],[3,3,3,4],[3,5,3,6],[3,7,3,8],[3,9,3,10],[5,3,5,4],[5,5,5,6],[5,7,5,8],[7,3,7,4],[7,9,7,10],[7,1,7,2],[8,1,8,2],[9,1,9,2],[5,1,5,2],[7,5,7,6]]}
[]
[null,"MÅLOPFYLDELSE CIVILE SAGER (80 pct. hurtigste sager)"]
[]
[null,null,null,"Alle alm. sager, boligsager og småsager",null,"Hfh. almindelige sager og boligsager",null,"Hfh. småsager",null,"Familieret - §6- og 7-sager",null,"Familieret - prøvelsessager efter forenklet proces",null,"Tvangsfuldbyrdelses-\nsager - forældreansvarsloven",null,"Konkurskarantæne-\nsager"]
[null,null,null,{"$f":"Overblik!$D$6","v":2021},{"$f":"Overblik!$E$6","v":2022},{"$f":"Overblik!$D$6","v":2021},{"$f":"Overblik!$E$6","v":2022},{"$f":"Overblik!$D$6","v":2021},{"$f":"Overblik!$E$6","v":2022},{"$f":"Overblik!$D$6","v":2021},{"$f":"Overblik!$E$6","v":2022},{"$f":"Overblik!$D$6","v":2021},{"$f":"Overblik!$E$6","v":2022},{"$f":"Overblik!$D$6","v":2021},{"$f":"Overblik!$E$6","v":2022},{"$f":"Overblik!$D$6","v":2021},{"$f":"Overblik!$E$6","v":2022}]
[null,null,null,"80 pct.",null,"80 pct.",null,"80 pct.",null,"80 pct.",null,"80 pct.",null,"80 pct.",null,"80 pct."]
[]
[null,"MÅL",null,"< 122 dage",null,"< 426 dage",null,"< 213 dage",null,"< 120 dage",null,"< 70 dage",null,"< 30 dage",null,"< 120 dage"]
[null,"SAMLET BYRETTERNE",null,123,128,463,497,359,413,122,137,48,47,15,14,91,96]
[null,"5. BEDSTE RET",null,95,{"$f":"SMALL(E12:E34,5)","v":89},391,{"$f":"SMALL(G12:G34,5)","v":429},193,{"$f":"SMALL(I12:I34,5)","v":213},98,{"$f":"SMALL(K12:K34,5)","v":121},32,{"$f":"SMALL(M12:M34,5)","v":31},11,{"$f":"SMALL(O12:O34,5)","v":11},62,{"$f":"SMALL(Q12:Q34,5)","v":64}]
[null,"EID","Ret"]
[null,901,"Retten i Hjørring",101,88,406,401,208,218,142,130,50,53,20,20,110,106]
[null,902,"Retten i Aalborg",120,89,523,507,278,190,153,123,78,66,19,14,153,94]
[null,903,"Retten i Randers",139,98,506,545,395,393,131,121,40,30,9,12,87,136]
[null,904,"Retten i Aarhus",127,115,659,693,281,291,156,153,29,16,15,13,79,84]
[null,905,"Retten i Viborg",159,146,537,567,261,202,141,141,105,50,19,12,129,90]
[null,906,"Retten i Holstebro",99,88,452,379,129,129,109,130,42,45,10,7,65,93]
[null,907,"Retten i Herning",97,99,327,482,193,227,95,127,28,29,12,9,62,99]
[null,908,"Retten i Horsens",144,139,467,622,223,300,129,168,63,92,11,13,152,137]
[null,909,"Retten i Kolding",187,121,543,535,440,318,119,130,49,52,12,17,109,158]
[null,910,"Retten i Esbjerg",149,147,615,612,331,354,126,117,31,41,18,16,167,95]
[null,911,"Retten i Sønderborg",81,102,358,429,212,293,127,142,42,60,23,22,89,137]
[null,912,"Retten i Odense",113,97,445,504,236,213,119,108,26,31,8,7,89,92]
[null,913,"Retten i Svendborg",113,94,401,441,353,332,135,125,35,29,9,12,110,83]
[null,914,"Retten i Nykøbing F.",60,66,316,334,138,150,88,101,41,42,11,10,70,64]
[null,915,"Retten i Næstved",56,76,461,452,169,228,132,151,46,45,20,11,94,100]
[null,916,"Retten i Holbæk",118,114,491,583,298,306,109,138,61,62,13,13,116,106]
[null,917,"Retten i Roskilde",95,118,456,517,305,341,150,159,67,44,17,12,63,65]
[null,918,"Retten i Hillerød",102,116,419,483,298,278,143,187,49,52,20,17,70,133]
[null,919,"Retten i Helsingør",120,118,515,499,339,249,99,143,38,40,18,21,94,109]
[null,920,"Retten i Lyngby",113,110,391,404,196,230,98,125,43,58,32,27,"-",8]
[null,921,"Retten i Glostrup",99,132,499,586,214,296,122,194,66,57,17,24,6,6]
[null,922,"Retten på Frederiksberg",109,126,452,495,218,231,96,107,58,82,21,18,8,10]
[null,923,"Københavns Byret",165,204,451,479,473,606,125,143,59,51,12,11,19,8]
[]
[null,"1) Målene for de enkelte sagstyper er opstillet i samarbejde med byretterne. De aktuelle mål trådte i kraft i 2021."]

{"sheet":"Målopf.Foged","index":9,"n_rows":36,"n_cols":9,"rows_kept":36,"cut":false,"hidden":false,"merged":[[9,1,9,2],[7,5,7,6],[7,7,7,8],[35,1,35,8],[3,3,3,4],[3,5,3,6],[3,7,3,8],[5,3,5,4],[5,5,5,6],[5,7,5,8],[7,1,7,2],[8,1,8,2],[7,3,7,4]]}
[]
[null,"MÅLOPFYLDELSE FOGEDSAGER (PROCENT)"]
[]
[null,null,null,"Alm. fogedsager og betalingspåkrav",null,"Særlige fogedsager",null,"Tvangsauktion solgt på eller efter 1. auktion"]
[null,null,null,{"$f":"Overblik!$D$6","v":2021},{"$f":"Overblik!$E$6","v":2022},{"$f":"Overblik!$D$6","v":2021},{"$f":"Overblik!$E$6","v":2022},{"$f":"Overblik!$D$6","v":2021},{"$f":"Overblik!$E$6","v":2022}]
[null,null,null,"< 3 MDR.",null,"< 2 MDR.",null,"< 5 MDR."]
[]
[null,"MÅL",null,"70 pct.",null,"70 pct.",null,"80 pct."]
[null,"SAMLET BYRETTERNE",null,0.7,0.77,0.74,0.8,0.77,0.83]
[null,"5. BEDSTE RET",null,0.85,{"$f":"LARGE(E12:E34,5)","v":0.86},0.81,{"$f":"LARGE(G12:G34,5)","v":0.88},0.93,{"$f":"LARGE(I12:I34,5)","v":0.94}]
[null,"EID","Ret"]
[null,901,"Retten i Hjørring",0.6,0.72,0.66,0.8,0.74,0.76]
[null,902,"Retten i Aalborg",0.83,0.75,0.7,0.77,0.78,0.83]
[null,903,"Retten i Randers",0.5,0.78,0.5,0.73,0.28000000000000003,0.73]
[null,904,"Retten i Aarhus",0.8,0.79,0.89,0.92,1,0.4]
[null,905,"Retten i Viborg",0.49,0.74,0.74,0.81,0.51,0.85]
[null,906,"Retten i Holstebro",0.94,0.88,0.93,0.89,0.95,0.94]
[null,907,"Retten i Herning",0.78,0.88,0.81,0.86,0.83,0.85]
[null,908,"Retten i Horsens",0.63,0.84,0.74,0.88,0.63,0.89]
[null,909,"Retten i Kolding",0.73,0.81,0.74,0.86,0.66,0.77]
[null,910,"Retten i Esbjerg",0.87,0.85,0.77,0.76,0.81,0.78]
[null,911,"Retten i Sønderborg",0.72,0.72,0.7,0.76,0.74,0.73]
[null,912,"Retten i Odense",0.38,0.68,0.71,0.74,0.72,0.83]
[null,913,"Retten i Svendborg",0.68,0.6,0.71,0.73,0.91,0.79]
[null,914,"Retten i Nykøbing F.",0.87,0.91,0.83,0.92,0.87,0.95]
[null,915,"Retten i Næstved",0.82,0.86,0.79,0.88,0.74,0.88]
[null,916,"Retten i Holbæk",0.83,0.85,0.69,0.74,0.93,0.92]
[null,917,"Retten i Roskilde",0.85,0.87,0.75,0.87,0.79,0.95]
[null,918,"Retten i Hillerød",0.35,0.69,0.49,0.71,0.5,1]
[null,919,"Retten i Helsingør",0.62,0.66,0.71,0.74,0.64,0.73]
[null,920,"Retten i Lyngby",0.84,0.85,0.74,0.89,0,1]
[null,921,"Retten i Glostrup",0.66,0.6,0.8,0.7,0.67,0.5]
[null,922,"Retten på Frederiksberg",0.74,0.84,0.67,0.77,0.98,0.75]
[null,923,"Københavns Byret",0.66,0.76,0.67,0.82,0.2,0.5]
[]
[null,"1) Målene for de enkelte sagstyper er opstillet i samarbejde med byretterne. De aktuelle mål trådte i kraft i 2019."]

{"sheet":"Målopf.Skifte","index":10,"n_rows":36,"n_cols":9,"rows_kept":36,"cut":false,"hidden":false,"merged":[[7,3,7,4],[35,1,35,8],[3,3,3,4],[3,5,3,6],[3,7,3,8],[5,3,5,4],[5,5,5,6],[5,7,5,8],[7,5,7,6],[7,7,7,8],[7,1,7,2],[8,1,8,2],[9,1,9,2]]}
[]
[null,"MÅLOPFYLDELSE SKIFTESAGER (PROCENT)"]
[]
[null,null,null,"Udlevering af bo",null,"Tvangsopløsningssager \n(eksklusive likvidation)",null,"Gældssanering \n(kun indledte sager)"]
[null,null,null,{"$f":"Overblik!$D$6","v":2021},{"$f":"Overblik!$E$6","v":2022},{"$f":"Overblik!$D$6","v":2021},{"$f":"Overblik!$E$6","v":2022},{"$f":"Overblik!$D$6","v":2021},{"$f":"Overblik!$E$6","v":2022}]
[null,null,null,"<2 MDR.",null,"<3 MDR.",null,"<9 MDR."]
[]
[null,"MÅL",null,"80 pct.",null,"75 pct.",null,"75 pct."]
[null,"SAMLET BYRETTERNE",null,0.81,0.78,0.81,0.85,0.81,0.78]
[null,"5. BEDSTE RET",null,0.88,{"$f":"LARGE(E12:E34,5)","v":0.88},0.93,{"$f":"LARGE(G12:G34,5)","v":0.9},0.88,{"$f":"LARGE(I12:I34,5)","v":0.84}]
[null,"EID","Ret"]
[null,901,"Retten i Hjørring",0.81,0.74,0.84,0.87,0.94,0.77]
[null,902,"Retten i Aalborg",0.72,0.45,0.76,0.82,0.86,0.73]
[null,903,"Retten i Randers",0.84,0.89,0.59,0.89,0.81,0.78]
[null,904,"Retten i Aarhus",0.68,0.71,0.9,0.85,0.84,0.84]
[null,905,"Retten i Viborg",0.56999999999999995,0.78,0.64,0.98,0.88,0.7]
[null,906,"Retten i Holstebro",0.9,0.82,0.96,0.85,0.91,0.95]
[null,907,"Retten i Herning",0.79,0.76,0.8,0.9,0.86,0.72]
[null,908,"Retten i Horsens",0.69,0.73,0.83,0.94,0.83,0.69]
[null,909,"Retten i Kolding",0.88,0.84,0.86,0.66,0.59,0.85]
[null,910,"Retten i Esbjerg",0.9,0.92,0.77,0.77,0.75,0.79]
[null,911,"Retten i Sønderborg",0.83,0.69,0.7,0.83,0.92,0.8]
[null,912,"Retten i Odense",0.78,0.76,0.93,0.91,0.87,0.84]
[null,913,"Retten i Svendborg",0.85,0.81,0.72,0.78,0.76,0.69]
[null,914,"Retten i Nykøbing F.",0.92,0.91,0.9,0.85,0.83,0.87]
[null,915,"Retten i Næstved",0.86,0.81,0.97,0.83,0.86,0.94]
[null,916,"Retten i Holbæk",0.83,0.88,0.85,0.86,0.78,0.83]
[null,917,"Retten i Roskilde",0.85,0.88,0.84,0.87,0.82,0.79]
[null,918,"Retten i Hillerød",0.87,0.85,0.84,0.91,0.81,0.69]
[null,919,"Retten i Helsingør",0.84,0.82,0.96,0.84,0.6,0.71]
[null,920,"Retten i Lyngby",0.86,0.87,"-","-","-","-"]
[null,921,"Retten i Glostrup",0.83,0.76,"-","-","-","-"]
[null,922,"Retten på Frederiksberg",0.65,0.49,"-","-","-","-"]
[null,923,"Københavns Byret",0.84,0.82,"-","-","-","-"]
[]
[null,"1) Målene for de enkelte sagstyper er opstillet i samarbejde med byretterne. De aktuelle mål trådte i kraft i 2019."]

{"sheet":"Sagstid.Straf","index":11,"n_rows":31,"n_cols":11,"rows_kept":31,"cut":false,"hidden":false,"merged":[[6,1,6,2],[3,3,3,4],[3,5,3,6],[3,7,3,8],[3,9,3,10],[5,1,5,2]]}
[]
[null,"GENNEMSNITLIG SAGSBEHANDLINGSTID STRAFFESAGER (DAGE)"]
[]
[null,null,null,"Nævningesager",null,"Domsmandssager",null,"Sager uden domsmænd",null,"Tilståelsessager"]
[null,null,null,{"$f":"Overblik!$D$6","v":2021},{"$f":"Overblik!$E$6","v":2022},{"$f":"Overblik!$D$6","v":2021},{"$f":"Overblik!$E$6","v":2022},{"$f":"Overblik!$D$6","v":2021},{"$f":"Overblik!$E$6","v":2022},{"$f":"Overblik!$D$6","v":2021},{"$f":"Overblik!$E$6","v":2022}]
[null,"SAMLET BYRETTERNE",null,244,242,222,255,40,42,132,124]
[null,"5. BEDSTE RET",null,118,{"$f":"SMALL(E9:E31,5)","v":136},154,{"$f":"SMALL(G9:G31,5)","v":178},21,{"$f":"SMALL(I9:I31,5)","v":21},71,{"$f":"SMALL(K9:K31,5)","v":71}]
[null,"EID","Ret"]
[null,901,"Retten i Hjørring",141,131,196,182,42,44,106,92]
[null,902,"Retten i Aalborg",2,209,189,206,37,35,94,110]
[null,903,"Retten i Randers",207,257,229,222,54,49,163,176]
[null,904,"Retten i Aarhus",176,262,358,437,69,88,261,248]
[null,905,"Retten i Viborg",164,229,239,307,52,33,130,124]
[null,906,"Retten i Holstebro",162,143,171,151,29,21,65,66]
[null,907,"Retten i Herning",162,162,140,176,38,33,116,136]
[null,908,"Retten i Horsens",290,171,314,412,55,81,211,248]
[null,909,"Retten i Kolding",192,117,270,245,59,52,214,146]
[null,910,"Retten i Esbjerg",183,186,301,367,70,50,61,64]
[null,911,"Retten i Sønderborg",131,188,239,260,55,64,111,105]
[null,912,"Retten i Odense",302,287,195,174,36,20,146,71]
[null,913,"Retten i Svendborg",101,136,154,190,43,48,88,116]
[null,914,"Retten i Nykøbing F.",99,136,103,106,12,13,50,54]
[null,915,"Retten i Næstved",118,232,139,178,21,16,84,79]
[null,916,"Retten i Holbæk",216,279,202,286,28,41,71,134]
[null,917,"Retten i Roskilde",153,233,181,229,29,45,75,53]
[null,918,"Retten i Hillerød",144,221,181,239,32,33,116,129]
[null,919,"Retten i Helsingør",280,113,190,227,21,24,118,112]
[null,920,"Retten i Lyngby",170,212,164,204,18,17,115,96]
[null,921,"Retten i Glostrup",257,304,285,370,57,64,152,143]
[null,922,"Retten på Frederiksberg",219,266,189,274,32,38,94,124]
[null,923,"Københavns Byret",498,304,241,262,29,42,147,105]

{"sheet":"Sagstid.Civil","index":12,"n_rows":32,"n_cols":11,"rows_kept":32,"cut":false,"hidden":false,"merged":[[6,1,6,2],[3,3,3,4],[3,5,3,6],[3,7,3,8],[3,9,3,10],[5,1,5,2]]}
[]
[null,"GENNEMSNITLIG SAGSBEHANDLINGSTID CIVILE SAGER (DAGE)"]
[]
[null,null,null,"Hovedforhandlede almindelige sager",null,"Hovedforhandlede boligretssager",null,"Hovedforhandlede småsager",null,"Hovedforhandlede §§ 6 og 7-sager"]
[null,null,null,{"$f":"Overblik!$D$6","v":2021},{"$f":"Overblik!$E$6","v":2022},{"$f":"Overblik!$D$6","v":2021},{"$f":"Overblik!$E$6","v":2022},{"$f":"Overblik!$D$6","v":2021},{"$f":"Overblik!$E$6","v":2022},{"$f":"Overblik!$D$6","v":2021},{"$f":"Overblik!$E$6","v":2022}]
[null,"SAMLET BYRETTERNE",null,626,668,591,566,440,529,202,224]
[null,"5. BEDSTE RET",null,526,{"$f":"SMALL(E9:E31,5)","v":594},401,{"$f":"SMALL(G9:G31,5)","v":408},229,{"$f":"SMALL(I9:I31,5)","v":252},172,{"$f":"SMALL(K9:K31,5)","v":199}]
[null,"EID","Ret"]
[null,901,"Retten i Hjørring",578,554,401,305,249,264,210,223]
[null,902,"Retten i Aalborg",664,669,630,528,329,252,224,233]
[null,903,"Retten i Randers",639,704,642,771,512,562,216,200]
[null,904,"Retten i Aarhus",844,913,872,940,354,391,257,234]
[null,905,"Retten i Viborg",685,716,523,538,287,251,215,199]
[null,906,"Retten i Holstebro",710,529,475,572,167,172,188,212]
[null,907,"Retten i Herning",494,695,396,594,239,256,160,213]
[null,908,"Retten i Horsens",632,782,550,709,319,392,203,233]
[null,909,"Retten i Kolding",706,694,771,617,512,369,187,213]
[null,910,"Retten i Esbjerg",814,832,644,507,422,413,181,193]
[null,911,"Retten i Sønderborg",551,594,258,540,335,329,192,206]
[null,912,"Retten i Odense",572,656,1210,403,298,250,198,175]
[null,913,"Retten i Svendborg",517,606,626,572,492,397,184,229]
[null,914,"Retten i Nykøbing F.",425,501,282,332,161,180,123,165]
[null,915,"Retten i Næstved",571,651,779,441,208,268,217,240]
[null,916,"Retten i Holbæk",612,714,584,408,363,346,203,209]
[null,917,"Retten i Roskilde",646,628,423,509,369,412,262,286]
[null,918,"Retten i Hillerød",535,615,527,637,368,338,238,299]
[null,919,"Retten i Helsingør",651,659,406,489,397,332,178,227]
[null,920,"Retten i Lyngby",526,556,473,371,229,279,163,203]
[null,921,"Retten i Glostrup",657,739,661,716,287,377,216,284]
[null,922,"Retten på Frederiksberg",611,671,564,545,289,310,172,181]
[null,923,"Københavns Byret",619,647,501,549,539,703,230,246]
[null,null,null,null,13302]

{"sheet":"Sagstid.Foged","index":13,"n_rows":31,"n_cols":11,"rows_kept":31,"cut":false,"hidden":false,"merged":[[6,1,6,2],[3,3,3,4],[3,5,3,6],[3,7,3,8],[3,9,3,10],[5,1,5,2]]}
[]
[null,"GENNEMSNITLIG SAGSBEHANDLINGSTID FOGEDSAGER (DAGE)"]
[]
[null,null,null,"Alm. fogedsager",null,"Særlige fogedsager",null,"Betalingspåkrav",null,"Tvangsauktioner"]
[null,null,null,{"$f":"Overblik!$D$6","v":2021},{"$f":"Overblik!$E$6","v":2022},{"$f":"Overblik!$D$6","v":2021},{"$f":"Overblik!$E$6","v":2022},{"$f":"Overblik!$D$6","v":2021},{"$f":"Overblik!$E$6","v":2022},{"$f":"Overblik!$D$6","v":2021},{"$f":"Overblik!$E$6","v":2022}]
[null,"SAMLET BYRETTERNE",null,94,82,56,46,66,64,73,70]
[null,"5. BEDSTE RET",null,67,{"$f":"SMALL(E9:E31,5)","v":62},41,{"$f":"SMALL(G9:G31,5)","v":37},45,{"$f":"SMALL(I9:I31,5)","v":51},53,{"$f":"SMALL(K9:K31,5)","v":56.42}]
[null,"EID","Ret"]
[null,901,"Retten i Hjørring",88,84,58,55,49,51,80,80.16]
[null,902,"Retten i Aalborg",68,77,58,50,66,54,109,95.77]
[null,903,"Retten i Randers",113,89,89,51,74,98,95,73.709999999999994]
[null,904,"Retten i Aarhus",93,93,33,35,104,89,55,80.13]
[null,905,"Retten i Viborg",114,103,47,52,66,76,83,69.72]
[null,906,"Retten i Holstebro",37,50,31,35,35,53,52,50.19]
[null,907,"Retten i Herning",72,62,41,40,47,51,57,59.27]
[null,908,"Retten i Horsens",92,62,47,37,79,56,97,59.59]
[null,909,"Retten i Kolding",78,69,54,45,79,67,87,89.75]
[null,910,"Retten i Esbjerg",54,62,54,48,60,65,69,74.22]
[null,911,"Retten i Sønderborg",108,144,50,47,65,77,105,116.84]
[null,912,"Retten i Odense",132,106,61,52,86,67,63,56.45]
[null,913,"Retten i Svendborg",95,102,50,56,79,74,80,97.67]
[null,914,"Retten i Nykøbing F.",67,53,38,37,53,51,60,46.85]
[null,915,"Retten i Næstved",82,68,46,36,68,58,69,62.02]
[null,916,"Retten i Holbæk",75,71,56,51,45,46,56,57.13]
[null,917,"Retten i Roskilde",67,60,64,47,42,35,63,56.42]
[null,918,"Retten i Hillerød",175,101,66,67,56,53,53,50.59]
[null,919,"Retten i Helsingør",115,107,59,57,67,62,72,59.15]
[null,920,"Retten i Lyngby",67,58,55,34,34,36,38,34.159999999999997]
[null,921,"Retten i Glostrup",129,92,49,48,68,80,45,59.28]
[null,922,"Retten på Frederiksberg",100,64,76,46,49,50,85,66.87]
[null,923,"Københavns Byret",88,73,73,49,80,72,60,114.57]

{"sheet":"Sagstid.Skifte","index":14,"n_rows":31,"n_cols":11,"rows_kept":31,"cut":false,"hidden":false,"merged":[[6,1,6,2],[3,3,3,4],[3,5,3,6],[3,7,3,8],[3,9,3,10],[5,1,5,2]]}
[]
[null,"GENNEMSNITLIG SAGSBEHANDLINGSTID SKIFTESAGER (DAGE)"]
[]
[null,null,null,"Boudlæg",null,"Uskiftet bo",null,"Privat skifte",null,"Forenklet privat skifte"]
[null,null,null,{"$f":"Overblik!$D$6","v":2021},{"$f":"Overblik!$E$6","v":2022},{"$f":"Overblik!$D$6","v":2021},{"$f":"Overblik!$E$6","v":2022},{"$f":"Overblik!$D$6","v":2021},{"$f":"Overblik!$E$6","v":2022},{"$f":"Overblik!$D$6","v":2021},{"$f":"Overblik!$E$6","v":2022}]
[null,"SAMLET BYRETTERNE",null,46,49,93,96,336,342,71,78]
[null,"5. BEDSTE RET",null,33,{"$f":"SMALL(E9:E31,5)","v":35},82,{"$f":"SMALL(G9:G31,5)","v":86},316,{"$f":"SMALL(I9:I31,5)","v":310},57,{"$f":"SMALL(K9:K31,5)","v":65}]
[null,"EID","Ret"]
[null,901,"Retten i Hjørring",50,60,85,93,334,310,71,81]
[null,902,"Retten i Aalborg",52,67,87,105,339,366,85,107]
[null,903,"Retten i Randers",49,35,97,73,346,316,67,63]
[null,904,"Retten i Aarhus",61,61,104,111,396,404,76,80]
[null,905,"Retten i Viborg",72,44,107,87,372,335,93,65]
[null,906,"Retten i Holstebro",39,53,64,89,314,348,52,68]
[null,907,"Retten i Herning",49,53,82,94,338,342,72,83]
[null,908,"Retten i Horsens",64,63,114,123,387,364,82,81]
[null,909,"Retten i Kolding",29,32,82,93,337,350,57,82]
[null,910,"Retten i Esbjerg",29,28,83,88,314,304,44,47]
[null,911,"Retten i Sønderborg",51,69,101,108,317,339,73,86]
[null,912,"Retten i Odense",54,57,82,86,329,329,75,74]
[null,913,"Retten i Svendborg",46,43,84,86,354,342,84,78]
[null,914,"Retten i Nykøbing F.",33,33,51,51,316,291,53,56]
[null,915,"Retten i Næstved",37,47,90,103,316,323,57,73]
[null,916,"Retten i Holbæk",32,31,83,75,344,318,63,63]
[null,917,"Retten i Roskilde",41,38,98,100,325,308,63,67]
[null,918,"Retten i Hillerød",37,46,93,103,322,334,72,94]
[null,919,"Retten i Helsingør",40,38,118,111,321,327,79,79]
[null,920,"Retten i Lyngby",39,38,124,121,344,340,65,73]
[null,921,"Retten i Glostrup",52,54,117,121,320,321,78,90]
[null,922,"Retten på Frederiksberg",60,77,122,112,416,505,104,122]
[null,923,"Københavns Byret",41,42,90,96,307,308,69,85]

{"sheet":"HR-nøgletal_lønsum","index":15,"n_rows":36,"n_cols":9,"rows_kept":36,"cut":false,"hidden":false,"merged":[[3,3,3,4],[3,5,3,6],[3,7,3,8],[35,1,35,8],[33,1,33,8],[34,1,34,8],[32,1,32,8],[5,1,5,2],[6,1,6,2],[31,1,31,8]]}
[]
[null,"UDVALGTE HR-NØGLETAL"]
[]
[null,null,null,"Gnst. antal sygedage pr. ansat",null,"Personaleomsætning (%)",null,"Lønsumsforbrug (mio.) 2022-pl"]
[null,null,null,{"$f":"Overblik!$D$6","v":2021},{"$f":"Overblik!$E$6","v":2022},{"$f":"Overblik!$D$6","v":2021},{"$f":"Overblik!$E$6","v":2022},{"$f":"Overblik!$D$6","v":2021},{"$f":"Overblik!$E$6","v":2022}]
[null,"SAMLET BYRETTERNE",null,11.6,12.1,11.8,10.3,36.934796250083018,36.992036455416674]
[null,"5. BEDSTE RET",null,8.5,{"$f":"SMALL(E9:E31,5)","v":9.1}]
[null,"EID","Ret"]
[null,901,"Retten i Hjørring",6.7,"-",9,10.6,26.629757606669997,25.288659839999998]
[null,902,"Retten i Aalborg",5.5,8.6,12.5,5.8,42.099289198269993,42.367902730000026]
[null,903,"Retten i Randers",9.9,14.6,3.7,2.9,28.979486985530002,29.222324969999995]
[null,904,"Retten i Aarhus",18.3,15.7,12.8,10.7,51.994495046040001,52.732507820000009]
[null,905,"Retten i Viborg",8.8000000000000007,8.9,11.7,12.1,29.383589674759996,32.476540699999994]
[null,906,"Retten i Holstebro",8.8000000000000007,11.9,13.4,6.7,21.113865305259999,21.149041250000003]
[null,907,"Retten i Herning",7.2,9.1,13,8.9,23.77129493128,25.32585447999999]
[null,908,"Retten i Horsens",8.6999999999999993,11.4,14.7,9,24.133614030770001,24.246614030000003]
[null,909,"Retten i Kolding","-",9.8000000000000007,14.9,9.4,43.067836,42.436578759999996]
[null,910,"Retten i Esbjerg",11.5,12.9,15.3,11.7,28.268389722430001,28.101744160000003]
[null,911,"Retten i Sønderborg",11,9,14.2,14.4,34.48254435490999,36.032852100000007]
[null,912,"Retten i Odense",9.8000000000000007,11,10,12.5,44.621451802559996,45.309744690000016]
[null,913,"Retten i Svendborg",9.5,11.7,13.6,6.7,22.012727579789999,21.227753499999999]
[null,914,"Retten i Nykøbing F.",8.5,9,11.7,5.8,28.394530540379996,27.514853020000007]
[null,915,"Retten i Næstved",11.3,11.4,12,6.6,36.644189401379997,34.936962150000021]
[null,916,"Retten i Holbæk",12.5,17.2,7,6.6,24.850728963059996,25.254808050000012]
[null,917,"Retten i Roskilde",8.4,"-",4.5,9.4,42.118512099,40.668731750000013]
[null,918,"Retten i Hillerød",19.2,"-",15.1,10.4,25.070801669289999,25.748505540000004]
[null,919,"Retten i Helsingør",20.6,11.1,18.100000000000001,12.2,24.724817491769997,25.057345859999995]
[null,920,"Retten i Lyngby",15.1,"-",10.8,12.4,29.140606536709996,27.090163509999996]
[null,921,"Retten i Glostrup",11.6,13.5,10.4,7.7,64.250546558622503,65.080673250000046]
[null,922,"Retten på Frederiksberg",15.8,17.899999999999999,17.3,17.3,48.134329843099998,50.859103509999997]
[null,923,"Københavns Byret",12.3,"-",11,13.9,131.36290583760999,128.03680281000013]
[null,"1) Gennemsnitlig antal sygedage pr. ansat er ekskl. ansatte under socialt kapitel. Deltidssygdom er inkluderet, men barns sygdom, omsorgsdage og særlige feriedage indgår ikke. "]
[null,"2) \"-\" betyder, at der ikke er data for rettens gennemsnitlige antal sygedage i ISOLA. Retten kan kontakte Økonomistyrelsen for mere information om årsagen til de manglende fraværsdata i ISOLA. "]
[null,"3) Det gennemsnitlige antal sygedage pr. ansat \"samlet\" er for alle byretter."]
[null,"4) Personaleomsætning dækker ikke et kalenderår, men i stedet et rullende år, der sammenholder medarbejderstaben i 4. kvartals midterste måned med medarbejderstaben i samme måned året før. "]
[null,"5) Lønsumsforbruget inkluderer egentlig løn, over- og merarbejde, stævningsmænd, refusioner og pensionsbidrag og er i faste priser (2022). Lønsummen for 2021 er opregnet til 2022-PL, så der kan foretages en sammenligning mellem de to år. Samlet vises det gns. lønsumsforbrug pr. byret."]

{"sheet":"Årsværk_Pers.kat","index":16,"n_rows":33,"n_cols":27,"rows_kept":33,"cut":false,"hidden":false,"merged":[[4,3,4,8],[4,9,4,14],[4,15,4,20],[4,21,4,26],[7,1,7,2],[5,15,5,20],[5,21,5,26],[5,3,5,8],[5,9,5,14]]}
[]
[null,"ÅRSVÆRKSFORBRUG 2021 OG 2022"]
[]
[null,null,null,"Jur","Kon","Elev","Fleks","Øvr.","I ALT","Jur","Kon","Elev","Fleks","Øvr.","I ALT","Jur","Kon","Elev","Fleks","Øvr.","I ALT","Jur","Kon","Elev","Fleks","Øvr.","I ALT"]
[null,null,null,{"$f":"Overblik!$D$6","v":2021},null,null,null,null,null,{"$f":"Overblik!$E$6","v":2022},null,null,null,null,null,{"$f":"Overblik!$D$6","v":2021},null,null,null,null,null,{"$f":"Overblik!$E$6","v":2022}]
[null,null,null," - absolutte tal -",null,null,null,null,null," - absolutte tal -",null,null,null,null,null," - indeks -",null,null,null,null,null," - indeks -"]
[]
[null,"SAMLET BYRETTERNE",null,421.00591000000003,831.48688000000004,69.620950000000008,38.854760000000006,97.272239999999996,1458.2407399999997,438.33796999999987,816.19951000000003,62.383150000000001,37.273919999999997,96.15197000000002,1450.3465199999998,100,100,100,100,100,100,{"$f":"J8*100/D8","v":104.11682106790373},{"$f":"K8*100/E8","v":98.161441825756768},{"$f":"L8*100/F8","v":89.603991327323172},95.931412264546211,98.848314791558238,{"$f":"O8*100/I8","v":99.458647685292348}]
[null,"EID","Ret"]
[null,901,"Retten i Hjørring",13.060930000000001,27.478480000000001,2.31854,1.0539000000000001,2.9714200000000002,46.883270000000003,12.606529999999999,26.510459999999998,1.5447299999999999,0.88216000000000006,2.5311900000000001,44.075070000000004,100,100,100,100,100,100,{"$f":"J10*100/D10","v":96.520921557653239},{"$f":"K10*100/E10","v":96.477170498513729},66.625117530859924,83.704336274788886,85.184524570743946,94.010230088472923]
[null,902,"Retten i Aalborg",20.758109999999999,43.18242,5.0230800000000002,1.2704200000000001,3.3762099999999999,73.61023999999999,21.71415,42.442950000000003,4.9179000000000004,0.88209000000000004,3.1636099999999998,73.120700000000014,100,100,100,100,100,100,{"$f":"J11*100/D11","v":104.60562161005988},{"$f":"K11*100/E11","v":98.287567023802737},{"$f":"L11*100/F11","v":97.906065601184935},{"$f":"M11*100/G11","v":69.432943436029021},{"$f":"N11*100/H11","v":93.702998332449695},{"$f":"O11*100/I11","v":99.334956658204106}]
[null,903,"Retten i Randers",12.91887,28.490649999999999,2.3334100000000002,1.9906999999999999,2.2309700000000001,47.964599999999997,12.86885,29.21068,2.33344,1.8312200000000001,3.8880300000000001,50.132220000000004,100,100,100,100,100,100,99.612814433460514,102.5272501680376,{"$f":"L12*100/F12","v":100.00128567204219},91.988747676696647,174.27531522163005,104.51920791583795]
[null,904,"Retten i Aarhus",24.706669999999999,45.3934,3.8740100000000002,2.5406900000000001,9.1924399999999995,85.707210000000003,26.74794,42.598140000000001,3.0784600000000002,2.3244400000000001,7.4721099999999998,82.221090000000004,100,100,100,100,100,100,108.2620199322693,93.842144452717804,79.464430912671887,91.488532642707298,81.285382335919522,95.93252422987517]
[null,905,"Retten i Viborg",13.41872,29.8504,4.5217599999999996,2.0000599999999999,4.0000099999999996,53.790949999999995,15.00877,35.314590000000003,3.95628,2.23143,3.4042300000000001,59.915300000000002,100,100,100,100,100,100,111.84949086052916,118.30524884088656,87.494250026538339,111.56815295541134,85.10553723615692,111.38546539891935]
[null,906,"Retten i Holstebro",8.8350799999999996,19.978819999999999,3.31549,1.6935500000000001,2.8445499999999999,36.667489999999994,9.1788799999999995,19.39348,2.5750199999999999,1.6176299999999999,2.0255700000000001,34.790579999999999,100,100,100,100,100,100,103.8913060209981,97.070197338981984,77.666347960633274,95.517109031324708,71.208802798333664,94.881269484221605]
[null,907,"Retten i Herning",11.798690000000001,22.200230000000001,3.2686600000000001,0,3.2380300000000002,40.505609999999997,12.89255,22.913609999999998,3.09877,null,3.24573,42.150660000000002,100,100,100,100,100,100,109.27102924138188,103.21339013154368,94.802457276070314,"-",100.23779890859565,104.0612892880764]
[null,908,"Retten i Horsens",11.94088,21.352460000000001,3.3683100000000001,2.2658999999999998,4.6946500000000002,43.622200000000007,11.68295,21.483350000000002,2.4035600000000001,2.3464,4.65097,42.567230000000002,100,100,100,100,100,100,97.839941444851647,100.61299728462201,71.358040085384076,{"$f":"M17*100/G17","v":103.55267222737103},99.069579201857422,97.581575436360367]
[null,909,"Retten i Kolding",22.202870000000001,39.011699999999998,3.6668400000000001,3.0773299999999999,3.2111999999999998,71.169939999999997,23.309729999999998,38.019060000000003,4.2502300000000002,2.3819699999999999,1.5247900000000001,69.485779999999991,100,100,100,100,100,100,104.98521137132271,97.455532570997946,115.90988426001681,77.403788348990844,47.483495266567019,97.633607672003095]
[null,910,"Retten i Esbjerg",14.699960000000001,26.54279,2.33344,1.00003,5.1983199999999998,49.774540000000009,15.21424,26.354669999999999,1.97356,0.78898999999999997,5.2147100000000002,49.546170000000004,100,100,100,100,100,100,103.49851292112359,99.291257625893877,84.577276467361486,78.896633101006969,100.31529417196326,99.541191139084347]
[null,911,"Retten i Sønderborg",15.02947,32.941090000000003,1.3333900000000001,1.42496,2.2821400000000001,53.011050000000004,17.686119999999999,32.956650000000003,1.2500599999999999,1.3041400000000001,2.9533900000000002,56.150359999999992,100,100,100,100,100,100,117.67627201757612,100.04723583827979,93.750515603086868,91.521165506400195,129.41318236392158,105.92199173568527]
[null,912,"Retten i Odense",20.66863,45.381079999999997,3.5125600000000001,0.54059999999999997,4.9400300000000001,75.042900000000003,23.227640000000001,45.344140000000003,3.0130499999999998,0.46938000000000002,4.76945,76.823660000000018,100,100,100,100,100,100,112.3811302442397,99.918600438773183,85.779317648666478,86.825749167591567,96.546984532482597,102.37298931677749]
[null,913,"Retten i Svendborg",10.47298,20.73733,1.7147699999999999,1.00003,4.7038500000000001,38.628960000000006,10.082409999999999,19.530169999999998,0.97360000000000002,1.00003,4.4052100000000003,35.991419999999998,100,100,100,100,100,100,96.270688953860315,94.178807011317261,56.777293747849569,100,93.651158093901799,93.172117499409751]
[null,914,"Retten i Nykøbing F.",13.074020000000001,31.18948,1.8497600000000001,0.40544000000000002,2.7862300000000002,49.304930000000006,13.79457,27.953440000000001,2.0000800000000001,0.40544000000000002,2.8691399999999998,47.022669999999998,100,100,100,100,100,100,105.51131174650185,89.624578543791046,108.12645964881931,100,102.9757055232339,95.371132257970942]
[null,915,"Retten i Næstved",17.017140000000001,40.357410000000002,2.6727300000000001,2.8801700000000001,4.7625900000000003,67.690039999999996,16.172789999999999,36.569629999999997,3.1966600000000001,3.43953,3.9683299999999999,63.346939999999996,100,100,100,100,100,100,95.038237917769962,90.614412570083161,119.60280312639136,119.42107583927336,83.322939828958596,93.583841876884691]
[null,916,"Retten i Holbæk",11.642580000000001,24.007529999999999,1.1667400000000001,2.0000599999999999,3.1427700000000001,41.959679999999992,12.426270000000001,22.91047,1.00003,2.2703600000000002,2.9317600000000001,41.538889999999995,100,100,100,100,100,100,106.73123998289039,95.430350394230487,85.711469564770212,113.51459456216314,93.285859289734844,98.997156317684031]
[null,917,"Retten i Roskilde",19.3736,42.450650000000003,2.16675,0.56762999999999997,1.8334299999999999,66.392060000000015,18.74051,39.317419999999998,1.3457300000000001,0.56762999999999997,1.6815100000000001,61.652800000000006,100,100,100,100,100,100,96.732202584960973,92.619123617659554,62.108226606668978,100,91.713891449359949,92.861706655886252]
[null,918,"Retten i Hillerød",11.758900000000001,21.23272,2.8871899999999999,2.3498100000000002,4.1000699999999997,42.328689999999995,13.6351,20.307179999999999,3.1002200000000002,1.98214,4.8349900000000003,43.859629999999996,100,100,100,100,100,100,115.95557407580641,95.640972988858692,107.37845448342507,84.353203024925406,117.92457201950212,103.61679040858577]
[null,919,"Retten i Helsingør",13.130240000000001,21.733149999999998,1.26068,3.0271699999999999,2.8449499999999999,41.996189999999991,13.45201,23.128309999999999,1.00003,2.02224,3.0949800000000001,42.697570000000006,100,100,100,100,100,100,102.45060257847534,106.41950200500159,79.324650188787004,{"$f":"M28*100/G28","v":66.802987608888827},108.78855515914164,101.67010388323325]
[null,920,"Retten i Lyngby",14.293229999999999,25.938649999999999,3.6501600000000001,0.83787999999999996,3.1433200000000001,47.863239999999998,14.07554,25.678349999999998,2.6824699999999999,0.83787999999999996,3.0719099999999999,46.346150000000002,100,100,100,100,100,100,98.476971265417276,98.99647822843518,73.489107326802113,100,97.728198210808941,96.830365014988544]
[null,921,"Retten i Glostrup",32.929659999999998,57.232439999999997,3.33873,3.3174899999999998,6.9831899999999996,103.80150999999999,34.673729999999999,56.560369999999999,3.6010399999999998,2.3529599999999999,6.2742800000000001,103.46238,100,100,100,100,100,100,105.29634985602645,98.825718421231045,107.8565801966616,70.92591085429045,89.848335789231001,99.673289916495435]
[null,922,"Retten på Frederiksberg",23.954360000000001,42.28933,3.2770299999999999,2.9931299999999998,4.9725799999999998,77.486429999999984,24.279119999999999,44.219369999999998,3.08385,4.68668,6.5544900000000004,82.823509999999999,100,100,100,100,100,100,101.35574484144013,104.56389354004899,94.10502802842818,156.58123770100198,131.81266063089987,106.88776086341831]
[null,923,"Københavns Byret",60.185989999999997,117.0377,6.13354,0.27875,7.8333899999999996,191.46937000000003,61.676020000000001,111.06695999999999,5.3585700000000003,0.64853000000000005,9.4714500000000008,188.22152999999997,100,100,100,100,100,100,102.47570904790301,94.898447252466511,87.365045308255915,"-",120.91125298242525,98.303728685167741]
[null,"1) Det opgjorte årsværksforbrug er inkl. de korrektioner, der foretages som led i produktivitetsberegningen, hvorfor det ikke kan stemmes af i forhold til eksempelvis prognoseværktøjet SOL."]

{"sheet":"Årsværk_Sagsområder","index":17,"n_rows":131,"n_cols":14,"rows_kept":131,"cut":false,"hidden":false,"merged":[[128,1,128,13],[3,12,3,13],[3,4,3,5],[3,6,3,7],[3,8,3,9],[3,10,3,11],[6,1,10,2]]}
[]
[null,"ÅRSVÆRKSFORBRUG DE ENKELTE SAGSOMRÅDER I 2022"]
[]
[null,null,null,null,"Straf",null,"Civil",null,"Foged",null,"Skifte",null,"Notarial"]
[null,null,null,null,"Årsværk","Pct.",{"$f":"E5","v":"Årsværk"},{"$f":"F5","v":"Pct."},{"$f":"G5","v":"Årsværk"},"Pct.","Årsværk","Pct.","Årsværk","Pct."]
[]
[null,"SAMLET BYRETTERNE",null,"Jurister",194.52466037934801,0.44377780090405589,146.17711443666289,0.33348038372460159,33.073226845021473,7.5451430422560639E-2,33.168270768038283,7.5668258371590039E-2,0.54816233595008468,1.2505472340214668E-3]
[null,null,null,"Kontor",253.91448270373147,0.31109364756140501,138.01172732361314,0.16909067652296575,158.34200024281384,0.19399913661160351,145.02071268947336,0.17767801978890352,23.345244356022871,2.8602374872808818E-2]
[null,null,null,"Elev",17.727787125540775,0.28417588925119641,8.220866976990866,0.13178024798348378,15.640634813529868,0.25071890107392569,13.769823594153831,0.22072985404157741,0.38742237501972898,6.210368906022363E-3]
[null,null,null,"Fleks",6.8807971277977682,0.184600844982169,5.4376535599024232,0.14588359796614961,9.7479671239453367,0.26152245655797235,3.9050549486850867,0.10476641439068086,2.1958980484690795,5.8912452687269808E-2]
[null,null,null,"Øvrige",12.672795616631911,0.13179964608766634,2.7336748300532978,2.8430772973796561E-2,4.6071089835901686,4.7914868344248886E-2,3.3960476448015813,3.5319584661672364E-2,2.0956544813806599,2.1795231874923205E-2]
[null,"EID","Ret"]
[null,901,"Retten i Hjørring","Jurister",5.057557544671984,0.40118553992827405,4.4575173339489718,0.35358796861221697,0.71977004301376135,5.7095016869333701E-2,1.5224215536408141,0.120764520739713,3.4140264181556669E-2,2.7081412713535502E-3]
[null,901,"Retten i Hjørring","Kontor",6.6060058530844907,0.24918488223457802,3.8082820563195474,0.14365205493678901,5.9909837998660374,0.22598565999481102,5.8127627825011858,0.21926299213597902,0.79628462579254522,3.0036620480842099E-2]
[null,901,"Retten i Hjørring","Elev",0.51065746932580547,0.33058040520078297,0.47785687378757702,0.30934653550301805,0.52760530559568697,0.34155179584502598,0,0,7.1925642724758273E-4,4.6561951101330509E-4]
[null,901,"Retten i Hjørring","Fleks",0.45489177525991831,0.51565676890804191,0.21100541559021199,0.23919177427021399,0.21626280914986967,0.24515145682174397,0,0,0,0]
[null,901,"Retten i Hjørring","Øvrige",0.28321648334813249,0.111890645644196,1.3000529407541713E-3,5.1361333631776802E-4,0.17251434752659203,6.8155431842963993E-2,3.6001466051654111E-3,1.42231385441844E-3,0,0]
[null,902,"Retten i Aalborg","Jurister",9.2580270776387454,0.42635917489925901,7.6549835548820617,0.35253434073551404,1.8190253374567986,8.3771427270088794E-2,1.6772734191740872,7.7243337601245604E-2,5.9827418348157371E-3,2.7552272756777203E-4]
[null,902,"Retten i Aalborg","Kontor",11.463783547443564,0.27009865118809046,7.3928761742410636,0.17418384382426441,9.1013254593865831,0.21443668405204122,9.802488543405298,0.23095681481624858,1.01201936528,2.384422772875118E-2]
[null,902,"Retten i Aalborg","Elev",0.78886859072549398,0.16040761111968399,0.4540512314658473,9.2326243206622194E-2,2.4296411857690066,0.49404038019662994,0.85812168589693583,0.17448945401430199,1.080048271265837E-2,2.1961574478249596E-3]
[null,902,"Retten i Aalborg","Fleks",2.5780209135790404E-3,2.92262797852718E-3,0,0,3.6034867818852241E-2,4.0851690665184098E-2,8.8713672505700947E-2,0.10057213266866299,0,0]
[null,902,"Retten i Aalborg","Øvrige",0.97860512983130032,0.30933178547017504,1.6819011870971245E-2,5.3163986303530605E-3,1.1846189125706379,0.37445162727726805,2.3849003809527716E-2,7.5385410368306203E-3,0,0]
[null,903,"Retten i Randers","Jurister",4.8449561938325401,0.37648711375395161,3.8719164847071577,0.30087509643108418,1.4940137107310523,0.11609535511961459,1.8053980853458171,0.14029210732472733,4.5947579185941556E-2,3.5704495107131994E-3]
[null,903,"Retten i Randers","Kontor",8.9752108286387564,0.30725785324541421,4.1450628407968022,0.14190230562235465,6.0726697348417753,0.20789210435504327,6.2476836360963475,0.21388353972233265,0.72780326151702424,2.4915656243436449E-2]
[null,903,"Retten i Randers","Elev",0.82690446628571523,0.354371428571429,0.71913287314285645,0.30818571428571401,0.17240788114285718,7.3885714285714305E-2,0.414885632,0.17780000000000001,6.900315428571435E-3,2.95714285714286E-3]
[null,903,"Retten i Randers","Fleks",0,0,0,0,0.2900942574257418,0.15841584158415797,0.10526880209609035,5.7485611830413792E-2,6.4470845302868743E-2,3.5206499111449602E-2]
[null,903,"Retten i Randers","Øvrige",0.39258322177520466,0.100972271761073,1.3472602728546392E-2,3.46514886164623E-3,0.45607192041634265,0.117301543562252,1.544845340740632E-2,3.9733369874734295E-3,2.3334313441264135E-3,6.0015775190171204E-4]
[null,904,"Retten i Aarhus","Jurister",13.239322884307905,0.49496607530553399,8.1298440705665111,0.30394281094418901,1.3406240677380967,5.0120647337256505E-2,2.6859540470017271,0.10041723014937701,3.7726621135850104E-2,1.4104495948417E-3]
[null,904,"Retten i Aarhus","Kontor",17.148685386077116,0.40256887709362699,6.1486613150579279,0.14434107486988698,5.5484591778455243,0.130251207631261,8.1038742029284965,0.19024009505880998,1.1540734386873355,2.70921086856688E-2]
[null,904,"Retten i Aarhus","Elev",1.0358318179808566,0.33647727044719,0.42043077821942038,0.136571785314547,0.67679730454919584,0.219849309248519,0.5230659230730943,0.169911554177444,1.2483358163241908E-2,4.0550658976377498E-3]
[null,904,"Retten i Aarhus","Fleks",0,0,0.29673944958633075,0.12766061915400301,0.91492761446492965,0.393612059018486,0.19584708373682277,8.4255598654653499E-2,0,0]
[null,904,"Retten i Aarhus","Øvrige",1.343458607973959,0.17979641734047799,0.12039849079084028,1.6113051171736E-2,0.5513315167938454,7.3785251661692003E-2,0.59955278605656992,8.0238752649060302E-2,1.0185567580805461E-4,1.36314475841569E-5]
[null,905,"Retten i Viborg","Jurister",6.2033130634734031,0.41331255415822904,5.0044737634487593,0.33343663494402004,1.2938201173892989,8.6204273727247399E-2,1.3800037387722035,9.1946491202956906E-2,1.5102062233395799E-2,1.00621584802724E-3]
[null,905,"Retten i Viborg","Kontor",11.28756123941913,0.31962883441147494,4.9903195454047129,0.14131042001067301,8.1154775228355653,0.229805231289265,5.5159297793823407,0.15619407670830499,1.0991715150195227,3.1125138788798697E-2]
[null,905,"Retten i Viborg","Elev",1.104768671189875,0.27924430808483602,0.3792113962816982,9.5850494980562098E-2,1.1958714198912102,0.30227168448421499,1.1461155019417779,0.28969524450791601,1.1700483390719989E-2,2.9574457295034702E-3]
[null,905,"Retten i Viborg","Fleks",0.4078611623249368,0.18278017339774799,5.300200076598747E-3,2.37524819357934E-3,0.91583457172625371,0.41042496144905005,6.0902298993370525E-2,2.7292946224336197E-2,0.27701045683355752,0.12414033011726001]
[null,905,"Retten i Viborg","Øvrige",0.28571196690861622,8.3928514497732587E-2,1.9000877141862485E-3,5.5815491731940809E-4,0.22139216158978839,6.5034431160582093E-2,0.12120559524177549,3.5604408410059102E-2,3.4001569622280244E-3,9.9880353625578298E-4]
[null,906,"Retten i Holstebro","Jurister",3.744502377580794,0.4079476338704498,2.3475670602831897,0.25575746281498285,0.61164278098791303,6.6635883788426595E-2,1.4286408012571932,0.15564434890282836,3.9943797796073433E-3,4.3517071577440207E-4]
[null,906,"Retten i Holstebro","Kontor",5.6838445169824467,0.29308017524355851,3.5780731219245228,0.18449876566374487,4.1456578928952137,0.21376554867384367,4.3786043428816317,0.22577713452570822,0.42568433032110936,2.1949868219685656E-2]
[null,906,"Retten i Holstebro","Elev",1.0074500351458422,0.39123969334057296,3.7752208215234992E-2,1.4660937862709802E-2,0.79318662291020114,0.30803124748941801,0.42721771905180989,0.16590850519677902,0,0]
[null,906,"Retten i Holstebro","Fleks",0.3403215373135256,0.21038280528521702,0,0,0.16577600827623074,0.102480794913689,0.17583511121158651,0.10869921503161201,7.5440370462456524E-2,4.6636357178376102E-2]
[null,906,"Retten i Holstebro","Øvrige",0,0,0,0,0,0,0,0,0.37020527339027487,0.182765973721113]
[null,907,"Retten i Herning","Jurister",6.4595914317886809,0.50103287804109198,4.2001852743861647,0.325783904222684,0.75305141920302687,5.84098118062778E-2,1.3888800463293434,0.107727334493901,2.4006116878381313E-2,1.86201464243934E-3]
[null,907,"Retten i Herning","Kontor",8.0110333150801321,0.34961899565717197,3.0185311134083022,0.131735292405182,4.9920775388854688,0.21786517004022801,4.2689503294942588,0.18630631879892601,1.1189562612996793,4.8833695838398201E-2]
[null,907,"Retten i Herning","Elev",1.1054097465084713,0.35672532860085499,1.5022601123229517E-2,4.8479238934252995E-3,0.89811875446648304,0.28983072459927101,1.0622870330485408,0.34280925433269999,1.7764010220174306E-2,5.7326004253863E-3]
[null,907,"Retten i Herning","Fleks",0,0,0,0,0,0,0,0,0,0]
[null,907,"Retten i Herning","Øvrige",0.10513926444685963,3.2393102459804E-2,1.3847895297914939E-3,4.2664963807571604E-4,2.7695790595829877E-3,8.5329927615143209E-4,0.40255808516309738,0.124026978572801,1.1943553506639542E-2,3.67977419768112E-3]
[null,908,"Retten i Horsens","Jurister",5.056834912320002,0.432838873085993,4.0034629191796407,0.342675687149191,0.95277379419152175,8.1552501225420099E-2,0.70874136407541932,6.0664589343908802E-2,9.222555915655347E-3,7.8940301170982901E-4]
[null,908,"Retten i Horsens","Kontor",6.7145841994248903,0.31254828504050297,3.1692177161640487,0.14751971718396101,3.4580085972081651,0.16096226134230299,5.0339582701606265,0.23431905499657299,0.90093327077061058,4.1936349348244598E-2]
[null,908,"Retten i Horsens","Elev",1.0715295121248358,0.44580934618850193,9.5778973931265499E-2,3.9848796756172297E-2,0.23840689970173795,9.91890777437376E-2,0.80021599354485806,0.33292948524058397,3.7305555568210398E-3,1.5520958731302899E-3]
[null,908,"Retten i Horsens","Fleks",2.3525452887790042E-2,1.00261902863067E-2,1.1686487832451631,0.49806034062613497,0.27139797746550787,0.115665691043943,0.47609359205252899,0.20290384932344399,0.15663727941090461,6.6756426615625891E-2]
[null,908,"Retten i Horsens","Øvrige",1.1996004916312952,0.25792479668355101,0.47243485099068266,0.10157770335880099,0.50572817359289901,0.108736064432344,0.39084727025420446,8.4035646382196502E-2,0.30227342489661702,6.4991480249629002E-2]
[null,909,"Retten i Kolding","Jurister",10.615432531191887,0.45540778598430304,7.7052050321977887,0.33055745528574504,1.5056671605486414,6.4593933973007903E-2,1.3417030743015972,5.7559786162327806E-2,3.6732827816824583E-2,1.5758581423647802E-3]
[null,909,"Retten i Kolding","Kontor",12.618718341925918,0.33190505872385895,5.9807566322838266,0.15730942933054701,6.6665536086254011,0.175347670579583,6.6521701721799849,0.17496934885239099,1.3495883617685536,3.5497678316311697E-2]
[null,909,"Retten i Kolding","Elev",1.7136093981568639,0.40318039215686297,0.44649082839215742,0.10505098039215699,0.85057936219607655,0.20012549019607798,1.0473900125490212,0.24643137254901998,1.100059529411766E-3,2.5882352941176501E-4]
[null,909,"Retten i Kolding","Fleks",1.1962089560547853,0.50219312420172602,0.10910845125722798,4.5805972055579201E-2,1.0767469721530256,0.45204052618337998,0,0,0,0]
[null,909,"Retten i Kolding","Øvrige",0.15548342367795093,0.10197038521891599,0,0,0,0,7.950638917288326E-2,5.2142517443636995E-2,1.5760309228395053E-2,1.03360523274648E-2]
[null,910,"Retten i Esbjerg","Jurister",7.6515164987845452,0.50291808850028297,3.8410585472934491,0.25246470065500803,0.86641858631673907,5.6947871620057197E-2,1.4559200720442536,9.5694564568736498E-2,4.9201361907333221E-2,3.2339020488261799E-3]
[null,910,"Retten i Esbjerg","Kontor",7.3398769971987488,0.27850384759887903,4.1398372191636765,0.15708173235193901,5.4514240570823933,0.20684850377873801,5.9179139410007062,0.22454896764029703,0.94721485619313373,3.5941063052321802E-2]
[null,910,"Retten i Esbjerg","Elev",2.5571116442443417E-2,1.2956847748456301E-2,9.3269671612920685E-3,4.7259607821865408E-3,0.53769750188861176,0.27245054717799905,1.2926335930765362,0.6549755736215449,2.9160560919602625E-3,1.4775614077911299E-3]
[null,910,"Retten i Esbjerg","Fleks",0,0,0,0,0,0,0.78607073699999996,0.99629999999999996,2.9192630000000001E-3,3.7000000000000002E-3]
[null,910,"Retten i Esbjerg","Øvrige",2.5747704240919021E-2,4.9375141169727601E-3,2.100134690459267E-3,4.0273278676268998E-4,0.30560287575568806,5.8604002093249299E-2,0.27682739099812997,5.3085864985422004E-2,0.13914067433599919,2.66823417478631E-2]
[null,911,"Retten i Sønderborg","Jurister",7.5557816641729119,0.42721533406834922,6.8608281666457627,0.38792161122087621,1.3522231492851893,7.6456744005196697E-2,0.94518342671473565,5.3442101869417134E-2,1.7125266935203602E-2,9.6828851863515585E-4]
[null,911,"Retten i Sønderborg","Kontor",9.9389425581035464,0.30157623903229075,5.750119592455901,0.17447524528299752,5.4947476447833878,0.16672652240999578,4.8797748404190369,0.14806647036088427,1.4034833365256922,4.2585740253505505E-2]
[null,911,"Retten i Sønderborg","Elev",1.2145294250536199E-2,9.7157690435148714E-3,0.19779690645683398,0.158229930128821,0.24038732754274497,0.192300631603879,0.76094865518223098,0.60872970511993907,0,0]
[null,911,"Retten i Sønderborg","Fleks",0.73031840000000003,0.55999999999999994,0.36515920000000002,0.27999999999999997,0,0,0,0,0,0]
[null,911,"Retten i Sønderborg","Øvrige",0.17885136559285103,6.0557991187364699E-2,0,0,0.43683740322870152,0.14791050393910099,6.2791553178296183E-2,2.12608403151281E-2,0,0]
[null,912,"Retten i Odense","Jurister",10.93198758923233,0.47064564412193099,7.6577095193865157,0.32968091116387699,2.441316758775971,0.105103951963091,1.8135358952096956,7.8076631771875904E-2,1.664080470511696E-2,7.16422533891388E-4]
[null,912,"Retten i Odense","Kontor",15.01942169565922,0.33123181287944198,5.9995855076871933,0.13231225705652799,10.547269155035345,0.23260490010473997,9.6447564765754876,0.21270127687007598,0.817108199556,1.8020149892709399E-2]
[null,912,"Retten i Odense","Elev",0.98965652690495054,0.32845672222663103,0.25648747672555616,8.5125529521765719E-2,0.51995554858675685,0.17256784606520201,1.2048848123905838,0.39988875471385599,1.546449885078509E-2,5.1325065467831901E-3]
[null,912,"Retten i Odense","Fleks",0.46740329830825111,0.99578869638299694,0,0,0,0,0,0,0,0]
[null,912,"Retten i Odense","Øvrige",0.62046854609753477,0.13009226348898401,0.17702253835074255,3.7115922873862305E-2,1.528295156153929E-3,3.2043425471572803E-4,0,0,0,0]
[null,913,"Retten i Svendborg","Jurister",3.1243005988899402,0.30987636873425506,3.4245703719572154,0.33965791630743203,1.2515123164009447,0.124128290398917,1.4751077558488568,0.146305075458036,1.6379874938390235E-3,1.6245991720620603E-4]
[null,913,"Retten i Svendborg","Kontor",5.2960900841990712,0.27117480719313103,3.7187055906071396,0.19040825505395703,3.8960315541489172,0.19948784645238202,3.9886061073528198,0.20422792568384301,0.16112955165159162,8.2502892525560013E-3]
[null,913,"Retten i Svendborg","Elev",0.44785599999999998,0.45999999999999996,9.3757679999999996E-2,9.6299999999999997E-2,0,0,0,0,0,0]
[null,913,"Retten i Svendborg","Fleks",0,0,8.8002640000000004E-3,8.8000000000000005E-3,7.00021E-4,6.9999999999999999E-4,0.98392951699999998,0.9839,0,0]
[null,913,"Retten i Svendborg","Øvrige",0.13372442847852506,3.0355971333608397E-2,2.7295434174716724E-2,6.1961709373030398E-3,0.12108903309159023,2.7487686873404499E-2,0.29703608117495028,6.7428358960174489E-2,0.28645122967515863,6.5025556029146989E-2]
[null,914,"Retten i Nykøbing F.","Jurister",5.5659315294260274,0.40348713511374601,4.0845436759817169,0.29609793389585298,0.94662670237788515,6.86231395670822E-2,1.1275868293219991,8.1741353976383394E-2,7.2197973294241416E-3,5.2337965804110905E-4]
[null,914,"Retten i Nykøbing F.","Kontor",7.0299977707022272,0.25148954013181302,4.879740705832357,0.174566733319132,6.1881627475374357,0.22137392562552,5.4132465448204927,0.19365224977035,0.70109913252955702,2.5080960787994502E-2]
[null,914,"Retten i Nykøbing F.","Elev",0.55852234000000001,0.27925,7.200288E-3,3.5999999999999999E-3,0.64352573999999996,0.32174999999999998,0.28714481866666736,0.14356666666666701,2.2067549333333266E-2,1.10333333333333E-2]
[null,914,"Retten i Nykøbing F.","Fleks",0.1569445161290321,0.38709677419354799,0.2441359139784948,0.60215053763440896,0,0,0,0,0,0]
[null,914,"Retten i Nykøbing F.","Øvrige",0.71788800746492376,0.25021017010843799,5.5222154420378929E-2,1.9246936162187599E-2,0,0,0.32028849563819756,0.11163222974068801,0,0]
[null,915,"Retten i Næstved","Jurister",6.4685834098319868,0.39996706875140203,4.6927594212432666,0.29016387532659899,2.1944978220010252,0.13569073870377499,1.5347843817775211,9.4899172114243813E-2,3.4865364036141058E-2,2.1558039173291102E-3]
[null,915,"Retten i Næstved","Kontor",9.3784476377394608,0.25645453994857104,5.4033908981049033,0.147756236475592,7.8119877747322626,0.21361954645787401,6.7364387133794077,0.184208555388157,0.95529225438884435,2.6122557280148704E-2]
[null,915,"Retten i Næstved","Elev",1.0979521779869066,0.34346855092093204,0.28859151181924586,9.0279076229328695E-2,0.59116315786610008,0.18493150909577499,0.45171769306743337,0.14130927063479801,3.2294616791052784E-2,1.0102612348843101E-2]
[null,915,"Retten i Næstved","Fleks",0.2720578191798208,7.9097382252755699E-2,0,0,1.5915771806834502,0.46273100705138498,0.59679566476049839,0.17351081826892001,0.29741699502793045,8.6470243035510805E-2]
[null,915,"Retten i Næstved","Øvrige",0.15372239349792577,3.8737300954790999E-2,0.14689028712023991,3.7015643134578002E-2,0,0,7.7079479650060914E-2,1.9423656714552699E-2,0.12293413579587679,3.09788086665869E-2]
[null,916,"Retten i Holbæk","Jurister",5.4375603427545629,0.43758588399854204,3.781935560147875,0.30435002298741898,1.4443225330114435,0.11623138182346299,0.99590159012104074,8.0144853614241493E-2,2.5367909386297901E-2,2.0414741822202399E-3]
[null,916,"Retten i Holbæk","Kontor",5.6085081233602754,0.24480109414430501,3.3863465373897581,0.147807816137764,5.4144322774932849,0.236330039387812,5.0174306063058776,0.21900164450165699,0.56314084077644821,2.4580064956172799E-2]
[null,916,"Retten i Holbæk","Elev",0.32990989700000001,0.32990000000000003,1.5800473999999998E-2,1.5799999999999998E-2,0.40221206599999998,0.4022,3.2300968999999999E-2,3.2300000000000002E-2,9.9002970000000006E-3,9.9000000000000008E-3]
[null,916,"Retten i Holbæk","Fleks",1.0000370486638952,0.44047510027656195,1.0000370486638952,0.44047510027656195,6.2490100697814965E-2,2.7524313632117797E-2,0,0,0,0]
[null,916,"Retten i Holbæk","Øvrige",0.2753316045631739,9.3913418752958597E-2,4.5313954198486243E-3,1.54562290905416E-3,1.1037448324247084E-2,3.7647857683599899E-3,1.9040894949689659E-2,6.4946977070734499E-3,0.17671644379586515,6.02765723646769E-2]
[null,917,"Retten i Roskilde","Jurister",8.0228929023463245,0.42810429931449701,5.4065337409027681,0.28849448285573703,2.0458738051162846,0.10916852343486301,1.8843651081316581,0.10055036432475201,2.604549720588439E-3,1.3897966067030401E-4]
[null,917,"Retten i Roskilde","Kontor",10.600583764152223,0.26961544689738604,6.1611844719519349,0.15670368177647301,6.9932016160653605,0.177865221473468,7.5885083970730678,0.193006265341751,0.90570289693012274,2.30356645204625E-2]
[null,917,"Retten i Roskilde","Elev",0.20525948893976062,0.152526501556598,0.12819954333743011,9.5263941011517986E-2,0.77785088432385741,0.57801407735865096,0.23360453041283427,0.17358944989918798,8.1555298611808529E-4,6.0603017404537698E-4]
[null,917,"Retten i Roskilde","Fleks",0,0,0,0,0,0,0,0,0,0]
[null,917,"Retten i Roskilde","Øvrige",0.50002797368421126,0.297368421052632,0.51308180131578873,0.30513157894736798,4.2037749999999999E-3,2.4999999999999996E-3,0,0,0,0]
[null,918,"Retten i Hillerød","Jurister",4.7851572043002077,0.35094404913056804,5.1504483939561583,0.37773455229196401,1.1343977957710729,8.3196881267542808E-2,0.87931568286658657,6.44891260692321E-2,2.0652551316499013E-2,1.5146607884429901E-3]
[null,918,"Retten i Hillerød","Kontor",4.1362008405249195,0.203681694874666,4.1486967152000362,0.204297037560116,3.7255243404275658,0.18345847825387701,4.5294333883202169,0.22304590732540003,0.79911454426903505,3.9351330133924806E-2]
[null,918,"Retten i Hillerød","Elev",0.92948277868177709,0.29981187744152898,0.40645534757231855,0.13110532400033498,0.62617815782137576,0.20197862016933499,0.60469778729267154,0.19504996009724196,7.2002405486863777E-3,2.3224934193980997E-3]
[null,918,"Retten i Hillerød","Fleks",0.40578036104839571,0.20471831507784299,1.1089354003575257E-2,5.5946371111905606E-3,1.1353906010233044,0.57281049826112407,0.21768546051769699,0.10982345370039301,0.20000291887710936,0.100902518932623]
[null,918,"Retten i Hillerød","Øvrige",1.1320028531003077,0.23412723771927296,0.17376891695299498,3.5939871013796303E-2,6.9868658501070269E-2,1.44506314389627E-2,0.17467568244120202,3.6127413384764398E-2,0.27085897973813694,5.6020587372080793E-2]
[null,919,"Retten i Helsingør","Jurister",4.6098562498579767,0.342689029361261,5.8259123044992061,0.43308860939734706,0.92733929129214354,6.8936857115936098E-2,1.328168826054422,9.8733856580126095E-2,2.2578792891933406E-2,1.67846982658602E-3]
[null,919,"Retten i Helsingør","Kontor",4.9856863501678959,0.215566392450114,3.0922252547590658,0.13369871187125501,6.2499235638177479,0.27022828575964902,6.1562891674980635,0.26617981026275001,0.30279253937901635,1.3091857527809701E-2]
[null,919,"Retten i Helsingør","Elev",6.3001890000000003E-3,6.3E-3,0.12570377099999999,0.12570000000000001,0.33981019400000001,0.33979999999999999,0.52691580699999996,0.52689999999999992,1.400042E-3,1.4E-3]
[null,919,"Retten i Helsingør","Fleks",0.42570171114814731,0.21050998454592298,5.4047322202357584E-2,2.6726462834459602E-2,0.14078040592709323,6.9616072240235194E-2,0.11226744083633824,5.5516378291566901E-2,0.23048116561025503,0.113973200812097]
[null,919,"Retten i Helsingør","Øvrige",0.18083237210533362,5.8427638338643097E-2,4.0805977623878725E-3,1.31845690840906E-3,0.22478091345943607,7.26275819098786E-2,3.8399962176222442E-2,1.2407176193779101E-2,5.9127028801946634E-3,1.91041715300088E-3]
[null,920,"Retten i Lyngby","Jurister",4.7137765807186263,0.33489134915737701,7.0189784347062165,0.498664948890502,0.46960150089191438,3.33629474174287E-2,1.149718629841626,8.1682026397681795E-2,2.8978379530956973E-3,2.0587756868267201E-4]
[null,920,"Retten i Lyngby","Kontor",5.5012086124578961,0.21423528429427499,5.9461513765474114,0.23156282925294702,2.8708577981744927,0.11180071142322201,6.3692722464674043,0.24804055737488603,1.6892675190139821,6.57856723276216E-2]
[null,920,"Retten i Lyngby","Elev",0.60050930805874403,0.22386431462746798,0.24484639971526354,9.1276472696903796E-2,0.51757972952393672,0.19294893494575399,0.18261753776337261,6.8078128651344702E-2,8.5756158846338859E-2,3.1969102672663202E-2]
[null,920,"Retten i Lyngby","Fleks",0,0,9.9737223256160315E-3,1.1903521179185602E-2,0.60247945093635047,0.71905219236209306,4.8165780987121229E-3,5.74852974019206E-3,0.22061024863932108,0.26329575671852901]
[null,920,"Retten i Lyngby","Øvrige",0,0,0,0,9.2157299999999997E-4,2.9999999999999997E-4,0,0,0,0]
[null,921,"Retten i Glostrup","Jurister",15.345439604021847,0.44256673868147001,12.775576111937655,0.36845116207392903,2.7690465631799603,7.98600716790481E-2,1.5237651611328695,4.3945810304598598E-2,4.0784266665600463E-2,1.1762295739627801E-3]
[null,921,"Retten i Glostrup","Kontor",18.48967728437556,0.32690163243938397,10.603647912272235,0.187474868220845,14.790447212774708,0.26149841687341702,5.7073157614764511,0.10090661997926201,0.64967994290866526,1.1486486791169599E-2]
[null,921,"Retten i Glostrup","Elev",0.48697297842427284,0.135231204991967,0.44375367051731646,0.123229308898906,0.73410229685958273,0.20385841225301102,0.86551227106950668,0.24035064066755901,2.7951318917668042E-2,7.7620128956268309E-3]
[null,921,"Retten i Glostrup","Fleks",0.87627239121858991,0.37241278696560498,0,0,1.2794986071591135,0.543782557782161,0,0,0,0]
[null,921,"Retten i Glostrup","Øvrige",0.66950213627605071,0.106705811069326,1.5998539950529751E-2,2.54986069326357E-3,0.27431361465097592,4.3720333592217102E-2,5.9989197934352506E-2,9.5611285971222999E-3,0.13189431922120168,2.1021427035644198E-2]
[null,922,"Retten på Frederiksberg","Jurister",13.015421355839594,0.53607467469330006,8.2359704368700264,0.33922030274861803,0.95874548056490361,3.9488477365114703E-2,0.84015878917241138,3.4604169721654303E-2,8.1730834229063076E-2,3.3663013416080599E-3]
[null,922,"Retten på Frederiksberg","Kontor",13.343019565925372,0.30174603495991403,8.9462563413651779,0.20231532790641699,8.9281222117079437,0.20190523319775799,7.1469983030290996,0.16162596398431503,0.39968322300937409,9.0386458018143212E-3]
[null,922,"Retten på Frederiksberg","Elev",0.40554261071810604,0.131505297183101,1.1659294288994939,0.37807592097524001,0.78189771039781486,0.253545960535634,0.71399796890083089,0.23152811223011199,5.0871237912816234E-3,1.6496015666396301E-3]
[null,922,"Retten på Frederiksberg","Fleks",0.12089467734710062,2.5795376971993099E-2,1.7069523570664875,0.36421354926440197,1.0479756780377987,0.22360726101159001,0.10082898987574146,2.1513948013463999E-2,0.67090850530467616,0.14315218988808201]
[null,922,"Retten på Frederiksberg","Øvrige",0.80208252881967745,0.122371462740759,0.47691852019426662,7.2762109667459496E-2,0,0,0.43335117694984976,6.6115163338390889E-2,0,0]
[null,923,"Københavns Byret","Jurister",31.753814247365288,0.51484862751139404,19.074730920352714,0.30927305167150398,3.536503035367923,5.7340000787468502E-2,1.9537924436901577,3.1678315878523898E-2,0,0]
[null,923,"Københavns Byret","Kontor",47.480766590165615,0.42749676942779036,22.619064537847954,0.20365250419970038,14.613143564803467,0.13157057296610503,8.1305710806272451,7.3204228157745965E-2,4.2851026488157373,3.8581254486624444E-2]
[null,923,"Københavns Byret","Elev",1.9116935247572682,0.35675441857758095,1.7540545207737519,0.32733630815194198,1.108728911191676,0.20690760990183502,0.33334473245971369,6.22077779071121E-2,0.11076164813742263,2.06700011640088E-2]
[null,923,"Københavns Byret","Fleks",0,0,0.24665607790646396,0.38033102232196497,0,0,0,0,0,0]
[null,923,"Københavns Byret","Øvrige",2.5279670136888832,0.26690390739420922,0.50749663510961707,5.3581725618529058E-2,0,0,0,0,0,0]
[]
[null,"1) Procenten er beregnet i forhold til det samlede årsværksforbrug ved retten inkl. generel ledelse og administration, hvorfor der ikke kan summes op til 100 % for den enkelte ret."]
[null,"2) Ansatte under socialt kapitel (fleksjobbere mv.) uden tidsfordeling indgår ikke i denne opgørelse."]
[null,"3) Det opgjorte årsværksforbrug er inkl. de korrektioner, der foretages som led i produktivitetsberegningen."]

{"sheet":"Dataark til 901-924","index":18,"n_rows":67,"n_cols":32,"rows_kept":67,"cut":false,"hidden":true,"merged":[]}
[]
[]
[]
[]
[]
[]
[]
[]
[]
[]
[null,"Samlet produktivitet, retten",null,"Samlet produktivitet, jurister",null,"Samlet produktivitet, kontor",null,"ÅRVK ledelse og adm.",null,"Sagstider domsmandssager",null,"Sagstider hfh. alm. Civil",null,"Sagstid alm. fogedsag",null,"Målopfyldelse vold",null,"Målopfyldelse voldtægt",null,"Sygefravær",null,"Personaleomsætning",null,"Årsværk retten",null,"Årsværk jurist",null,"Årsværk kontor",null,"Samlet lønsum"]
["Ret",2013,2014,2013,2014,2013,2014,2013,2014,2013,2014,2013,2014,2013,2014,2013,2014,2013,2014,2013,2014,2013,2014,2013,2014,2013,2014,2013,2014,2013,2014]
["Retten i Hjørring",102.91467927882356,103.52312119691378,101.43468086590957,100.75975399652009,103.21497439077022,103.39743154012527,0.18682619392205604,0.16652567708677737,96,95,631.77456647398844,525.57425742574253,49.862694692272797,49.9104112936066,64,56.25,75,33.333333333333336,5.7,8.9,12.7,5.7,53.475999999999999,50.054010000000005,14.516769999999999,13.73052,29.325399999999998,28.517140000000001,25.230774240000002,23.909136789999998,"Retten i Hjørring"]
["Retten i Aalborg",98.628551467747045,96.655605298250563,98.458012167373738,89.372390060376219,98.273975912389062,106.10630765799098,0.13391816231059897,0.11972076690555586,106,114,593.47572815533977,527.41228070175441,41.557102763385103,43.944134078212301,33.898305084745765,54.285714285714285,60,100,5.0999999999999996,7.5,12,14.9,75.605569999999986,74.76297000000001,20.775759999999998,23.25516,43.970709999999997,40.424059999999997,36.322841629999999,36.634027490000001,"Retten i Aalborg"]
["Retten i Randers",97.024115101215031,103.33909504018878,91.550186956011245,96.009762075614532,105.33680611035903,117.9593277332971,0.19805037315979196,0.20993007689987744,151,124,622.78658536585363,555.51094890510944,47.7256089170222,58.372493985565399,40,47.727272727272727,0,66.666666666666671,6.9,8.1999999999999993,10.8,16.8,51.35568,51.068219999999997,14.54448,14.549340000000001,28.09834,26.150549999999999,26.746649640000001,25.625752629999997,"Retten i Randers"]
["Retten i Århus",98.148829308397538,96.182470778879519,94.280984825855995,89.798210800410828,104.15938693985908,109.6431051567144,0.16563991214495466,0.15168824534486733,140,139,494.86842105263156,483.063829787234,56.955810147299502,59.213478962392898,38.46153846153846,27.083333333333332,100,14.285714285714286,10.8,9.6,11.6,13.7,83.99051,81.201040000000006,25.227250000000002,25.260380000000001,45.352350000000001,41.333829999999999,41.021132150000007,40.627367400000004,"Retten i Århus"]
["Retten i Viborg",97.244177924311586,96.930340191242479,92.312633455899515,86.754952703454776,105.83872951681053,111.29546651816173,0.18319878080436017,0.1776954429113225,108,128,534.70731707317077,519.26896551724133,47.356302038472599,51.793512539420298,67.741935483870961,62.162162162162161,0,100,4.7,5.9,16.2,19.2,53.084639999999993,52.036529999999999,15.002689999999999,15.449820000000001,28.03999,26.36467,25.883360589999999,24.610186930000001,"Retten i Viborg"]
["Retten i Holstebro",103.55724908374536,100.81245899849846,103.53001446430802,99.456219231931712,106.94351873270301,105.10316815485785,0.21551622050605421,0.2143408912808121,86,84,475.90322580645159,413.42424242424244,32.540224913494797,34.2715189873418,72.727272727272734,71.428571428571431,100,50,5,7.3,16.2,14.1,38.401560000000003,37.128050000000002,9.6716499999999996,9.5867100000000001,20.53304,20.18777,19.403369050000002,19.09541128,"Retten i Holstebro"]
["Retten i Herning",92.584801795350302,99.658162424552614,82.043565931676937,89.417040998959294,104.74368763840056,111.39907382864494,0.19552318720613293,0.18930078581743373,94,91,433.97087378640776,520.72972972972968,46.841557911908701,46.732394366197198,52.631578947368418,76.92307692307692,16.666666666666668,66.666666666666671,8.6,5.7,15.3,15.6,38.769920000000006,37.470349999999996,11.84085,11.397880000000001,20.758330000000001,20.216080000000002,20.02559767,19.002884479999995,"Retten i Herning"]
["Retten i Horsens",96.308747207763432,89.74637005653824,90.973528223873458,80.998461560357555,103.10206844060416,100.84195531272286,0.19794074417036656,0.191827163598908,96,111,418,434.10738255033556,49.717429718875501,46.294326871776597,47.058823529411768,40,0,50,5.3,7.7,13.3,15.7,49.889880000000005,48.381399999999999,14.065810000000001,14.3927,25.316880000000001,24.304500000000001,24.532261030000001,24.096096490000001,"Retten i Horsens"]
["Retten i Kolding",103.40651274132942,102.74384460939604,93.442139672857024,95.508338678367565,112.19769116310007,109.14129590472157,0.18146485321363412,0.17342925311772614,105,99,510.04651162790702,480.37113402061857,46.313725490196099,52.973623220395098,61.224489795918366,60,100,75,11.7,15.9,6.6,15.3,67.535519999999991,66.653800000000004,21.335719999999998,19.787790000000001,37.216099999999997,36.961649999999999,35.21200134,33.982987850000001,"Retten i Kolding"]
["Retten i Esbjerg",99.69839620647636,96.95557775592799,95.033279148090898,90.163545192286307,101.46300391781902,101.16397876117557,0.15443999942206954,0.14494733456317774,143,133,631.49720670391059,627.18604651162786,58.914858348402603,42.716420257942701,30.864197530864196,40,0,0,10.3,8.5,15,15.2,54.274439999999998,51.83652,14.928739999999999,14.62602,29.747440000000001,27.963049999999999,26.284834270000005,25.054726880000004,"Retten i Esbjerg"]
["Retten i Sønderborg",103.00552823008289,106.41519087807124,98.848840448010705,103.71440912516994,105.9415152824391,108.69607085950038,0.19682167837869652,0.20006396013010333,77,81,588.02469135802471,405.7076923076923,52.851012658227802,51.728220402084901,75.675675675675677,63.829787234042556,100," -",7,6.2,10.199999999999999,10.3,58.417840000000012,55.808839999999996,17.361450000000001,15.55415,33.505830000000003,32.173160000000003,32.071048159999997,30.873631420000002,"Retten i Sønderborg"]
["Retten i Odense",108.38009342104878,96.539528601712959,106.28076867841551,89.589081574063925,110.96264618601475,104.58508739319663,0.16102742168675935,0.16682051882971813,97,92,460.01657458563534,410.88,50.367485961520799,60.929864253393703,51.111111111111114,45.714285714285715,40,30.76923076923077,7.7,9.5,8.3000000000000007,7.9,77.862960000000001,77.07732,21.814710000000002,23.71285,45.229649999999999,43.9482,38.815145029999996,38.61886183,"Retten i Odense"]
["Retten i Svendborg",98.991127032726951,99.80214421738448,96.482885337788517,95.624007792185097,103.55513979791878,107.97914673181073,0.1662743920603989,0.17059225227927141,105,122,479.26582278481015,477.09375,47.263071895424801,56.188811188811201,56.60377358490566,51.282051282051285,40,0,14.2,7.4,17.7,14.5,36.960979999999999,36.620170000000002,10.30021,10.272360000000001,21.706810000000001,20.21508,19.70705955,18.511141049999996,"Retten i Svendborg"]
["Retten i Nykøbing F.",101.19587072617925,99.314438271489195,103.2506045480234,101.39972515655386,99.986456709203779,96.930952848527355,0.21363266574914044,0.18072603828065142,94,80,390.22222222222223,382.26923076923077,51.2287246722288,46.030743051616597,43.835616438356162,67.307692307692307,100,50,3.8,7.2,15.8,11.5,49.933169999999997,50.324919999999999,13.97805,13.82973,30.551410000000001,30.678650000000001,25.682368399999998,25.17850572,"Retten i Nykøbing F."]
["Retten i Næstved",106.4522250543061,102.31176160443238,101.24060328884724,95.962228512387739,111.68797551836069,108.23192366060456,0.21100189341884776,0.20554152452294186,132,137,524.7538461538461,502.76271186440675,59.442362405572403,69.699310740953507,38.095238095238095,31.818181818181817,50,22.222222222222221,9,8,19.7,12.6,63.457529999999991,60.649929999999998,18.701239999999999,17.552579999999999,35.809730000000002,34.252400000000002,31.630771259999996,29.79163161,"Retten i Næstved"]
["Retten i Holbæk",97.51986509595578,101.47896804132709,98.06545749536032,98.974491747666022,95.659878686318336,102.24961370927973,0.17911507628064949,0.17260091964008717,121,92,423.1904761904762,406.21052631578948,61.380246913580301,62.596754887617998,66.666666666666671,60,66.666666666666671,33.333333333333336,7.3,8.6999999999999993,14.1,18.7,49.024910000000006,45.540939999999999,12.880789999999999,12.526439999999999,27.508199999999999,25.089510000000001,23.08612638,22.465413179999995,"Retten i Holbæk"]
["Retten i Roskilde",101.06915304836986,101.64456695198099,93.845924740995954,99.360443341179177,107.66646700905603,101.71618245825506,0.18568611357341461,0.1794598482571215,152,133,631.73755656108597,468.04301075268819,62.142351632797499,56.667908709827699,38.46153846153846,26.666666666666668," -",0,8,4.5,19.899999999999999,11.9,73.928769999999986,71.545609999999996,22.483270000000001,20.718139999999998,41.59892,43.090069999999997,38.577476830000002,37.600961409999996,"Retten i Roskilde"]
["Retten i Hillerød",98.376243660174552,92.689483945014175,93.036200899177771,83.086291810800773,111.86425489204996,111.22248616288657,0.22593311669026739,0.19915297217133063,93,113,457.46902654867256,502.82608695652175,49.495291300877902,52.278486997635902,56.25,41.379310344827587,50,50,9.1999999999999993,11.2,20.100000000000001,12.9,51.951180000000001,51.271849999999993,14.9175,15.82924,25.889410000000002,24.896339999999999,26.595303389999998,25.430237960000003,"Retten i Hillerød"]
["Retten i Helsingør",96.607245227181977,95.734881144677104,85.911024500528782,81.202979976556421,105.96682027949463,112.40838287764349,0.15781397834208072,0.1449705114585646,106,112,446.77333333333331,559.92307692307691,55.701608100059602,68.939018580276297,53.846153846153847,40," -",0,13.1,10.5,17.899999999999999,8.1,47.843520000000012,48.754989999999999,14.475860000000001,15.653729999999999,25.182110000000002,23.82526,25.171368820000005,24.296633689999997,"Retten i Helsingør"]
["Retten i Lyngby",96.827533238287003,88.905909589096936,86.514776051210717,79.383928998529768,110.78514180538917,101.31255048845222,0.21672931956419467,0.20295693111358273,103,105,475.22580645161293,385.04672897196264,39.579698125725699,41.287644787644801,72.727272727272734,60,100,33.333333333333336,9.6999999999999993,8.8000000000000007,15.3,16.5,55.742389999999993,55.263520000000007,19.512419999999999,18.807490000000001,29.622699999999998,29.493970000000001,31.142095330000004,29.340786989999998,"Retten i Lyngby"]
["Retten i Glostrup",98.982022248870621,104.71823548127315,100.00889701769145,103.65934216382745,99.294842062009195,101.78343289321057,0.20053629551353441,0.18381778133347956,146,142,614.84104046242771,509.8187702265372,75.694890892460506,80.5997294555293,43.75,32.89473684210526,0,0,11.8,7.5,20.6,17.3,115.40872,106.84538999999999,32.607590000000002,30.849989999999998,66.425319999999999,63.614319999999999,56.258860800000008,54.12637492999999,"Retten i Glostrup"]
["Retten på Frederiksberg",101.2561076125421,103.12499094174193,97.635290133440108,96.629657529491411,107.74530514693383,112.17593804778866,0.20278230789892421,0.17697606705672486,180,162,551.30232558139539,542.7112299465241,86.159496230924802,76.665797130530706,8.695652173913043,26.470588235294116,0,40,12,10.9,18.3,15.6,79.925350000000009,80.897919999999999,23.835840000000001,25.786239999999999,44.713990000000003,43.135649999999998,40.40890417,40.726387029999998,"Retten på Frederiksberg"]
["Københavns Byret",96.144942757425326,94.636791244538472,97.094723333272839,93.862219619203231,91.319346957516075,91.193523438657479,0.20657951788147064,0.20607694641454505,96,104,512.79922779922776,529.87265917602997,78.123354740255607,73.157365910076606,70,38.028169014084504," -",16.666666666666668,8.1,10.3,9.6,8.6999999999999993,190.18872000000002,186.12345999999999,58.736510000000003,59.377769999999998,113.64497,108.74881000000001,102.99237447000002,101.94120438000002,"Københavns Byret"]
["Retten på Bornholm",63.436574451807438,62.381231737756444,64.705955599871203,61.184313819833122,66.643458603956262,67.972817946005677,0.33794212243136174,0.32623249866381115,46,35,291.35294117647061,332.11111111111109,27.5746436609152,27.502852485737598,94.736842105263165,78.94736842105263,100," -",7.2,8.6999999999999993,6.4,19.399999999999999,14.550129999999998,14.584429999999999,3.4878499999999999,3.77068,7.8050699999999997,7.5295899999999998,7.31,7.08154941,"Retten på Bornholm"]
[null,0,0,0,0,0,0,0,0,0,0,0,0,0,0,0,0,0,0,0,0,0,0,0,0,0,0,0,0,0,0]
[]
[]
[]
[null,"Samlet produktivitet, retten",null,"Samlet produktivitet, jurister",null,"Samlet produktivitet, kontor",null,"ÅRVK ledelse og adm.",null,"Sagstider domsmandssager",null,"Sagstider hfh. alm. Civil",null,"Sagstid alm. fogedsag",null,"Målopfyldelse vold",null,"Målopfyldelse voldtægt",null,"Sygefravær",null,"Personaleomsætning",null,"Årsværk retten",null,"Årsværk jurist",null,"Årsværk kontor",null,"Samlet lønsum"]
["Ret",2010,2011,2010,2011,2010,2011,2011,null,2011,null,2011,null,2011,null,2011,null,2011,null,2011,null,2011,null,2011,null,2011,null,2011,null,2011]
["Retten i Hjørring",null,null,null,null,null,null,0.18085003733140734,{"$f":"#REF!-H43","v":{"$error":"#REF!"}},93,{"$f":"J13-J43","v":3},588.73793103448281,{"$f":"L13-L43","v":43.036635439505631},59.02804965,{"$f":"N13-N43","v":-9.1653549577272031},72.727272727272734,{"$f":"P13-P43","v":-8.7272727272727337},75,{"$f":"R13-R43","v":0},9.1953403356178605,{"$f":"T13-T43","v":-3.4953403356178603},13.3,{"$f":"V13-V43","v":-0.60000000000000142},59.795259999999999,{"$f":"#REF!-X43","v":{"$error":"#REF!"}},13.34803,{"$f":"#REF!-Z43","v":{"$error":"#REF!"}},33.069760000000002,{"$f":"#REF!-AB43","v":{"$error":"#REF!"}},25.840777270000004,{"$f":"AD13-AD43","v":-0.61000303000000144}]
["Retten i Aalborg",null,null,null,null,null,null,0.14408858830322152,{"$f":"#REF!-H44","v":{"$error":"#REF!"}},89,{"$f":"J14-J44","v":17},549.73469387755097,{"$f":"L14-L44","v":43.741034277788799},81.29756381,{"$f":"N14-N44","v":-39.740461046614897},70,{"$f":"P14-P44","v":-36.101694915254235},0,{"$f":"R14-R44","v":60},7.44756948047314,{"$f":"T14-T44","v":-2.3475694804731404},11.1,{"$f":"V14-V44","v":0.90000000000000036},80.508980000000008,{"$f":"#REF!-X44","v":{"$error":"#REF!"}},22.18722,{"$f":"#REF!-Z44","v":{"$error":"#REF!"}},48.741999999999997,{"$f":"#REF!-AB44","v":{"$error":"#REF!"}},38.774368050000007,{"$f":"AD14-AD44","v":-2.4515264200000075}]
["Retten i Randers",null,null,null,null,null,null,0.22425733740790557,{"$f":"#REF!-H45","v":{"$error":"#REF!"}},160,-9,633.43636363636358,-10.649778270509955,76.655386739999997,-28.929777822977798,43.137254901960787,-3.1372549019607874,0,0,7.9232135291707904,-1.02321352917079,6.1,4.7000000000000011,58.170270000000002,{"$f":"#REF!-X45","v":{"$error":"#REF!"}},16.641999999999999,{"$f":"#REF!-Z45","v":{"$error":"#REF!"}},31.602,{"$f":"#REF!-AB45","v":{"$error":"#REF!"}},28.278306350000012,-1.5316567100000107]
["Retten i Århus",null,null,null,null,null,null,0.17407449163210489,{"$f":"#REF!-H46","v":{"$error":"#REF!"}},187,-47,585.88157894736844,-91.013157894736878,68.096496619999996,-11.140686472700494,44.444444444444443,-5.982905982905983,0,100,10.945487675808,-0.14548767580799904,11.4,0.19999999999999929,90.002049999999997,{"$f":"#REF!-X46","v":{"$error":"#REF!"}},26.568760000000001,{"$f":"#REF!-Z46","v":{"$error":"#REF!"}},50.615650000000002,{"$f":"#REF!-AB46","v":{"$error":"#REF!"}},43.969410089999997,-2.9482779399999899]
["Retten i Viborg",null,null,null,null,null,null,0.1869106163757373,{"$f":"#REF!-H47","v":{"$error":"#REF!"}},110,-2,598.09424083769636,-63.386923764525591,70.361606082204801,-23.005304043732203,67.647058823529406,9.4876660341554953E-2,100,-100,7.02167172435224,-2.3216717243522398,10.199999999999999,6,55.19659,{"$f":"#REF!-X47","v":{"$error":"#REF!"}},15.1701,{"$f":"#REF!-Z47","v":{"$error":"#REF!"}},30.18242,{"$f":"#REF!-AB47","v":{"$error":"#REF!"}},26.643607490000008,-0.76024690000000916]
["Retten i Holstebro",null,null,null,null,null,null,0.21568941622826301,{"$f":"#REF!-H48","v":{"$error":"#REF!"}},99,-13,517.10389610389609,-41.200670297444503,33.327338751513103,-0.78711383801830692,44.067796610169495,28.659476117103239,66.666666666666671,33.333333333333329,7.5125631324811604,-2.5125631324811604,11.9,4.2999999999999989,46.441029999999998,{"$f":"#REF!-X48","v":{"$error":"#REF!"}},11.27,{"$f":"#REF!-Z48","v":{"$error":"#REF!"}},23.056000000000001,{"$f":"#REF!-AB48","v":{"$error":"#REF!"}},21.766295810000006,-2.3629267600000041]
["Retten i Herning",null,null,null,null,null,null,0.2140891956808848,{"$f":"#REF!-H49","v":{"$error":"#REF!"}},93,1,504,-70.029126213592235,46.150434629999999,0.69112328190870187,60.416666666666664,-7.7850877192982466,0,16.666666666666668,12.53367166108,-3.93367166108,17.399999999999999,-2.0999999999999979,42.526149999999994,{"$f":"#REF!-X49","v":{"$error":"#REF!"}},11.84873,{"$f":"#REF!-Z49","v":{"$error":"#REF!"}},23.571059999999999,{"$f":"#REF!-AB49","v":{"$error":"#REF!"}},21.114710949999996,-1.0891132799999959]
["Retten i Horsens",null,null,null,null,null,null,0.19788944419298757,{"$f":"#REF!-H50","v":{"$error":"#REF!"}},75,21,454.2037037037037,-36.203703703703695,53.198510489999997,-3.4810807711244962,54.237288135593218,-7.1784646061814499,999,-999,9.6567882810903107,-4.3567882810903109,12.5,0.80000000000000071,53.410529999999994,{"$f":"#REF!-X50","v":{"$error":"#REF!"}},14.38903,{"$f":"#REF!-Z50","v":{"$error":"#REF!"}},26.419229999999999,{"$f":"#REF!-AB50","v":{"$error":"#REF!"}},25.089287970000008,-0.55702694000000719]
["Retten i Kolding",null,null,null,null,null,null,0.16497200636085832,{"$f":"#REF!-H51","v":{"$error":"#REF!"}},150,-45,651.41463414634143,-141.3681225184344,50.786508599999998,-4.472783109803899,65.517241379310349,-4.2927515833919827,999,-899,8.6756279258775102,3.0243720741224891,6.1,0.5,76.6875,{"$f":"#REF!-X51","v":{"$error":"#REF!"}},20.549520000000001,{"$f":"#REF!-Z51","v":{"$error":"#REF!"}},45.065539999999999,{"$f":"#REF!-AB51","v":{"$error":"#REF!"}},36.129984490000005,-0.91798315000000485]
["Retten i Esbjerg",null,null,null,null,null,null,0.1608840980483591,{"$f":"#REF!-H52","v":{"$error":"#REF!"}},134,9,627.53299492385781,3.9642117800527785,57.250413680000001,1.6644446684026022,31.914893617021278,-1.0506960861570818,20,-20,9.8309621959584703,0.46903780404153039,12.2,2.8000000000000007,56.231960000000001,{"$f":"#REF!-X52","v":{"$error":"#REF!"}},15.1442,{"$f":"#REF!-Z52","v":{"$error":"#REF!"}},32.031570000000002,{"$f":"#REF!-AB52","v":{"$error":"#REF!"}},27.403450379999995,-1.1186161099999907]
["Retten i Sønderborg",null,null,null,null,null,null,0.20936550073119292,{"$f":"#REF!-H53","v":{"$error":"#REF!"}},146,-69,670.30201342281885,-82.277322064794134,66.74565217,-13.894639511772198,51.25,24.425675675675677,0,100,5.0999999999999996,1.9000000000000004,12.9,-2.7000000000000011,62.585650000000001,{"$f":"#REF!-X53","v":{"$error":"#REF!"}},15.411,{"$f":"#REF!-Z53","v":{"$error":"#REF!"}},36.905000000000001,{"$f":"#REF!-AB53","v":{"$error":"#REF!"}},32.313787020000007,-0.24273886000000999]
["Retten i Odense",null,null,null,null,null,null,0.14636718747448524,{"$f":"#REF!-H54","v":{"$error":"#REF!"}},86,11,428.46948356807513,31.547091017560206,66.624573637535093,-16.257087676014294,60.465116279069768,-9.354005167958654,37.5,2.5,7.2224635248541,0.47753647514590014,20.8,-12.5,89.187569999999994,{"$f":"#REF!-X54","v":{"$error":"#REF!"}},24.26146,{"$f":"#REF!-Z54","v":{"$error":"#REF!"}},52.27552,{"$f":"#REF!-AB54","v":{"$error":"#REF!"}},42.195475450000004,-3.3803304200000071]
["Retten i Svendborg",null,null,null,null,null,null,0.23100235339354327,{"$f":"#REF!-H55","v":{"$error":"#REF!"}},100,5,457.04878048780489,22.217042297005264,39.748940677966097,7.5141312174587043,60.526315789473685,-3.9225422045680247,0,40,7.5348101348091001,6.6651898651908992,13.5,4.1999999999999993,46.629349999999995,{"$f":"#REF!-X55","v":{"$error":"#REF!"}},12.16381,{"$f":"#REF!-Z55","v":{"$error":"#REF!"}},26.863669999999999,{"$f":"#REF!-AB55","v":{"$error":"#REF!"}},21.33413431,-1.6270747599999993]
["Retten i Nykøbing F.",null,null,null,null,null,null,0.21068008859808401,{"$f":"#REF!-H56","v":{"$error":"#REF!"}},89,5,511.10769230769233,-120.8854700854701,58.324418228829998,-7.0956935566011978,75,-31.164383561643838,33.333333333333336,66.666666666666657,3.1,0.69999999999999973,5.9,9.9,57.718720000000005,{"$f":"#REF!-X56","v":{"$error":"#REF!"}},15.11914,{"$f":"#REF!-Z56","v":{"$error":"#REF!"}},36.063290000000002,{"$f":"#REF!-AB56","v":{"$error":"#REF!"}},27.759525610000008,-2.07715721000001]
["Retten i Næstved",null,null,null,null,null,null,0.20096341188470218,{"$f":"#REF!-H57","v":{"$error":"#REF!"}},175,-43,667.15789473684208,-142.40404858299598,90.319523628531599,-30.877161222959195,19.607843137254903,18.487394957983192,42.857142857142854,7.1428571428571459,9.1436928928022301,-0.14369289280223008,8.6999999999999993,11,71.955590000000015,{"$f":"#REF!-X57","v":{"$error":"#REF!"}},19.957370000000001,{"$f":"#REF!-Z57","v":{"$error":"#REF!"}},40.232700000000001,{"$f":"#REF!-AB57","v":{"$error":"#REF!"}},33.443953860000001,-1.8131826000000046]
["Retten i Holbæk",null,null,null,null,null,null,0.20133056585759762,{"$f":"#REF!-H58","v":{"$error":"#REF!"}},129,-8,492.72881355932202,-69.538337368845816,79.917079560000005,-18.536832646419704,45.901639344262293,20.765027322404379,0,66.666666666666671,10.0927265983316,-2.7927265983316003,3.7,10.399999999999999,52.848050000000001,{"$f":"#REF!-X58","v":{"$error":"#REF!"}},12.96697,{"$f":"#REF!-Z58","v":{"$error":"#REF!"}},31.228120000000001,{"$f":"#REF!-AB58","v":{"$error":"#REF!"}},24.060546750000007,-0.97442037000000781]
["Retten i Roskilde",null,null,null,null,null,null,0.19851387538934753,{"$f":"#REF!-H59","v":{"$error":"#REF!"}},161,-9,580.06818181818187,51.669374742904097,78.768053320000007,-16.625701687202508,57.692307692307693,-19.230769230769234,0,{"$error":"#VALUE!"},8.0416320249713191,-4.1632024971319126E-2,8.1,11.799999999999999,81.932910000000007,{"$f":"#REF!-X59","v":{"$error":"#REF!"}},20.991,{"$f":"#REF!-Z59","v":{"$error":"#REF!"}},50.15184,{"$f":"#REF!-AB59","v":{"$error":"#REF!"}},40.352028569999995,-1.7745517399999926]
["Retten i Hillerød",null,null,null,null,null,null,0.19666812509434062,{"$f":"#REF!-H60","v":{"$error":"#REF!"}},94,{"$f":"J30-J60","v":-1},535.22972972972968,-77.760703181057124,69.776989970000002,-20.2816986691221,67.567567567567565,-11.317567567567565,0,50,10.536462969800301,-1.3364629698003014,15.7,4.4000000000000021,59.938470000000002,{"$f":"#REF!-X60","v":{"$error":"#REF!"}},15.514290000000001,{"$f":"#REF!-Z60","v":{"$error":"#REF!"}},31.810790000000001,{"$f":"#REF!-AB60","v":{"$error":"#REF!"}},28.148588200000006,-1.5532848100000081]
["Retten i Helsingør",null,null,null,null,null,null,0.17470765417486964,{"$f":"#REF!-H61","v":{"$error":"#REF!"}},91,15,625.16167664670661,-178.3883433133733,80.562269979999996,-24.860661879940395,65.714285714285708,-11.868131868131861,33.333333333333336,{"$error":"#VALUE!"},8.1002392014502096,4.9997607985497901,11,6.8999999999999986,59.494719999999994,{"$f":"#REF!-X61","v":{"$error":"#REF!"}},16.67005,{"$f":"#REF!-Z61","v":{"$error":"#REF!"}},30.650849999999998,{"$f":"#REF!-AB61","v":{"$error":"#REF!"}},27.242114100000006,-2.0707452800000006]
["Retten i Lyngby",null,null,null,null,null,null,0.21536974602335532,{"$f":"#REF!-H62","v":{"$error":"#REF!"}},97,6,681.43404255319149,-206.20823610157856,48.644058450000003,-9.064360324274304,92,-19.272727272727266,0,100,13.9631924383362,-4.2631924383362012,11.4,3.9000000000000004,64.728809999999996,{"$f":"#REF!-X62","v":{"$error":"#REF!"}},18.969529999999999,{"$f":"#REF!-Z62","v":{"$error":"#REF!"}},37.246009999999998,{"$f":"#REF!-AB62","v":{"$error":"#REF!"}},32.28066977000001,-1.1385744400000064]
["Retten i Glostrup",null,null,null,null,null,null,0.19690596452134829,{"$f":"#REF!-H63","v":{"$error":"#REF!"}},204,-58,771.7123745819398,-156.87133411951208,86.844544310000003,-11.149653417539497,31.868131868131869,11.881868131868131,0,0,10.933790425114699,0.86620957488530159,11.7,8.9000000000000021,130.88573,{"$f":"#REF!-X63","v":{"$error":"#REF!"}},35.62068,{"$f":"#REF!-Z63","v":{"$error":"#REF!"}},77.101990000000001,{"$f":"#REF!-AB63","v":{"$error":"#REF!"}},61.810729719999998,-5.5518689199999898]
["Retten på Frederiksberg",null,null,null,null,null,null,0.17476206203355554,{"$f":"#REF!-H64","v":{"$error":"#REF!"}},165,15,581.03278688524586,-29.730461303850461,111.6069617,-25.447465469075198,13.793103448275861,-5.0974512743628182,0,0,13.6,-1.5999999999999996,6.9,11.4,85.622100000000017,{"$f":"#REF!-X64","v":{"$error":"#REF!"}},23.5809,{"$f":"#REF!-Z64","v":{"$error":"#REF!"}},50.499000000000002,{"$f":"#REF!-AB64","v":{"$error":"#REF!"}},41.591692010000003,-1.1827878400000031]
["Københavns Byret",null,null,null,null,null,null,0.21932518179960686,{"$f":"#REF!-H65","v":{"$error":"#REF!"}},149,-53,545,-32.200772200772235,119.5509634,-41.427608659744394,31.506849315068493,38.493150684931507,12.5,{"$error":"#VALUE!"},9.6843191501933408,-1.5843191501933411,7,2.5999999999999996,193.76866999999999,{"$f":"#REF!-X65","v":{"$error":"#REF!"}},57.941890000000001,{"$f":"#REF!-Z65","v":{"$error":"#REF!"}},116.42149999999999,{"$f":"#REF!-AB65","v":{"$error":"#REF!"}},102.58407253999995,0.40830193000006432]
["Retten på Bornholm",null,null,null,null,null,null,0.34371508236171583,{"$f":"#REF!-H66","v":{"$error":"#REF!"}},37,9,359.81818181818181,-68.465240641711205,39.089440276976298,-11.514796616061098,100,-5.2631578947368354,999,-899,6.8879921431961,0.3120078568039002,6.4,0,15.327180000000002,{"$f":"#REF!-X66","v":{"$error":"#REF!"}},3.6858300000000002,{"$f":"#REF!-Z66","v":{"$error":"#REF!"}},8.3656400000000009,{"$f":"#REF!-AB66","v":{"$error":"#REF!"}},7.34,-3.0000000000000249E-2]
[null,0,0,0,0,0,0,0,0,0,0,0,0,0,0,0,0,0,0,0,0,0,0,0,0,0,0,0,0,0,0]